BEGIN:VCALENDAR
VERSION:2.0
PRODID:-//Pinetop Lakes Golf and Country Club - ECPv6.15.18//NONSGML v1.0//EN
CALSCALE:GREGORIAN
METHOD:PUBLISH
X-WR-CALNAME:Pinetop Lakes Golf and Country Club
X-ORIGINAL-URL:https://www.pinetoplakesgolf.com
X-WR-CALDESC:Events for Pinetop Lakes Golf and Country Club
REFRESH-INTERVAL;VALUE=DURATION:PT1H
X-Robots-Tag:noindex
X-PUBLISHED-TTL:PT1H
BEGIN:VTIMEZONE
TZID:UTC
BEGIN:STANDARD
TZOFFSETFROM:+0000
TZOFFSETTO:+0000
TZNAME:UTC
DTSTART:20230101T000000
END:STANDARD
END:VTIMEZONE
BEGIN:VEVENT
DTSTART;TZID=UTC:20240905T083000
DTEND;TZID=UTC:20240905T083000
DTSTAMP:20260421T162354
CREATED:20240419T001734Z
LAST-MODIFIED:20240427T000946Z
UID:10000187-1725525000-1725525000@www.pinetoplakesgolf.com
SUMMARY:Men's 18-Hole
DESCRIPTION:
URL:https://www.pinetoplakesgolf.com/event/mens-18-hole-18/
END:VEVENT
BEGIN:VEVENT
DTSTART;TZID=UTC:20240905T080000
DTEND;TZID=UTC:20240905T090000
DTSTAMP:20260421T162354
CREATED:20240509T025946Z
LAST-MODIFIED:20241002T213125Z
UID:10000538-1725523200-1725526800@www.pinetoplakesgolf.com
SUMMARY:Member Yoga
DESCRIPTION:
URL:https://www.pinetoplakesgolf.com/event/member-yoga-2/2024-09-05/
END:VEVENT
BEGIN:VEVENT
DTSTART;TZID=UTC:20240904T090000
DTEND;TZID=UTC:20240904T090000
DTSTAMP:20260421T162354
CREATED:20240419T001707Z
LAST-MODIFIED:20240427T000906Z
UID:10000186-1725440400-1725440400@www.pinetoplakesgolf.com
SUMMARY:Women's 18-Hole League
DESCRIPTION:
URL:https://www.pinetoplakesgolf.com/event/womens-18-hole-league-15/
END:VEVENT
BEGIN:VEVENT
DTSTART;TZID=UTC:20240903T140000
DTEND;TZID=UTC:20240903T140000
DTSTAMP:20260421T162354
CREATED:20240419T001638Z
LAST-MODIFIED:20240427T000832Z
UID:10000185-1725372000-1725372000@www.pinetoplakesgolf.com
SUMMARY:Swing and Swig
DESCRIPTION:
URL:https://www.pinetoplakesgolf.com/event/swing-and-swig-17/
END:VEVENT
BEGIN:VEVENT
DTSTART;TZID=UTC:20240903T130000
DTEND;TZID=UTC:20240903T160000
DTSTAMP:20260421T162354
CREATED:20240617T234323Z
LAST-MODIFIED:20241002T213440Z
UID:10000622-1725368400-1725379200@www.pinetoplakesgolf.com
SUMMARY:Bridge in Barclay's @ Pinetop Lakes
DESCRIPTION:
URL:https://www.pinetoplakesgolf.com/event/bridge-in-barclays-pinetop-lakes/2024-09-03/
END:VEVENT
BEGIN:VEVENT
DTSTART;TZID=UTC:20240903T090000
DTEND;TZID=UTC:20240903T090000
DTSTAMP:20260421T162354
CREATED:20240419T001612Z
LAST-MODIFIED:20240427T000745Z
UID:10000184-1725354000-1725354000@www.pinetoplakesgolf.com
SUMMARY:Women's 9 Hole
DESCRIPTION:
URL:https://www.pinetoplakesgolf.com/event/womens-9-hole/
END:VEVENT
BEGIN:VEVENT
DTSTART;TZID=UTC:20240903T083000
DTEND;TZID=UTC:20240903T083000
DTSTAMP:20260421T162354
CREATED:20240419T001548Z
LAST-MODIFIED:20240427T000806Z
UID:10000183-1725352200-1725352200@www.pinetoplakesgolf.com
SUMMARY:Men's 9-Hole
DESCRIPTION:
URL:https://www.pinetoplakesgolf.com/event/mens-9-hole-19/
END:VEVENT
BEGIN:VEVENT
DTSTART;TZID=UTC:20240903T080000
DTEND;TZID=UTC:20240903T090000
DTSTAMP:20260421T162354
CREATED:20240524T002807Z
LAST-MODIFIED:20241002T213731Z
UID:10000466-1725350400-1725354000@www.pinetoplakesgolf.com
SUMMARY:Member Yoga
DESCRIPTION:
URL:https://www.pinetoplakesgolf.com/event/member-yoga-4/2024-09-03/
END:VEVENT
BEGIN:VEVENT
DTSTART;TZID=UTC:20240902T140000
DTEND;TZID=UTC:20240902T140000
DTSTAMP:20260421T162354
CREATED:20240507T234801Z
LAST-MODIFIED:20241002T212951Z
UID:10000254-1725285600-1725285600@www.pinetoplakesgolf.com
SUMMARY:150 League
DESCRIPTION:
URL:https://www.pinetoplakesgolf.com/event/150-league/2024-09-02/
END:VEVENT
BEGIN:VEVENT
DTSTART;TZID=UTC:20240902T090000
DTEND;TZID=UTC:20240902T090000
DTSTAMP:20260421T162354
CREATED:20240419T001512Z
LAST-MODIFIED:20240427T000628Z
UID:10000182-1725267600-1725267600@www.pinetoplakesgolf.com
SUMMARY:Old Strokes
DESCRIPTION:
URL:https://www.pinetoplakesgolf.com/event/old-strokes-36/
END:VEVENT
BEGIN:VEVENT
DTSTART;TZID=UTC:20240831T160000
DTEND;TZID=UTC:20240831T190000
DTSTAMP:20260421T162354
CREATED:20240419T001420Z
LAST-MODIFIED:20240824T042347Z
UID:10000181-1725120000-1725130800@www.pinetoplakesgolf.com
SUMMARY:Music in the Pines (KT Klassics)
DESCRIPTION:
URL:https://www.pinetoplakesgolf.com/event/music-in-the-pines-armour-3/
END:VEVENT
BEGIN:VEVENT
DTSTART;TZID=UTC:20240831T153000
DTEND;TZID=UTC:20240831T163000
DTSTAMP:20260421T162354
CREATED:20240720T052831Z
LAST-MODIFIED:20240720T052831Z
UID:10000691-1725118200-1725121800@www.pinetoplakesgolf.com
SUMMARY:MITP Line Dancing
DESCRIPTION:Free line dancing before Music In The Pines
URL:https://www.pinetoplakesgolf.com/event/mitp-line-dancing/2024-08-31/
END:VEVENT
BEGIN:VEVENT
DTSTART;TZID=UTC:20240830T094500
DTEND;TZID=UTC:20240830T094500
DTSTAMP:20260421T162354
CREATED:20240419T001248Z
LAST-MODIFIED:20240427T000412Z
UID:10000180-1725011100-1725011100@www.pinetoplakesgolf.com
SUMMARY:One Putters
DESCRIPTION:
URL:https://www.pinetoplakesgolf.com/event/one-putters-19/
END:VEVENT
BEGIN:VEVENT
DTSTART;TZID=UTC:20240830T090000
DTEND;TZID=UTC:20240830T090000
DTSTAMP:20260421T162354
CREATED:20240419T001216Z
LAST-MODIFIED:20240427T000338Z
UID:10000179-1725008400-1725008400@www.pinetoplakesgolf.com
SUMMARY:Old Strokes
DESCRIPTION:
URL:https://www.pinetoplakesgolf.com/event/old-strokes-35/
END:VEVENT
BEGIN:VEVENT
DTSTART;TZID=UTC:20240830T080000
DTEND;TZID=UTC:20240830T170000
DTSTAMP:20260421T162354
CREATED:20240831T050611Z
LAST-MODIFIED:20240831T050611Z
UID:10000692-1725004800-1725037200@www.pinetoplakesgolf.com
SUMMARY:NO Bingo
DESCRIPTION:Labor Day
URL:https://www.pinetoplakesgolf.com/event/no-bingo/
END:VEVENT
BEGIN:VEVENT
DTSTART;TZID=UTC:20240829T123000
DTEND;TZID=UTC:20240829T123000
DTSTAMP:20260421T162354
CREATED:20240419T001152Z
LAST-MODIFIED:20240427T000310Z
UID:10000178-1724934600-1724934600@www.pinetoplakesgolf.com
SUMMARY:Men's Club Meeting
DESCRIPTION:
URL:https://www.pinetoplakesgolf.com/event/mens-club-meeting-3/
END:VEVENT
BEGIN:VEVENT
DTSTART;TZID=UTC:20240829T080000
DTEND;TZID=UTC:20240829T090000
DTSTAMP:20260421T162354
CREATED:20240509T025946Z
LAST-MODIFIED:20241002T213125Z
UID:10000537-1724918400-1724922000@www.pinetoplakesgolf.com
SUMMARY:Member Yoga
DESCRIPTION:
URL:https://www.pinetoplakesgolf.com/event/member-yoga-2/2024-08-29/
END:VEVENT
BEGIN:VEVENT
DTSTART;TZID=UTC:20240829T080000
DTEND;TZID=UTC:20240829T080000
DTSTAMP:20260421T162354
CREATED:20240419T000912Z
LAST-MODIFIED:20240427T000243Z
UID:10000177-1724918400-1724918400@www.pinetoplakesgolf.com
SUMMARY:Men's 18-Hole
DESCRIPTION:
URL:https://www.pinetoplakesgolf.com/event/mens-18-hole-17/
END:VEVENT
BEGIN:VEVENT
DTSTART;TZID=UTC:20240828T083000
DTEND;TZID=UTC:20240828T083000
DTSTAMP:20260421T162354
CREATED:20240419T000848Z
LAST-MODIFIED:20240427T000210Z
UID:10000176-1724833800-1724833800@www.pinetoplakesgolf.com
SUMMARY:Denim and Diamonds
DESCRIPTION:
URL:https://www.pinetoplakesgolf.com/event/denim-and-diamonds/
END:VEVENT
BEGIN:VEVENT
DTSTART;TZID=UTC:20240827T140000
DTEND;TZID=UTC:20240827T140000
DTSTAMP:20260421T162354
CREATED:20240419T000816Z
LAST-MODIFIED:20240427T000138Z
UID:10000175-1724767200-1724767200@www.pinetoplakesgolf.com
SUMMARY:Swing and Swig
DESCRIPTION:
URL:https://www.pinetoplakesgolf.com/event/swing-and-swig-16/
END:VEVENT
BEGIN:VEVENT
DTSTART;TZID=UTC:20240827T130000
DTEND;TZID=UTC:20240827T160000
DTSTAMP:20260421T162354
CREATED:20240617T234323Z
LAST-MODIFIED:20241002T213440Z
UID:10000621-1724763600-1724774400@www.pinetoplakesgolf.com
SUMMARY:Bridge in Barclay's @ Pinetop Lakes
DESCRIPTION:
URL:https://www.pinetoplakesgolf.com/event/bridge-in-barclays-pinetop-lakes/2024-08-27/
END:VEVENT
BEGIN:VEVENT
DTSTART;TZID=UTC:20240827T090000
DTEND;TZID=UTC:20240827T090000
DTSTAMP:20260421T162354
CREATED:20240419T000732Z
LAST-MODIFIED:20240717T010948Z
UID:10000174-1724749200-1724749200@www.pinetoplakesgolf.com
SUMMARY:Women's 9-Hole League
DESCRIPTION:
URL:https://www.pinetoplakesgolf.com/event/womens-9-hole-league-15/
END:VEVENT
BEGIN:VEVENT
DTSTART;TZID=UTC:20240827T080000
DTEND;TZID=UTC:20240827T090000
DTSTAMP:20260421T162354
CREATED:20240524T002807Z
LAST-MODIFIED:20241002T213731Z
UID:10000465-1724745600-1724749200@www.pinetoplakesgolf.com
SUMMARY:Member Yoga
DESCRIPTION:
URL:https://www.pinetoplakesgolf.com/event/member-yoga-4/2024-08-27/
END:VEVENT
BEGIN:VEVENT
DTSTART;TZID=UTC:20240827T080000
DTEND;TZID=UTC:20240827T080000
DTSTAMP:20260421T162354
CREATED:20240419T000703Z
LAST-MODIFIED:20240427T000045Z
UID:10000173-1724745600-1724745600@www.pinetoplakesgolf.com
SUMMARY:Men's 9-Hole
DESCRIPTION:
URL:https://www.pinetoplakesgolf.com/event/mens-9-hole-18/
END:VEVENT
BEGIN:VEVENT
DTSTART;TZID=UTC:20240826T183000
DTEND;TZID=UTC:20240826T183000
DTSTAMP:20260421T162354
CREATED:20240524T000403Z
LAST-MODIFIED:20240831T050508Z
UID:10000325-1724697000-1724697000@www.pinetoplakesgolf.com
SUMMARY:Bingo
DESCRIPTION:
URL:https://www.pinetoplakesgolf.com/event/bingo-4/2024-08-26/
END:VEVENT
BEGIN:VEVENT
DTSTART;TZID=UTC:20240826T140000
DTEND;TZID=UTC:20240826T140000
DTSTAMP:20260421T162354
CREATED:20240507T234801Z
LAST-MODIFIED:20241002T212951Z
UID:10000253-1724680800-1724680800@www.pinetoplakesgolf.com
SUMMARY:150 League
DESCRIPTION:
URL:https://www.pinetoplakesgolf.com/event/150-league/2024-08-26/
END:VEVENT
BEGIN:VEVENT
DTSTART;TZID=UTC:20240826T090000
DTEND;TZID=UTC:20240826T090000
DTSTAMP:20260421T162354
CREATED:20240419T000636Z
LAST-MODIFIED:20240427T000018Z
UID:10000172-1724662800-1724662800@www.pinetoplakesgolf.com
SUMMARY:Old Strokes
DESCRIPTION:
URL:https://www.pinetoplakesgolf.com/event/old-strokes-34/
END:VEVENT
BEGIN:VEVENT
DTSTART;TZID=UTC:20240824T110000
DTEND;TZID=UTC:20240824T140000
DTSTAMP:20260421T162354
CREATED:20240617T232700Z
LAST-MODIFIED:20240808T221141Z
UID:10000607-1724497200-1724508000@www.pinetoplakesgolf.com
SUMMARY:Member Game Day - Cornhole Tournament
DESCRIPTION:
URL:https://www.pinetoplakesgolf.com/event/member-game-night-cornhole-tournament/
END:VEVENT
BEGIN:VEVENT
DTSTART;TZID=UTC:20240823T094500
DTEND;TZID=UTC:20240823T094500
DTSTAMP:20260421T162354
CREATED:20240419T000613Z
LAST-MODIFIED:20240426T235951Z
UID:10000171-1724406300-1724406300@www.pinetoplakesgolf.com
SUMMARY:One Putters
DESCRIPTION:
URL:https://www.pinetoplakesgolf.com/event/one-putters-18/
END:VEVENT
BEGIN:VEVENT
DTSTART;TZID=UTC:20240823T090000
DTEND;TZID=UTC:20240823T090000
DTSTAMP:20260421T162354
CREATED:20240419T000540Z
LAST-MODIFIED:20240426T235920Z
UID:10000170-1724403600-1724403600@www.pinetoplakesgolf.com
SUMMARY:Old Strokes
DESCRIPTION:
URL:https://www.pinetoplakesgolf.com/event/old-strokes-33/
END:VEVENT
END:VCALENDAR