BEGIN:VCALENDAR
VERSION:2.0
PRODID:-//Pinetop Lakes Golf and Country Club - ECPv6.15.18//NONSGML v1.0//EN
CALSCALE:GREGORIAN
METHOD:PUBLISH
X-WR-CALNAME:Pinetop Lakes Golf and Country Club
X-ORIGINAL-URL:https://www.pinetoplakesgolf.com
X-WR-CALDESC:Events for Pinetop Lakes Golf and Country Club
REFRESH-INTERVAL;VALUE=DURATION:PT1H
X-Robots-Tag:noindex
X-PUBLISHED-TTL:PT1H
BEGIN:VTIMEZONE
TZID:UTC
BEGIN:STANDARD
TZOFFSETFROM:+0000
TZOFFSETTO:+0000
TZNAME:UTC
DTSTART:20230101T000000
END:STANDARD
END:VTIMEZONE
BEGIN:VEVENT
DTSTART;TZID=UTC:20240624T083000
DTEND;TZID=UTC:20240624T083000
DTSTAMP:20260423T162738
CREATED:20240418T212914Z
LAST-MODIFIED:20240426T214959Z
UID:10000076-1719217800-1719217800@www.pinetoplakesgolf.com
SUMMARY:Team Play at Torreon
DESCRIPTION:
URL:https://www.pinetoplakesgolf.com/event/team-play-at-tprrepm/
END:VEVENT
BEGIN:VEVENT
DTSTART;TZID=UTC:20240624T090000
DTEND;TZID=UTC:20240624T090000
DTSTAMP:20260423T162738
CREATED:20240418T212940Z
LAST-MODIFIED:20240426T215028Z
UID:10000077-1719219600-1719219600@www.pinetoplakesgolf.com
SUMMARY:Old Strokes
DESCRIPTION:
URL:https://www.pinetoplakesgolf.com/event/old-strokes-19/
END:VEVENT
BEGIN:VEVENT
DTSTART;TZID=UTC:20240624T140000
DTEND;TZID=UTC:20240624T140000
DTSTAMP:20260423T162738
CREATED:20240507T234801Z
LAST-MODIFIED:20241002T212951Z
UID:10000244-1719237600-1719237600@www.pinetoplakesgolf.com
SUMMARY:150 League
DESCRIPTION:
URL:https://www.pinetoplakesgolf.com/event/150-league/2024-06-24/
END:VEVENT
BEGIN:VEVENT
DTSTART;TZID=UTC:20240624T183000
DTEND;TZID=UTC:20240624T183000
DTSTAMP:20260423T162738
CREATED:20240524T000403Z
LAST-MODIFIED:20240831T050508Z
UID:10000316-1719253800-1719253800@www.pinetoplakesgolf.com
SUMMARY:Bingo
DESCRIPTION:
URL:https://www.pinetoplakesgolf.com/event/bingo-4/2024-06-24/
END:VEVENT
BEGIN:VEVENT
DTSTART;VALUE=DATE:20240625
DTEND;VALUE=DATE:20240627
DTSTAMP:20260423T162738
CREATED:20240418T213348Z
LAST-MODIFIED:20240418T213348Z
UID:10000078-1719273600-1719446399@www.pinetoplakesgolf.com
SUMMARY:Ricki Rarick Junior Golf
DESCRIPTION:
URL:https://www.pinetoplakesgolf.com/event/ricki-rarick-junior-golf/
ATTACH;FMTTYPE=image/jpeg:https://www.pinetoplakesgolf.com/wp-content/uploads/sites/8955/2024/04/img_golf_1x_5b652e.jpg
END:VEVENT
BEGIN:VEVENT
DTSTART;TZID=UTC:20240625T080000
DTEND;TZID=UTC:20240625T080000
DTSTAMP:20260423T162738
CREATED:20240418T213541Z
LAST-MODIFIED:20240426T215143Z
UID:10000079-1719302400-1719302400@www.pinetoplakesgolf.com
SUMMARY:Men's 9-Hole
DESCRIPTION:
URL:https://www.pinetoplakesgolf.com/event/mens-9-hole-9/
END:VEVENT
BEGIN:VEVENT
DTSTART;TZID=UTC:20240625T080000
DTEND;TZID=UTC:20240625T090000
DTSTAMP:20260423T162738
CREATED:20240524T002807Z
LAST-MODIFIED:20241002T213731Z
UID:10000456-1719302400-1719306000@www.pinetoplakesgolf.com
SUMMARY:Member Yoga
DESCRIPTION:
URL:https://www.pinetoplakesgolf.com/event/member-yoga-4/2024-06-25/
END:VEVENT
BEGIN:VEVENT
DTSTART;TZID=UTC:20240625T083000
DTEND;TZID=UTC:20240625T083000
DTSTAMP:20260423T162738
CREATED:20240418T213627Z
LAST-MODIFIED:20240426T215210Z
UID:10000080-1719304200-1719304200@www.pinetoplakesgolf.com
SUMMARY:Women's 9-Hole League
DESCRIPTION:
URL:https://www.pinetoplakesgolf.com/event/womens-9-hole-league-6/
END:VEVENT
BEGIN:VEVENT
DTSTART;TZID=UTC:20240625T130000
DTEND;TZID=UTC:20240625T160000
DTSTAMP:20260423T162738
CREATED:20240617T234323Z
LAST-MODIFIED:20241002T213440Z
UID:10000612-1719320400-1719331200@www.pinetoplakesgolf.com
SUMMARY:Bridge in Barclay's @ Pinetop Lakes
DESCRIPTION:
URL:https://www.pinetoplakesgolf.com/event/bridge-in-barclays-pinetop-lakes/2024-06-25/
END:VEVENT
BEGIN:VEVENT
DTSTART;TZID=UTC:20240625T140000
DTEND;TZID=UTC:20240625T140000
DTSTAMP:20260423T162738
CREATED:20240418T213919Z
LAST-MODIFIED:20240426T215250Z
UID:10000081-1719324000-1719324000@www.pinetoplakesgolf.com
SUMMARY:Swing and Swig
DESCRIPTION:
URL:https://www.pinetoplakesgolf.com/event/swing-and-swig-7/
END:VEVENT
BEGIN:VEVENT
DTSTART;TZID=UTC:20240626T083000
DTEND;TZID=UTC:20240626T083000
DTSTAMP:20260423T162738
CREATED:20240418T214051Z
LAST-MODIFIED:20240426T215317Z
UID:10000082-1719390600-1719390600@www.pinetoplakesgolf.com
SUMMARY:Women's 18-Hole League
DESCRIPTION:
URL:https://www.pinetoplakesgolf.com/event/womens-18-hole-league-6/
END:VEVENT
BEGIN:VEVENT
DTSTART;TZID=UTC:20240626T130000
DTEND;TZID=UTC:20240626T130000
DTSTAMP:20260423T162738
CREATED:20240418T214139Z
LAST-MODIFIED:20240426T215353Z
UID:10000083-1719406800-1719406800@www.pinetoplakesgolf.com
SUMMARY:Women's Golf Association Meeting
DESCRIPTION:
URL:https://www.pinetoplakesgolf.com/event/womens-golf-association-meeting-2/
ATTACH;FMTTYPE=image/jpeg:https://www.pinetoplakesgolf.com/wp-content/uploads/sites/8955/2024/04/img_golf_1x_5b652e.jpg
END:VEVENT
BEGIN:VEVENT
DTSTART;TZID=UTC:20240626T190000
DTEND;TZID=UTC:20240626T210000
DTSTAMP:20260423T162738
CREATED:20240509T025644Z
LAST-MODIFIED:20240617T232256Z
UID:10000450-1719428400-1719435600@www.pinetoplakesgolf.com
SUMMARY:Member Game Night: Majority Rules
DESCRIPTION:
URL:https://www.pinetoplakesgolf.com/event/member-game-night-majority-rules/
END:VEVENT
BEGIN:VEVENT
DTSTART;TZID=UTC:20240627T080000
DTEND;TZID=UTC:20240627T080000
DTSTAMP:20260423T162738
CREATED:20240418T214807Z
LAST-MODIFIED:20240426T215420Z
UID:10000084-1719475200-1719475200@www.pinetoplakesgolf.com
SUMMARY:Men's 18-Hole
DESCRIPTION:
URL:https://www.pinetoplakesgolf.com/event/mens-18-hole-10/
END:VEVENT
BEGIN:VEVENT
DTSTART;TZID=UTC:20240627T080000
DTEND;TZID=UTC:20240627T090000
DTSTAMP:20260423T162738
CREATED:20240509T025946Z
LAST-MODIFIED:20241002T213125Z
UID:10000528-1719475200-1719478800@www.pinetoplakesgolf.com
SUMMARY:Member Yoga
DESCRIPTION:
URL:https://www.pinetoplakesgolf.com/event/member-yoga-2/2024-06-27/
END:VEVENT
BEGIN:VEVENT
DTSTART;TZID=UTC:20240627T123000
DTEND;TZID=UTC:20240627T123000
DTSTAMP:20260423T162738
CREATED:20240418T214834Z
LAST-MODIFIED:20240426T215452Z
UID:10000085-1719491400-1719491400@www.pinetoplakesgolf.com
SUMMARY:Men's Club Meeting
DESCRIPTION:
URL:https://www.pinetoplakesgolf.com/event/mens-club-meeting/
END:VEVENT
BEGIN:VEVENT
DTSTART;TZID=UTC:20240627T140000
DTEND;TZID=UTC:20240627T140000
DTSTAMP:20260423T162738
CREATED:20240621T040533Z
LAST-MODIFIED:20240626T232652Z
UID:10000386-1719496800-1719496800@www.pinetoplakesgolf.com
SUMMARY:Bingo
DESCRIPTION:
URL:https://www.pinetoplakesgolf.com/event/bingo-2-2/2024-06-27/
END:VEVENT
BEGIN:VEVENT
DTSTART;TZID=UTC:20240628T090000
DTEND;TZID=UTC:20240628T090000
DTSTAMP:20260423T162738
CREATED:20240418T214900Z
LAST-MODIFIED:20240426T215516Z
UID:10000086-1719565200-1719565200@www.pinetoplakesgolf.com
SUMMARY:Old Strokes
DESCRIPTION:
URL:https://www.pinetoplakesgolf.com/event/old-strokes-20/
END:VEVENT
BEGIN:VEVENT
DTSTART;TZID=UTC:20240628T094500
DTEND;TZID=UTC:20240628T094500
DTSTAMP:20260423T162738
CREATED:20240418T214924Z
LAST-MODIFIED:20240426T215550Z
UID:10000087-1719567900-1719567900@www.pinetoplakesgolf.com
SUMMARY:One Putters
DESCRIPTION:
URL:https://www.pinetoplakesgolf.com/event/one-putters-10/
END:VEVENT
BEGIN:VEVENT
DTSTART;TZID=UTC:20240701T090000
DTEND;TZID=UTC:20240701T090000
DTSTAMP:20260423T162738
CREATED:20240418T214947Z
LAST-MODIFIED:20240426T215625Z
UID:10000088-1719824400-1719824400@www.pinetoplakesgolf.com
SUMMARY:Old Strokes
DESCRIPTION:
URL:https://www.pinetoplakesgolf.com/event/old-strokes-21/
END:VEVENT
BEGIN:VEVENT
DTSTART;TZID=UTC:20240701T140000
DTEND;TZID=UTC:20240701T140000
DTSTAMP:20260423T162738
CREATED:20240507T234801Z
LAST-MODIFIED:20241002T212951Z
UID:10000245-1719842400-1719842400@www.pinetoplakesgolf.com
SUMMARY:150 League
DESCRIPTION:
URL:https://www.pinetoplakesgolf.com/event/150-league/2024-07-01/
END:VEVENT
BEGIN:VEVENT
DTSTART;TZID=UTC:20240701T183000
DTEND;TZID=UTC:20240701T183000
DTSTAMP:20260423T162738
CREATED:20240524T000403Z
LAST-MODIFIED:20240831T050508Z
UID:10000317-1719858600-1719858600@www.pinetoplakesgolf.com
SUMMARY:Bingo
DESCRIPTION:
URL:https://www.pinetoplakesgolf.com/event/bingo-4/2024-07-01/
END:VEVENT
BEGIN:VEVENT
DTSTART;TZID=UTC:20240702T080000
DTEND;TZID=UTC:20240702T080000
DTSTAMP:20260423T162738
CREATED:20240418T215022Z
LAST-MODIFIED:20240426T215653Z
UID:10000089-1719907200-1719907200@www.pinetoplakesgolf.com
SUMMARY:Men's 9-Hole
DESCRIPTION:
URL:https://www.pinetoplakesgolf.com/event/mens-9-hole-10/
END:VEVENT
BEGIN:VEVENT
DTSTART;TZID=UTC:20240702T080000
DTEND;TZID=UTC:20240702T090000
DTSTAMP:20260423T162738
CREATED:20240524T002807Z
LAST-MODIFIED:20241002T213731Z
UID:10000457-1719907200-1719910800@www.pinetoplakesgolf.com
SUMMARY:Member Yoga
DESCRIPTION:
URL:https://www.pinetoplakesgolf.com/event/member-yoga-4/2024-07-02/
END:VEVENT
BEGIN:VEVENT
DTSTART;TZID=UTC:20240702T083000
DTEND;TZID=UTC:20240702T083000
DTSTAMP:20260423T162738
CREATED:20240418T215100Z
LAST-MODIFIED:20240426T215724Z
UID:10000090-1719909000-1719909000@www.pinetoplakesgolf.com
SUMMARY:Women's 9-Hole League
DESCRIPTION:
URL:https://www.pinetoplakesgolf.com/event/womens-9-hole-league-7/
END:VEVENT
BEGIN:VEVENT
DTSTART;TZID=UTC:20240702T130000
DTEND;TZID=UTC:20240702T160000
DTSTAMP:20260423T162738
CREATED:20240617T234323Z
LAST-MODIFIED:20241002T213440Z
UID:10000613-1719925200-1719936000@www.pinetoplakesgolf.com
SUMMARY:Bridge in Barclay's @ Pinetop Lakes
DESCRIPTION:
URL:https://www.pinetoplakesgolf.com/event/bridge-in-barclays-pinetop-lakes/2024-07-02/
END:VEVENT
BEGIN:VEVENT
DTSTART;TZID=UTC:20240702T140000
DTEND;TZID=UTC:20240702T140000
DTSTAMP:20260423T162738
CREATED:20240418T215134Z
LAST-MODIFIED:20240426T215755Z
UID:10000091-1719928800-1719928800@www.pinetoplakesgolf.com
SUMMARY:Swing and Swig
DESCRIPTION:
URL:https://www.pinetoplakesgolf.com/event/swing-and-swig-8/
END:VEVENT
BEGIN:VEVENT
DTSTART;TZID=UTC:20240703T083000
DTEND;TZID=UTC:20240703T083000
DTSTAMP:20260423T162738
CREATED:20240418T215211Z
LAST-MODIFIED:20240426T215828Z
UID:10000092-1719995400-1719995400@www.pinetoplakesgolf.com
SUMMARY:Women's 18-Hole League
DESCRIPTION:
URL:https://www.pinetoplakesgolf.com/event/womens-18-hole-league-7/
END:VEVENT
BEGIN:VEVENT
DTSTART;TZID=UTC:20240704T080000
DTEND;TZID=UTC:20240704T080000
DTSTAMP:20260423T162738
CREATED:20240418T215246Z
LAST-MODIFIED:20240426T215855Z
UID:10000093-1720080000-1720080000@www.pinetoplakesgolf.com
SUMMARY:Men's 18-Hole
DESCRIPTION:
URL:https://www.pinetoplakesgolf.com/event/mens-18-hole-11/
END:VEVENT
BEGIN:VEVENT
DTSTART;TZID=UTC:20240704T080000
DTEND;TZID=UTC:20240704T090000
DTSTAMP:20260423T162738
CREATED:20240509T025946Z
LAST-MODIFIED:20241002T213125Z
UID:10000529-1720080000-1720083600@www.pinetoplakesgolf.com
SUMMARY:Member Yoga
DESCRIPTION:
URL:https://www.pinetoplakesgolf.com/event/member-yoga-2/2024-07-04/
END:VEVENT
END:VCALENDAR