BEGIN:VCALENDAR
VERSION:2.0
PRODID:-//Pinetop Lakes Golf and Country Club - ECPv6.15.18//NONSGML v1.0//EN
CALSCALE:GREGORIAN
METHOD:PUBLISH
X-ORIGINAL-URL:https://www.pinetoplakesgolf.com
X-WR-CALDESC:Events for Pinetop Lakes Golf and Country Club
REFRESH-INTERVAL;VALUE=DURATION:PT1H
X-Robots-Tag:noindex
X-PUBLISHED-TTL:PT1H
BEGIN:VTIMEZONE
TZID:America/Phoenix
BEGIN:STANDARD
TZOFFSETFROM:-0700
TZOFFSETTO:-0700
TZNAME:MST
DTSTART:20250101T000000
END:STANDARD
END:VTIMEZONE
BEGIN:VEVENT
DTSTART;TZID=America/Phoenix:20261210T143000
DTEND;TZID=America/Phoenix:20261210T170000
DTSTAMP:20260422T030543
CREATED:20260330T161656Z
LAST-MODIFIED:20260330T161656Z
UID:10001924-1796913000-1796922000@www.pinetoplakesgolf.com
SUMMARY:Bingo
DESCRIPTION:Thursday afternoon Bingo\, open to the public
URL:https://www.pinetoplakesgolf.com/event/bingo-6/2026-12-10/
END:VEVENT
BEGIN:VEVENT
DTSTART;TZID=America/Phoenix:20261217T143000
DTEND;TZID=America/Phoenix:20261217T170000
DTSTAMP:20260422T030543
CREATED:20260330T161656Z
LAST-MODIFIED:20260330T161656Z
UID:10001925-1797517800-1797526800@www.pinetoplakesgolf.com
SUMMARY:Bingo
DESCRIPTION:Thursday afternoon Bingo\, open to the public
URL:https://www.pinetoplakesgolf.com/event/bingo-6/2026-12-17/
END:VEVENT
BEGIN:VEVENT
DTSTART;TZID=America/Phoenix:20261224T143000
DTEND;TZID=America/Phoenix:20261224T170000
DTSTAMP:20260422T030543
CREATED:20260330T161656Z
LAST-MODIFIED:20260330T161656Z
UID:10001926-1798122600-1798131600@www.pinetoplakesgolf.com
SUMMARY:Bingo
DESCRIPTION:Thursday afternoon Bingo\, open to the public
URL:https://www.pinetoplakesgolf.com/event/bingo-6/2026-12-24/
END:VEVENT
BEGIN:VEVENT
DTSTART;TZID=America/Phoenix:20261231T143000
DTEND;TZID=America/Phoenix:20261231T170000
DTSTAMP:20260422T030543
CREATED:20260330T161656Z
LAST-MODIFIED:20260330T161656Z
UID:10001927-1798727400-1798736400@www.pinetoplakesgolf.com
SUMMARY:Bingo
DESCRIPTION:Thursday afternoon Bingo\, open to the public
URL:https://www.pinetoplakesgolf.com/event/bingo-6/2026-12-31/
END:VEVENT
BEGIN:VEVENT
DTSTART;TZID=America/Phoenix:20270107T143000
DTEND;TZID=America/Phoenix:20270107T170000
DTSTAMP:20260422T030543
CREATED:20260330T161656Z
LAST-MODIFIED:20260330T161656Z
UID:10001928-1799332200-1799341200@www.pinetoplakesgolf.com
SUMMARY:Bingo
DESCRIPTION:Thursday afternoon Bingo\, open to the public
URL:https://www.pinetoplakesgolf.com/event/bingo-6/2027-01-07/
END:VEVENT
BEGIN:VEVENT
DTSTART;TZID=America/Phoenix:20270114T143000
DTEND;TZID=America/Phoenix:20270114T170000
DTSTAMP:20260422T030543
CREATED:20260330T161656Z
LAST-MODIFIED:20260330T161656Z
UID:10001929-1799937000-1799946000@www.pinetoplakesgolf.com
SUMMARY:Bingo
DESCRIPTION:Thursday afternoon Bingo\, open to the public
URL:https://www.pinetoplakesgolf.com/event/bingo-6/2027-01-14/
END:VEVENT
BEGIN:VEVENT
DTSTART;TZID=America/Phoenix:20270121T143000
DTEND;TZID=America/Phoenix:20270121T170000
DTSTAMP:20260422T030543
CREATED:20260330T161656Z
LAST-MODIFIED:20260330T161656Z
UID:10001930-1800541800-1800550800@www.pinetoplakesgolf.com
SUMMARY:Bingo
DESCRIPTION:Thursday afternoon Bingo\, open to the public
URL:https://www.pinetoplakesgolf.com/event/bingo-6/2027-01-21/
END:VEVENT
BEGIN:VEVENT
DTSTART;TZID=America/Phoenix:20270128T143000
DTEND;TZID=America/Phoenix:20270128T170000
DTSTAMP:20260422T030544
CREATED:20260330T161656Z
LAST-MODIFIED:20260330T161656Z
UID:10001931-1801146600-1801155600@www.pinetoplakesgolf.com
SUMMARY:Bingo
DESCRIPTION:Thursday afternoon Bingo\, open to the public
URL:https://www.pinetoplakesgolf.com/event/bingo-6/2027-01-28/
END:VEVENT
BEGIN:VEVENT
DTSTART;TZID=America/Phoenix:20270204T143000
DTEND;TZID=America/Phoenix:20270204T170000
DTSTAMP:20260422T030544
CREATED:20260330T161656Z
LAST-MODIFIED:20260330T161656Z
UID:10001932-1801751400-1801760400@www.pinetoplakesgolf.com
SUMMARY:Bingo
DESCRIPTION:Thursday afternoon Bingo\, open to the public
URL:https://www.pinetoplakesgolf.com/event/bingo-6/2027-02-04/
END:VEVENT
BEGIN:VEVENT
DTSTART;TZID=America/Phoenix:20270211T143000
DTEND;TZID=America/Phoenix:20270211T170000
DTSTAMP:20260422T030544
CREATED:20260330T161656Z
LAST-MODIFIED:20260330T161656Z
UID:10001933-1802356200-1802365200@www.pinetoplakesgolf.com
SUMMARY:Bingo
DESCRIPTION:Thursday afternoon Bingo\, open to the public
URL:https://www.pinetoplakesgolf.com/event/bingo-6/2027-02-11/
END:VEVENT
BEGIN:VEVENT
DTSTART;TZID=America/Phoenix:20270218T143000
DTEND;TZID=America/Phoenix:20270218T170000
DTSTAMP:20260422T030544
CREATED:20260330T161656Z
LAST-MODIFIED:20260330T161656Z
UID:10001934-1802961000-1802970000@www.pinetoplakesgolf.com
SUMMARY:Bingo
DESCRIPTION:Thursday afternoon Bingo\, open to the public
URL:https://www.pinetoplakesgolf.com/event/bingo-6/2027-02-18/
END:VEVENT
BEGIN:VEVENT
DTSTART;TZID=America/Phoenix:20270225T143000
DTEND;TZID=America/Phoenix:20270225T170000
DTSTAMP:20260422T030544
CREATED:20260330T161656Z
LAST-MODIFIED:20260330T161656Z
UID:10001935-1803565800-1803574800@www.pinetoplakesgolf.com
SUMMARY:Bingo
DESCRIPTION:Thursday afternoon Bingo\, open to the public
URL:https://www.pinetoplakesgolf.com/event/bingo-6/2027-02-25/
END:VEVENT
BEGIN:VEVENT
DTSTART;TZID=America/Phoenix:20270304T143000
DTEND;TZID=America/Phoenix:20270304T170000
DTSTAMP:20260422T030544
CREATED:20260330T161656Z
LAST-MODIFIED:20260330T161656Z
UID:10001936-1804170600-1804179600@www.pinetoplakesgolf.com
SUMMARY:Bingo
DESCRIPTION:Thursday afternoon Bingo\, open to the public
URL:https://www.pinetoplakesgolf.com/event/bingo-6/2027-03-04/
END:VEVENT
BEGIN:VEVENT
DTSTART;TZID=America/Phoenix:20270311T143000
DTEND;TZID=America/Phoenix:20270311T170000
DTSTAMP:20260422T030544
CREATED:20260330T161656Z
LAST-MODIFIED:20260330T161656Z
UID:10001937-1804775400-1804784400@www.pinetoplakesgolf.com
SUMMARY:Bingo
DESCRIPTION:Thursday afternoon Bingo\, open to the public
URL:https://www.pinetoplakesgolf.com/event/bingo-6/2027-03-11/
END:VEVENT
BEGIN:VEVENT
DTSTART;TZID=America/Phoenix:20270318T143000
DTEND;TZID=America/Phoenix:20270318T170000
DTSTAMP:20260422T030544
CREATED:20260330T161656Z
LAST-MODIFIED:20260330T161656Z
UID:10001938-1805380200-1805389200@www.pinetoplakesgolf.com
SUMMARY:Bingo
DESCRIPTION:Thursday afternoon Bingo\, open to the public
URL:https://www.pinetoplakesgolf.com/event/bingo-6/2027-03-18/
END:VEVENT
BEGIN:VEVENT
DTSTART;TZID=America/Phoenix:20270325T143000
DTEND;TZID=America/Phoenix:20270325T170000
DTSTAMP:20260422T030544
CREATED:20260330T161656Z
LAST-MODIFIED:20260330T161656Z
UID:10001939-1805985000-1805994000@www.pinetoplakesgolf.com
SUMMARY:Bingo
DESCRIPTION:Thursday afternoon Bingo\, open to the public
URL:https://www.pinetoplakesgolf.com/event/bingo-6/2027-03-25/
END:VEVENT
BEGIN:VEVENT
DTSTART;TZID=America/Phoenix:20270401T143000
DTEND;TZID=America/Phoenix:20270401T170000
DTSTAMP:20260422T030544
CREATED:20260330T161656Z
LAST-MODIFIED:20260330T161656Z
UID:10001940-1806589800-1806598800@www.pinetoplakesgolf.com
SUMMARY:Bingo
DESCRIPTION:Thursday afternoon Bingo\, open to the public
URL:https://www.pinetoplakesgolf.com/event/bingo-6/2027-04-01/
END:VEVENT
BEGIN:VEVENT
DTSTART;TZID=America/Phoenix:20270408T143000
DTEND;TZID=America/Phoenix:20270408T170000
DTSTAMP:20260422T030544
CREATED:20260330T161656Z
LAST-MODIFIED:20260330T161656Z
UID:10001941-1807194600-1807203600@www.pinetoplakesgolf.com
SUMMARY:Bingo
DESCRIPTION:Thursday afternoon Bingo\, open to the public
URL:https://www.pinetoplakesgolf.com/event/bingo-6/2027-04-08/
END:VEVENT
BEGIN:VEVENT
DTSTART;TZID=America/Phoenix:20270415T143000
DTEND;TZID=America/Phoenix:20270415T170000
DTSTAMP:20260422T030544
CREATED:20260330T161656Z
LAST-MODIFIED:20260330T161656Z
UID:10001942-1807799400-1807808400@www.pinetoplakesgolf.com
SUMMARY:Bingo
DESCRIPTION:Thursday afternoon Bingo\, open to the public
URL:https://www.pinetoplakesgolf.com/event/bingo-6/2027-04-15/
END:VEVENT
BEGIN:VEVENT
DTSTART;TZID=America/Phoenix:20270422T143000
DTEND;TZID=America/Phoenix:20270422T170000
DTSTAMP:20260422T030544
CREATED:20260330T161656Z
LAST-MODIFIED:20260330T161656Z
UID:10001943-1808404200-1808413200@www.pinetoplakesgolf.com
SUMMARY:Bingo
DESCRIPTION:Thursday afternoon Bingo\, open to the public
URL:https://www.pinetoplakesgolf.com/event/bingo-6/2027-04-22/
END:VEVENT
BEGIN:VEVENT
DTSTART;TZID=America/Phoenix:20270429T143000
DTEND;TZID=America/Phoenix:20270429T170000
DTSTAMP:20260422T030544
CREATED:20260330T161656Z
LAST-MODIFIED:20260330T161656Z
UID:10001944-1809009000-1809018000@www.pinetoplakesgolf.com
SUMMARY:Bingo
DESCRIPTION:Thursday afternoon Bingo\, open to the public
URL:https://www.pinetoplakesgolf.com/event/bingo-6/2027-04-29/
END:VEVENT
BEGIN:VEVENT
DTSTART;TZID=America/Phoenix:20270506T143000
DTEND;TZID=America/Phoenix:20270506T170000
DTSTAMP:20260422T030544
CREATED:20260330T161656Z
LAST-MODIFIED:20260330T161656Z
UID:10001945-1809613800-1809622800@www.pinetoplakesgolf.com
SUMMARY:Bingo
DESCRIPTION:Thursday afternoon Bingo\, open to the public
URL:https://www.pinetoplakesgolf.com/event/bingo-6/2027-05-06/
END:VEVENT
BEGIN:VEVENT
DTSTART;TZID=America/Phoenix:20270513T143000
DTEND;TZID=America/Phoenix:20270513T170000
DTSTAMP:20260422T030544
CREATED:20260330T161656Z
LAST-MODIFIED:20260330T161656Z
UID:10001946-1810218600-1810227600@www.pinetoplakesgolf.com
SUMMARY:Bingo
DESCRIPTION:Thursday afternoon Bingo\, open to the public
URL:https://www.pinetoplakesgolf.com/event/bingo-6/2027-05-13/
END:VEVENT
BEGIN:VEVENT
DTSTART;TZID=America/Phoenix:20270520T143000
DTEND;TZID=America/Phoenix:20270520T170000
DTSTAMP:20260422T030544
CREATED:20260330T161656Z
LAST-MODIFIED:20260330T161656Z
UID:10001947-1810823400-1810832400@www.pinetoplakesgolf.com
SUMMARY:Bingo
DESCRIPTION:Thursday afternoon Bingo\, open to the public
URL:https://www.pinetoplakesgolf.com/event/bingo-6/2027-05-20/
END:VEVENT
BEGIN:VEVENT
DTSTART;TZID=America/Phoenix:20270527T143000
DTEND;TZID=America/Phoenix:20270527T170000
DTSTAMP:20260422T030544
CREATED:20260330T161656Z
LAST-MODIFIED:20260330T161656Z
UID:10001948-1811428200-1811437200@www.pinetoplakesgolf.com
SUMMARY:Bingo
DESCRIPTION:Thursday afternoon Bingo\, open to the public
URL:https://www.pinetoplakesgolf.com/event/bingo-6/2027-05-27/
END:VEVENT
BEGIN:VEVENT
DTSTART;TZID=America/Phoenix:20270603T143000
DTEND;TZID=America/Phoenix:20270603T170000
DTSTAMP:20260422T030544
CREATED:20260330T161656Z
LAST-MODIFIED:20260330T161656Z
UID:10001949-1812033000-1812042000@www.pinetoplakesgolf.com
SUMMARY:Bingo
DESCRIPTION:Thursday afternoon Bingo\, open to the public
URL:https://www.pinetoplakesgolf.com/event/bingo-6/2027-06-03/
END:VEVENT
BEGIN:VEVENT
DTSTART;TZID=America/Phoenix:20270610T143000
DTEND;TZID=America/Phoenix:20270610T170000
DTSTAMP:20260422T030544
CREATED:20260330T161656Z
LAST-MODIFIED:20260330T161656Z
UID:10001950-1812637800-1812646800@www.pinetoplakesgolf.com
SUMMARY:Bingo
DESCRIPTION:Thursday afternoon Bingo\, open to the public
URL:https://www.pinetoplakesgolf.com/event/bingo-6/2027-06-10/
END:VEVENT
BEGIN:VEVENT
DTSTART;TZID=America/Phoenix:20270617T143000
DTEND;TZID=America/Phoenix:20270617T170000
DTSTAMP:20260422T030544
CREATED:20260330T161656Z
LAST-MODIFIED:20260330T161656Z
UID:10001951-1813242600-1813251600@www.pinetoplakesgolf.com
SUMMARY:Bingo
DESCRIPTION:Thursday afternoon Bingo\, open to the public
URL:https://www.pinetoplakesgolf.com/event/bingo-6/2027-06-17/
END:VEVENT
BEGIN:VEVENT
DTSTART;TZID=America/Phoenix:20270624T143000
DTEND;TZID=America/Phoenix:20270624T170000
DTSTAMP:20260422T030544
CREATED:20260330T161656Z
LAST-MODIFIED:20260330T161656Z
UID:10001952-1813847400-1813856400@www.pinetoplakesgolf.com
SUMMARY:Bingo
DESCRIPTION:Thursday afternoon Bingo\, open to the public
URL:https://www.pinetoplakesgolf.com/event/bingo-6/2027-06-24/
END:VEVENT
BEGIN:VEVENT
DTSTART;TZID=America/Phoenix:20270701T143000
DTEND;TZID=America/Phoenix:20270701T170000
DTSTAMP:20260422T030544
CREATED:20260330T161656Z
LAST-MODIFIED:20260330T161656Z
UID:10001953-1814452200-1814461200@www.pinetoplakesgolf.com
SUMMARY:Bingo
DESCRIPTION:Thursday afternoon Bingo\, open to the public
URL:https://www.pinetoplakesgolf.com/event/bingo-6/2027-07-01/
END:VEVENT
END:VCALENDAR