BEGIN:VCALENDAR
VERSION:2.0
PRODID:-//Pinetop Lakes Golf and Country Club - ECPv6.15.18//NONSGML v1.0//EN
CALSCALE:GREGORIAN
METHOD:PUBLISH
X-ORIGINAL-URL:https://www.pinetoplakesgolf.com
X-WR-CALDESC:Events for Pinetop Lakes Golf and Country Club
REFRESH-INTERVAL;VALUE=DURATION:PT1H
X-Robots-Tag:noindex
X-PUBLISHED-TTL:PT1H
BEGIN:VTIMEZONE
TZID:UTC
BEGIN:STANDARD
TZOFFSETFROM:+0000
TZOFFSETTO:+0000
TZNAME:UTC
DTSTART:20230101T000000
END:STANDARD
END:VTIMEZONE
BEGIN:VEVENT
DTSTART;TZID=UTC:20240617T090000
DTEND;TZID=UTC:20240617T090000
DTSTAMP:20260423T160448
CREATED:20240418T212249Z
LAST-MODIFIED:20240426T214303Z
UID:10000066-1718614800-1718614800@www.pinetoplakesgolf.com
SUMMARY:Old Strokes
DESCRIPTION:
URL:https://www.pinetoplakesgolf.com/event/old-strokes-17/
END:VEVENT
BEGIN:VEVENT
DTSTART;TZID=UTC:20240617T120000
DTEND;TZID=UTC:20240617T180000
DTSTAMP:20260423T160448
CREATED:20240613T000402Z
LAST-MODIFIED:20240613T000402Z
UID:10000606-1718625600-1718647200@www.pinetoplakesgolf.com
SUMMARY:Father's Day Dinner
DESCRIPTION:Reservations are recommended!   Father’s Day Menu
URL:https://www.pinetoplakesgolf.com/event/fathers-day-dinner/
END:VEVENT
BEGIN:VEVENT
DTSTART;TZID=UTC:20240617T140000
DTEND;TZID=UTC:20240617T140000
DTSTAMP:20260423T160448
CREATED:20240507T234801Z
LAST-MODIFIED:20241002T212951Z
UID:10000243-1718632800-1718632800@www.pinetoplakesgolf.com
SUMMARY:150 League
DESCRIPTION:
URL:https://www.pinetoplakesgolf.com/event/150-league/2024-06-17/
END:VEVENT
BEGIN:VEVENT
DTSTART;TZID=UTC:20240617T183000
DTEND;TZID=UTC:20240617T183000
DTSTAMP:20260423T160448
CREATED:20240524T000403Z
LAST-MODIFIED:20240831T050508Z
UID:10000315-1718649000-1718649000@www.pinetoplakesgolf.com
SUMMARY:Bingo
DESCRIPTION:
URL:https://www.pinetoplakesgolf.com/event/bingo-4/2024-06-17/
END:VEVENT
BEGIN:VEVENT
DTSTART;TZID=UTC:20240618T080000
DTEND;TZID=UTC:20240618T080000
DTSTAMP:20260423T160448
CREATED:20240418T212328Z
LAST-MODIFIED:20240426T214347Z
UID:10000067-1718697600-1718697600@www.pinetoplakesgolf.com
SUMMARY:Men's 9-Hole
DESCRIPTION:
URL:https://www.pinetoplakesgolf.com/event/mens-9-hole-8/
END:VEVENT
BEGIN:VEVENT
DTSTART;TZID=UTC:20240618T080000
DTEND;TZID=UTC:20240618T090000
DTSTAMP:20260423T160448
CREATED:20240524T002842Z
LAST-MODIFIED:20240524T002901Z
UID:10000453-1718697600-1718701200@www.pinetoplakesgolf.com
SUMMARY:NO Yoga
DESCRIPTION:Due to another event
URL:https://www.pinetoplakesgolf.com/event/member-yoga-4-2/
END:VEVENT
BEGIN:VEVENT
DTSTART;TZID=UTC:20240618T083000
DTEND;TZID=UTC:20240618T083000
DTSTAMP:20260423T160448
CREATED:20240418T212359Z
LAST-MODIFIED:20240426T214414Z
UID:10000068-1718699400-1718699400@www.pinetoplakesgolf.com
SUMMARY:Women's 9-Hole League
DESCRIPTION:
URL:https://www.pinetoplakesgolf.com/event/womens-9-hole-league-5/
END:VEVENT
BEGIN:VEVENT
DTSTART;TZID=UTC:20240618T130000
DTEND;TZID=UTC:20240618T160000
DTSTAMP:20260423T160448
CREATED:20240617T234323Z
LAST-MODIFIED:20241002T213440Z
UID:10000611-1718715600-1718726400@www.pinetoplakesgolf.com
SUMMARY:Bridge in Barclay's @ Pinetop Lakes
DESCRIPTION:
URL:https://www.pinetoplakesgolf.com/event/bridge-in-barclays-pinetop-lakes/2024-06-18/
END:VEVENT
BEGIN:VEVENT
DTSTART;TZID=UTC:20240618T140000
DTEND;TZID=UTC:20240618T140000
DTSTAMP:20260423T160448
CREATED:20240418T212429Z
LAST-MODIFIED:20240426T214502Z
UID:10000069-1718719200-1718719200@www.pinetoplakesgolf.com
SUMMARY:Swing and Swig
DESCRIPTION:
URL:https://www.pinetoplakesgolf.com/event/swing-and-swig-6/
END:VEVENT
BEGIN:VEVENT
DTSTART;TZID=UTC:20240619T083000
DTEND;TZID=UTC:20240619T083000
DTSTAMP:20260423T160448
CREATED:20240418T212457Z
LAST-MODIFIED:20240426T214542Z
UID:10000070-1718785800-1718785800@www.pinetoplakesgolf.com
SUMMARY:Women's 18-Hole League
DESCRIPTION:
URL:https://www.pinetoplakesgolf.com/event/womens-18-hole-league-5/
END:VEVENT
BEGIN:VEVENT
DTSTART;TZID=UTC:20240619T163000
DTEND;TZID=UTC:20240619T193000
DTSTAMP:20260423T160448
CREATED:20240418T212559Z
LAST-MODIFIED:20240606T062511Z
UID:10000071-1718814600-1718825400@www.pinetoplakesgolf.com
SUMMARY:Music in the Pines Fat Chance
DESCRIPTION:
URL:https://www.pinetoplakesgolf.com/event/music-in-the-pines-fat-chance/
END:VEVENT
BEGIN:VEVENT
DTSTART;TZID=UTC:20240620T080000
DTEND;TZID=UTC:20240620T080000
DTSTAMP:20260423T160448
CREATED:20240418T212635Z
LAST-MODIFIED:20240426T214656Z
UID:10000072-1718870400-1718870400@www.pinetoplakesgolf.com
SUMMARY:Men's 18-Hole
DESCRIPTION:
URL:https://www.pinetoplakesgolf.com/event/mens-18-hole-9/
END:VEVENT
BEGIN:VEVENT
DTSTART;TZID=UTC:20240620T080000
DTEND;TZID=UTC:20240620T090000
DTSTAMP:20260423T160448
CREATED:20240509T025946Z
LAST-MODIFIED:20241002T213125Z
UID:10000527-1718870400-1718874000@www.pinetoplakesgolf.com
SUMMARY:Member Yoga
DESCRIPTION:
URL:https://www.pinetoplakesgolf.com/event/member-yoga-2/2024-06-20/
END:VEVENT
BEGIN:VEVENT
DTSTART;TZID=UTC:20240620T143000
DTEND;TZID=UTC:20240620T143000
DTSTAMP:20260423T160448
CREATED:20240508T002944Z
LAST-MODIFIED:20240508T005700Z
UID:10000385-1718893800-1718893800@www.pinetoplakesgolf.com
SUMMARY:Bingo
DESCRIPTION:
URL:https://www.pinetoplakesgolf.com/event/bingo-2/2024-06-20/
END:VEVENT
BEGIN:VEVENT
DTSTART;TZID=UTC:20240621T090000
DTEND;TZID=UTC:20240621T090000
DTSTAMP:20260423T160448
CREATED:20240418T212706Z
LAST-MODIFIED:20240426T214730Z
UID:10000073-1718960400-1718960400@www.pinetoplakesgolf.com
SUMMARY:Old Strokes
DESCRIPTION:
URL:https://www.pinetoplakesgolf.com/event/old-strokes-18/
END:VEVENT
BEGIN:VEVENT
DTSTART;TZID=UTC:20240621T094500
DTEND;TZID=UTC:20240621T094500
DTSTAMP:20260423T160448
CREATED:20240418T212739Z
LAST-MODIFIED:20240426T214807Z
UID:10000074-1718963100-1718963100@www.pinetoplakesgolf.com
SUMMARY:One Putters
DESCRIPTION:
URL:https://www.pinetoplakesgolf.com/event/one-putters-9/
END:VEVENT
BEGIN:VEVENT
DTSTART;TZID=UTC:20240622T130000
DTEND;TZID=UTC:20240622T130000
DTSTAMP:20260423T160448
CREATED:20240418T212828Z
LAST-MODIFIED:20240426T214849Z
UID:10000075-1719061200-1719061200@www.pinetoplakesgolf.com
SUMMARY:Bear Down in the Pines
DESCRIPTION:
URL:https://www.pinetoplakesgolf.com/event/bear-down-in-the-pines/
END:VEVENT
BEGIN:VEVENT
DTSTART;TZID=UTC:20240624T083000
DTEND;TZID=UTC:20240624T083000
DTSTAMP:20260423T160448
CREATED:20240418T212914Z
LAST-MODIFIED:20240426T214959Z
UID:10000076-1719217800-1719217800@www.pinetoplakesgolf.com
SUMMARY:Team Play at Torreon
DESCRIPTION:
URL:https://www.pinetoplakesgolf.com/event/team-play-at-tprrepm/
END:VEVENT
BEGIN:VEVENT
DTSTART;TZID=UTC:20240624T090000
DTEND;TZID=UTC:20240624T090000
DTSTAMP:20260423T160448
CREATED:20240418T212940Z
LAST-MODIFIED:20240426T215028Z
UID:10000077-1719219600-1719219600@www.pinetoplakesgolf.com
SUMMARY:Old Strokes
DESCRIPTION:
URL:https://www.pinetoplakesgolf.com/event/old-strokes-19/
END:VEVENT
BEGIN:VEVENT
DTSTART;TZID=UTC:20240624T140000
DTEND;TZID=UTC:20240624T140000
DTSTAMP:20260423T160448
CREATED:20240507T234801Z
LAST-MODIFIED:20241002T212951Z
UID:10000244-1719237600-1719237600@www.pinetoplakesgolf.com
SUMMARY:150 League
DESCRIPTION:
URL:https://www.pinetoplakesgolf.com/event/150-league/2024-06-24/
END:VEVENT
BEGIN:VEVENT
DTSTART;TZID=UTC:20240624T183000
DTEND;TZID=UTC:20240624T183000
DTSTAMP:20260423T160448
CREATED:20240524T000403Z
LAST-MODIFIED:20240831T050508Z
UID:10000316-1719253800-1719253800@www.pinetoplakesgolf.com
SUMMARY:Bingo
DESCRIPTION:
URL:https://www.pinetoplakesgolf.com/event/bingo-4/2024-06-24/
END:VEVENT
BEGIN:VEVENT
DTSTART;VALUE=DATE:20240625
DTEND;VALUE=DATE:20240627
DTSTAMP:20260423T160448
CREATED:20240418T213348Z
LAST-MODIFIED:20240418T213348Z
UID:10000078-1719273600-1719446399@www.pinetoplakesgolf.com
SUMMARY:Ricki Rarick Junior Golf
DESCRIPTION:
URL:https://www.pinetoplakesgolf.com/event/ricki-rarick-junior-golf/
ATTACH;FMTTYPE=image/jpeg:https://www.pinetoplakesgolf.com/wp-content/uploads/sites/8955/2024/04/img_golf_1x_5b652e.jpg
END:VEVENT
BEGIN:VEVENT
DTSTART;TZID=UTC:20240625T080000
DTEND;TZID=UTC:20240625T080000
DTSTAMP:20260423T160448
CREATED:20240418T213541Z
LAST-MODIFIED:20240426T215143Z
UID:10000079-1719302400-1719302400@www.pinetoplakesgolf.com
SUMMARY:Men's 9-Hole
DESCRIPTION:
URL:https://www.pinetoplakesgolf.com/event/mens-9-hole-9/
END:VEVENT
BEGIN:VEVENT
DTSTART;TZID=UTC:20240625T080000
DTEND;TZID=UTC:20240625T090000
DTSTAMP:20260423T160448
CREATED:20240524T002807Z
LAST-MODIFIED:20241002T213731Z
UID:10000456-1719302400-1719306000@www.pinetoplakesgolf.com
SUMMARY:Member Yoga
DESCRIPTION:
URL:https://www.pinetoplakesgolf.com/event/member-yoga-4/2024-06-25/
END:VEVENT
BEGIN:VEVENT
DTSTART;TZID=UTC:20240625T083000
DTEND;TZID=UTC:20240625T083000
DTSTAMP:20260423T160448
CREATED:20240418T213627Z
LAST-MODIFIED:20240426T215210Z
UID:10000080-1719304200-1719304200@www.pinetoplakesgolf.com
SUMMARY:Women's 9-Hole League
DESCRIPTION:
URL:https://www.pinetoplakesgolf.com/event/womens-9-hole-league-6/
END:VEVENT
BEGIN:VEVENT
DTSTART;TZID=UTC:20240625T130000
DTEND;TZID=UTC:20240625T160000
DTSTAMP:20260423T160448
CREATED:20240617T234323Z
LAST-MODIFIED:20241002T213440Z
UID:10000612-1719320400-1719331200@www.pinetoplakesgolf.com
SUMMARY:Bridge in Barclay's @ Pinetop Lakes
DESCRIPTION:
URL:https://www.pinetoplakesgolf.com/event/bridge-in-barclays-pinetop-lakes/2024-06-25/
END:VEVENT
BEGIN:VEVENT
DTSTART;TZID=UTC:20240625T140000
DTEND;TZID=UTC:20240625T140000
DTSTAMP:20260423T160448
CREATED:20240418T213919Z
LAST-MODIFIED:20240426T215250Z
UID:10000081-1719324000-1719324000@www.pinetoplakesgolf.com
SUMMARY:Swing and Swig
DESCRIPTION:
URL:https://www.pinetoplakesgolf.com/event/swing-and-swig-7/
END:VEVENT
BEGIN:VEVENT
DTSTART;TZID=UTC:20240626T083000
DTEND;TZID=UTC:20240626T083000
DTSTAMP:20260423T160448
CREATED:20240418T214051Z
LAST-MODIFIED:20240426T215317Z
UID:10000082-1719390600-1719390600@www.pinetoplakesgolf.com
SUMMARY:Women's 18-Hole League
DESCRIPTION:
URL:https://www.pinetoplakesgolf.com/event/womens-18-hole-league-6/
END:VEVENT
BEGIN:VEVENT
DTSTART;TZID=UTC:20240626T130000
DTEND;TZID=UTC:20240626T130000
DTSTAMP:20260423T160448
CREATED:20240418T214139Z
LAST-MODIFIED:20240426T215353Z
UID:10000083-1719406800-1719406800@www.pinetoplakesgolf.com
SUMMARY:Women's Golf Association Meeting
DESCRIPTION:
URL:https://www.pinetoplakesgolf.com/event/womens-golf-association-meeting-2/
ATTACH;FMTTYPE=image/jpeg:https://www.pinetoplakesgolf.com/wp-content/uploads/sites/8955/2024/04/img_golf_1x_5b652e.jpg
END:VEVENT
BEGIN:VEVENT
DTSTART;TZID=UTC:20240626T190000
DTEND;TZID=UTC:20240626T210000
DTSTAMP:20260423T160448
CREATED:20240509T025644Z
LAST-MODIFIED:20240617T232256Z
UID:10000450-1719428400-1719435600@www.pinetoplakesgolf.com
SUMMARY:Member Game Night: Majority Rules
DESCRIPTION:
URL:https://www.pinetoplakesgolf.com/event/member-game-night-majority-rules/
END:VEVENT
END:VCALENDAR