BEGIN:VCALENDAR
VERSION:2.0
PRODID:-//Pinetop Lakes Golf and Country Club - ECPv6.15.18//NONSGML v1.0//EN
CALSCALE:GREGORIAN
METHOD:PUBLISH
X-WR-CALNAME:Pinetop Lakes Golf and Country Club
X-ORIGINAL-URL:https://www.pinetoplakesgolf.com
X-WR-CALDESC:Events for Pinetop Lakes Golf and Country Club
REFRESH-INTERVAL;VALUE=DURATION:PT1H
X-Robots-Tag:noindex
X-PUBLISHED-TTL:PT1H
BEGIN:VTIMEZONE
TZID:UTC
BEGIN:STANDARD
TZOFFSETFROM:+0000
TZOFFSETTO:+0000
TZNAME:UTC
DTSTART:20230101T000000
END:STANDARD
END:VTIMEZONE
BEGIN:VEVENT
DTSTART;TZID=UTC:20240521T080000
DTEND;TZID=UTC:20240521T090000
DTSTAMP:20260423T172734
CREATED:20240509T025857Z
LAST-MODIFIED:20240509T025857Z
UID:10000451-1716278400-1716282000@www.pinetoplakesgolf.com
SUMMARY:Member Yoga
DESCRIPTION:
URL:https://www.pinetoplakesgolf.com/event/member-yoga/
END:VEVENT
BEGIN:VEVENT
DTSTART;TZID=UTC:20240520T183000
DTEND;TZID=UTC:20240520T183000
DTSTAMP:20260423T172734
CREATED:20240508T001827Z
LAST-MODIFIED:20240508T011036Z
UID:10000311-1716229800-1716229800@www.pinetoplakesgolf.com
SUMMARY:Bingo
DESCRIPTION:
URL:https://www.pinetoplakesgolf.com/event/bingo/
END:VEVENT
BEGIN:VEVENT
DTSTART;TZID=UTC:20240520T140000
DTEND;TZID=UTC:20240520T140000
DTSTAMP:20260423T172734
CREATED:20240507T234801Z
LAST-MODIFIED:20241002T212951Z
UID:10000239-1716213600-1716213600@www.pinetoplakesgolf.com
SUMMARY:150 League
DESCRIPTION:
URL:https://www.pinetoplakesgolf.com/event/150-league/2024-05-20/
END:VEVENT
BEGIN:VEVENT
DTSTART;TZID=UTC:20240520T083000
DTEND;TZID=UTC:20240520T083000
DTSTAMP:20260423T172734
CREATED:20240418T063351Z
LAST-MODIFIED:20240425T003224Z
UID:10000027-1716193800-1716193800@www.pinetoplakesgolf.com
SUMMARY:Old Strokes
DESCRIPTION:
URL:https://www.pinetoplakesgolf.com/event/old-strokes-9/
END:VEVENT
BEGIN:VEVENT
DTSTART;TZID=UTC:20240517T090000
DTEND;TZID=UTC:20240517T090000
DTSTAMP:20260423T172734
CREATED:20240418T063255Z
LAST-MODIFIED:20240425T003051Z
UID:10000025-1715936400-1715936400@www.pinetoplakesgolf.com
SUMMARY:One Putters
DESCRIPTION:
URL:https://www.pinetoplakesgolf.com/event/one-putters-4/
END:VEVENT
BEGIN:VEVENT
DTSTART;TZID=UTC:20240517T083000
DTEND;TZID=UTC:20240517T083000
DTSTAMP:20260423T172734
CREATED:20240418T063225Z
LAST-MODIFIED:20240425T003022Z
UID:10000024-1715934600-1715934600@www.pinetoplakesgolf.com
SUMMARY:Old Strokes
DESCRIPTION:
URL:https://www.pinetoplakesgolf.com/event/old-strokes-8/
END:VEVENT
BEGIN:VEVENT
DTSTART;TZID=UTC:20240516T123000
DTEND;TZID=UTC:20240516T133000
DTSTAMP:20260423T172734
CREATED:20240520T232821Z
LAST-MODIFIED:20240520T232848Z
UID:10000597-1715862600-1715866200@www.pinetoplakesgolf.com
SUMMARY:Men's Club Meeting
DESCRIPTION:Thirsty Thursday
URL:https://www.pinetoplakesgolf.com/event/mens-club-meeting-4/2024-05-16/
END:VEVENT
BEGIN:VEVENT
DTSTART;TZID=UTC:20240516T083000
DTEND;TZID=UTC:20240516T083000
DTSTAMP:20260423T172734
CREATED:20240418T063201Z
LAST-MODIFIED:20240425T002945Z
UID:10000023-1715848200-1715848200@www.pinetoplakesgolf.com
SUMMARY:Men's 18-Hole
DESCRIPTION:
URL:https://www.pinetoplakesgolf.com/event/mens-18-hole-4/
END:VEVENT
BEGIN:VEVENT
DTSTART;TZID=UTC:20240515T090000
DTEND;TZID=UTC:20240515T090000
DTSTAMP:20260423T172734
CREATED:20240418T063128Z
LAST-MODIFIED:20240425T002425Z
UID:10000022-1715763600-1715763600@www.pinetoplakesgolf.com
SUMMARY:Women's 18-Hole League
DESCRIPTION:
URL:https://www.pinetoplakesgolf.com/event/womens-18-hole-league/
END:VEVENT
BEGIN:VEVENT
DTSTART;TZID=UTC:20240514T140000
DTEND;TZID=UTC:20240514T160000
DTSTAMP:20260423T172734
CREATED:20240418T063103Z
LAST-MODIFIED:20240425T002355Z
UID:10000021-1715695200-1715702400@www.pinetoplakesgolf.com
SUMMARY:Swing and Swig
DESCRIPTION:
URL:https://www.pinetoplakesgolf.com/event/swing-and-swig/
END:VEVENT
BEGIN:VEVENT
DTSTART;TZID=UTC:20240514T090000
DTEND;TZID=UTC:20240514T090000
DTSTAMP:20260423T172734
CREATED:20240418T063015Z
LAST-MODIFIED:20240425T002252Z
UID:10000020-1715677200-1715677200@www.pinetoplakesgolf.com
SUMMARY:Women's 9-Hole League
DESCRIPTION:
URL:https://www.pinetoplakesgolf.com/event/womens-9-hole-league/
END:VEVENT
BEGIN:VEVENT
DTSTART;TZID=UTC:20240514T083000
DTEND;TZID=UTC:20240514T083000
DTSTAMP:20260423T172734
CREATED:20240418T062940Z
LAST-MODIFIED:20240425T002219Z
UID:10000019-1715675400-1715675400@www.pinetoplakesgolf.com
SUMMARY:Men's 9-Hole
DESCRIPTION:
URL:https://www.pinetoplakesgolf.com/event/mens-9-hole-4/
END:VEVENT
BEGIN:VEVENT
DTSTART;TZID=UTC:20240513T140000
DTEND;TZID=UTC:20240513T140000
DTSTAMP:20260423T172734
CREATED:20240507T234801Z
LAST-MODIFIED:20241002T212951Z
UID:10000238-1715608800-1715608800@www.pinetoplakesgolf.com
SUMMARY:150 League
DESCRIPTION:
URL:https://www.pinetoplakesgolf.com/event/150-league/2024-05-13/
END:VEVENT
BEGIN:VEVENT
DTSTART;TZID=UTC:20240513T083000
DTEND;TZID=UTC:20240513T083000
DTSTAMP:20260423T172734
CREATED:20240418T062904Z
LAST-MODIFIED:20240425T002152Z
UID:10000018-1715589000-1715589000@www.pinetoplakesgolf.com
SUMMARY:Old Strokes
DESCRIPTION:
URL:https://www.pinetoplakesgolf.com/event/old-strokes-7/
END:VEVENT
BEGIN:VEVENT
DTSTART;TZID=UTC:20240512T120000
DTEND;TZID=UTC:20240512T170000
DTSTAMP:20260423T172734
CREATED:20240509T024934Z
LAST-MODIFIED:20240509T030100Z
UID:10000448-1715515200-1715533200@www.pinetoplakesgolf.com
SUMMARY:Mother's Day Dinner
DESCRIPTION:
URL:https://www.pinetoplakesgolf.com/event/mothers-day-dinner/
END:VEVENT
BEGIN:VEVENT
DTSTART;TZID=UTC:20240510T083000
DTEND;TZID=UTC:20240510T083000
DTSTAMP:20260423T172734
CREATED:20240418T062713Z
LAST-MODIFIED:20240425T002057Z
UID:10000017-1715329800-1715329800@www.pinetoplakesgolf.com
SUMMARY:One Putters
DESCRIPTION:
URL:https://www.pinetoplakesgolf.com/event/one-putters-3/
END:VEVENT
BEGIN:VEVENT
DTSTART;TZID=UTC:20240510T083000
DTEND;TZID=UTC:20240510T083000
DTSTAMP:20260423T172734
CREATED:20240418T062608Z
LAST-MODIFIED:20240425T002015Z
UID:10000016-1715329800-1715329800@www.pinetoplakesgolf.com
SUMMARY:Old Strokes
DESCRIPTION:
URL:https://www.pinetoplakesgolf.com/event/old-strokes-6/
END:VEVENT
BEGIN:VEVENT
DTSTART;TZID=UTC:20240509T083000
DTEND;TZID=UTC:20240509T083000
DTSTAMP:20260423T172734
CREATED:20240418T062457Z
LAST-MODIFIED:20240425T001947Z
UID:10000015-1715243400-1715243400@www.pinetoplakesgolf.com
SUMMARY:Men's 18-Hole
DESCRIPTION:
URL:https://www.pinetoplakesgolf.com/event/mens-18-hole-3/
END:VEVENT
BEGIN:VEVENT
DTSTART;TZID=UTC:20240507T083000
DTEND;TZID=UTC:20240507T083000
DTSTAMP:20260423T172734
CREATED:20240418T062420Z
LAST-MODIFIED:20240424T230855Z
UID:10000014-1715070600-1715070600@www.pinetoplakesgolf.com
SUMMARY:Men's 9-Hole
DESCRIPTION:
URL:https://www.pinetoplakesgolf.com/event/mens-9-hole-3/
END:VEVENT
BEGIN:VEVENT
DTSTART;TZID=UTC:20240506T083000
DTEND;TZID=UTC:20240506T083000
DTSTAMP:20260423T172734
CREATED:20240418T062334Z
LAST-MODIFIED:20240424T230828Z
UID:10000013-1714984200-1714984200@www.pinetoplakesgolf.com
SUMMARY:Old Strokes
DESCRIPTION:
URL:https://www.pinetoplakesgolf.com/event/old-strokes-5/
END:VEVENT
BEGIN:VEVENT
DTSTART;TZID=UTC:20240503T090000
DTEND;TZID=UTC:20240503T090000
DTSTAMP:20260423T172734
CREATED:20240418T062307Z
LAST-MODIFIED:20240424T230718Z
UID:10000012-1714726800-1714726800@www.pinetoplakesgolf.com
SUMMARY:One Putters
DESCRIPTION:
URL:https://www.pinetoplakesgolf.com/event/one-putters-2/
END:VEVENT
BEGIN:VEVENT
DTSTART;TZID=UTC:20240503T083000
DTEND;TZID=UTC:20240503T083000
DTSTAMP:20260423T172734
CREATED:20240418T062227Z
LAST-MODIFIED:20240424T230647Z
UID:10000011-1714725000-1714725000@www.pinetoplakesgolf.com
SUMMARY:Old Strokes
DESCRIPTION:
URL:https://www.pinetoplakesgolf.com/event/old-strokes-4/
END:VEVENT
BEGIN:VEVENT
DTSTART;TZID=UTC:20240502T083000
DTEND;TZID=UTC:20240502T083000
DTSTAMP:20260423T172734
CREATED:20240418T062128Z
LAST-MODIFIED:20240424T230621Z
UID:10000010-1714638600-1714638600@www.pinetoplakesgolf.com
SUMMARY:Men's 18-Hole
DESCRIPTION:
URL:https://www.pinetoplakesgolf.com/event/mens-18-hole-2/
END:VEVENT
BEGIN:VEVENT
DTSTART;TZID=UTC:20240430T090000
DTEND;TZID=UTC:20240430T090000
DTSTAMP:20260423T172734
CREATED:20240418T062044Z
LAST-MODIFIED:20240424T230538Z
UID:10000009-1714467600-1714467600@www.pinetoplakesgolf.com
SUMMARY:Men's 9-Hole
DESCRIPTION:
URL:https://www.pinetoplakesgolf.com/event/mens-9-hole-2/
END:VEVENT
BEGIN:VEVENT
DTSTART;TZID=UTC:20240429T093000
DTEND;TZID=UTC:20240429T093000
DTSTAMP:20260423T172734
CREATED:20240418T061659Z
LAST-MODIFIED:20240424T230508Z
UID:10000008-1714383000-1714383000@www.pinetoplakesgolf.com
SUMMARY:Old Strokes
DESCRIPTION:
URL:https://www.pinetoplakesgolf.com/event/old-strokes-3/
END:VEVENT
BEGIN:VEVENT
DTSTART;TZID=UTC:20240426T130000
DTEND;TZID=UTC:20240426T130000
DTSTAMP:20260423T172734
CREATED:20240426T223214Z
LAST-MODIFIED:20240426T223214Z
UID:10000232-1714136400-1714136400@www.pinetoplakesgolf.com
SUMMARY:Men's Invitational Awards Lunch
DESCRIPTION:
URL:https://www.pinetoplakesgolf.com/event/mens-invitational-awards-lunch/
END:VEVENT
BEGIN:VEVENT
DTSTART;TZID=UTC:20240426T103000
DTEND;TZID=UTC:20240426T103000
DTSTAMP:20260423T172734
CREATED:20240417T170030Z
LAST-MODIFIED:20240424T230421Z
UID:10000007-1714127400-1714127400@www.pinetoplakesgolf.com
SUMMARY:One Putters
DESCRIPTION:
URL:https://www.pinetoplakesgolf.com/event/one-putters/
END:VEVENT
BEGIN:VEVENT
DTSTART;TZID=UTC:20240426T093000
DTEND;TZID=UTC:20240426T093000
DTSTAMP:20260423T172734
CREATED:20240418T061452Z
LAST-MODIFIED:20240424T230047Z
UID:10000006-1714123800-1714123800@www.pinetoplakesgolf.com
SUMMARY:Old Strokes
DESCRIPTION:
URL:https://www.pinetoplakesgolf.com/event/old-strokes-2/
END:VEVENT
BEGIN:VEVENT
DTSTART;TZID=UTC:20240426T080000
DTEND;TZID=UTC:20240426T080000
DTSTAMP:20260423T172734
CREATED:20240426T223046Z
LAST-MODIFIED:20240426T223046Z
UID:10000231-1714118400-1714118400@www.pinetoplakesgolf.com
SUMMARY:Men's Club Invitational Final Day
DESCRIPTION:
URL:https://www.pinetoplakesgolf.com/event/mens-club-invitational-final-day/
END:VEVENT
BEGIN:VEVENT
DTSTART;TZID=UTC:20240425T090000
DTEND;TZID=UTC:20240425T130000
DTSTAMP:20260423T172734
CREATED:20240418T061423Z
LAST-MODIFIED:20240424T225926Z
UID:10000005-1714035600-1714050000@www.pinetoplakesgolf.com
SUMMARY:Men's 18-Hole
DESCRIPTION:
URL:https://www.pinetoplakesgolf.com/event/mens-18-hole/
END:VEVENT
END:VCALENDAR