BEGIN:VCALENDAR
VERSION:2.0
PRODID:-//Pinetop Lakes Golf and Country Club - ECPv6.15.18//NONSGML v1.0//EN
CALSCALE:GREGORIAN
METHOD:PUBLISH
X-WR-CALNAME:Pinetop Lakes Golf and Country Club
X-ORIGINAL-URL:https://www.pinetoplakesgolf.com
X-WR-CALDESC:Events for Pinetop Lakes Golf and Country Club
REFRESH-INTERVAL;VALUE=DURATION:PT1H
X-Robots-Tag:noindex
X-PUBLISHED-TTL:PT1H
BEGIN:VTIMEZONE
TZID:America/Phoenix
BEGIN:STANDARD
TZOFFSETFROM:-0700
TZOFFSETTO:-0700
TZNAME:MST
DTSTART:20250101T000000
END:STANDARD
END:VTIMEZONE
BEGIN:VEVENT
DTSTART;TZID=America/Phoenix:20260911T090000
DTEND;TZID=America/Phoenix:20260911T130000
DTSTAMP:20260422T005346
CREATED:20260217T173701Z
LAST-MODIFIED:20260217T174230Z
UID:10001800-1789117200-1789131600@www.pinetoplakesgolf.com
SUMMARY:One Putters
DESCRIPTION:Ladies Member League
URL:https://www.pinetoplakesgolf.com/event/one-putters-27/2026-09-11/
END:VEVENT
BEGIN:VEVENT
DTSTART;TZID=America/Phoenix:20260911T160000
DTEND;TZID=America/Phoenix:20260911T190000
DTSTAMP:20260422T005346
CREATED:20260302T203451Z
LAST-MODIFIED:20260302T203451Z
UID:10001872-1789142400-1789153200@www.pinetoplakesgolf.com
SUMMARY:Music In The Pines
DESCRIPTION:Outdoor Concert featuring Recording Artist: Erica Sunshine Lee – Open to the Public
URL:https://www.pinetoplakesgolf.com/event/music-in-the-pines-8/
END:VEVENT
BEGIN:VEVENT
DTSTART;TZID=America/Phoenix:20260912T080000
DTEND;TZID=America/Phoenix:20260912T170000
DTSTAMP:20260422T005346
CREATED:20260217T180339Z
LAST-MODIFIED:20260217T180339Z
UID:10001821-1789200000-1789232400@www.pinetoplakesgolf.com
SUMMARY:Yoga
DESCRIPTION:Member Only Yoga
URL:https://www.pinetoplakesgolf.com/event/yoga/2026-09-12/
END:VEVENT
BEGIN:VEVENT
DTSTART;TZID=America/Phoenix:20260914T080000
DTEND;TZID=America/Phoenix:20260914T120000
DTSTAMP:20260422T005346
CREATED:20260420T171651Z
LAST-MODIFIED:20260420T171652Z
UID:10002075-1789372800-1789387200@www.pinetoplakesgolf.com
SUMMARY:Old Strokes
DESCRIPTION:
URL:https://www.pinetoplakesgolf.com/event/old-strokes-58-2/2026-09-14/
END:VEVENT
BEGIN:VEVENT
DTSTART;TZID=America/Phoenix:20260914T183000
DTEND;TZID=America/Phoenix:20260914T210000
DTSTAMP:20260422T005346
CREATED:20260217T164708Z
LAST-MODIFIED:20260330T161903Z
UID:10001744-1789410600-1789419600@www.pinetoplakesgolf.com
SUMMARY:BINGO
DESCRIPTION:Open to the Public
URL:https://www.pinetoplakesgolf.com/event/bingo-5/2026-09-14/
END:VEVENT
BEGIN:VEVENT
DTSTART;TZID=America/Phoenix:20260915T090000
DTEND;TZID=America/Phoenix:20260915T100000
DTSTAMP:20260422T005346
CREATED:20260217T164854Z
LAST-MODIFIED:20260217T164854Z
UID:10001763-1789462800-1789466400@www.pinetoplakesgolf.com
SUMMARY:Yoga in the Pines
DESCRIPTION:Member Only Yoga
URL:https://www.pinetoplakesgolf.com/event/yoga-in-the-pines/2026-09-15/
END:VEVENT
BEGIN:VEVENT
DTSTART;TZID=America/Phoenix:20260915T090000
DTEND;TZID=America/Phoenix:20260915T110000
DTSTAMP:20260422T005346
CREATED:20260330T162817Z
LAST-MODIFIED:20260330T165126Z
UID:10001982-1789462800-1789470000@www.pinetoplakesgolf.com
SUMMARY:WGA 9-Hole League
DESCRIPTION:Member League Play
URL:https://www.pinetoplakesgolf.com/event/wga-9-hole-league/2026-09-15/
END:VEVENT
BEGIN:VEVENT
DTSTART;TZID=America/Phoenix:20260915T094500
DTEND;TZID=America/Phoenix:20260915T113000
DTSTAMP:20260422T005346
CREATED:20260217T160855Z
LAST-MODIFIED:20260217T160855Z
UID:10001559-1789465500-1789471800@www.pinetoplakesgolf.com
SUMMARY:MGA 9-Hole League
DESCRIPTION:Member League Play
URL:https://www.pinetoplakesgolf.com/event/mga-9-hole-league/2026-09-15/
END:VEVENT
BEGIN:VEVENT
DTSTART;TZID=America/Phoenix:20260915T123000
DTEND;TZID=America/Phoenix:20260915T150000
DTSTAMP:20260422T005346
CREATED:20260217T165001Z
LAST-MODIFIED:20260217T165001Z
UID:10001782-1789475400-1789484400@www.pinetoplakesgolf.com
SUMMARY:Bridge
DESCRIPTION:
URL:https://www.pinetoplakesgolf.com/event/bridge/2026-09-15/
END:VEVENT
BEGIN:VEVENT
DTSTART;TZID=America/Phoenix:20260915T140000
DTEND;TZID=America/Phoenix:20260915T170000
DTSTAMP:20260422T005346
CREATED:20260217T161737Z
LAST-MODIFIED:20260330T164657Z
UID:10002055-1789480800-1789491600@www.pinetoplakesgolf.com
SUMMARY:Swing & Swig
DESCRIPTION:Afternoon Member Play
URL:https://www.pinetoplakesgolf.com/event/swing-swig-2/2026-09-15/
END:VEVENT
BEGIN:VEVENT
DTSTART;TZID=America/Phoenix:20260916T083000
DTEND;TZID=America/Phoenix:20260916T123000
DTSTAMP:20260422T005346
CREATED:20260217T162201Z
LAST-MODIFIED:20260217T162201Z
UID:10001724-1789547400-1789561800@www.pinetoplakesgolf.com
SUMMARY:WGA 18-Hole League
DESCRIPTION:Member League Play
URL:https://www.pinetoplakesgolf.com/event/wga-18-hole-league/2026-09-16/
END:VEVENT
BEGIN:VEVENT
DTSTART;TZID=America/Phoenix:20260916T123000
DTEND;TZID=America/Phoenix:20260916T140000
DTSTAMP:20260422T005346
CREATED:20260302T203524Z
LAST-MODIFIED:20260302T203524Z
UID:10001873-1789561800-1789567200@www.pinetoplakesgolf.com
SUMMARY:WGA League Awards Banquet
DESCRIPTION:
URL:https://www.pinetoplakesgolf.com/event/wga-league-awards-banquet/
END:VEVENT
BEGIN:VEVENT
DTSTART;TZID=America/Phoenix:20260916T183000
DTEND;TZID=America/Phoenix:20260916T203000
DTSTAMP:20260422T005346
CREATED:20260302T203614Z
LAST-MODIFIED:20260330T164022Z
UID:10001874-1789583400-1789590600@www.pinetoplakesgolf.com
SUMMARY:Member Game Night - Majority Rules
DESCRIPTION:
URL:https://www.pinetoplakesgolf.com/event/member-game-night-majority-rules-2/
END:VEVENT
BEGIN:VEVENT
DTSTART;TZID=America/Phoenix:20260917T083000
DTEND;TZID=America/Phoenix:20260917T120000
DTSTAMP:20260422T005346
CREATED:20260217T160510Z
LAST-MODIFIED:20260217T160510Z
UID:10001531-1789633800-1789646400@www.pinetoplakesgolf.com
SUMMARY:Men's 18-Hole League
DESCRIPTION:Member League Play
URL:https://www.pinetoplakesgolf.com/event/mens-18-hole-league/2026-09-17/
END:VEVENT
BEGIN:VEVENT
DTSTART;TZID=America/Phoenix:20260917T143000
DTEND;TZID=America/Phoenix:20260917T170000
DTSTAMP:20260422T005346
CREATED:20260330T161656Z
LAST-MODIFIED:20260330T161656Z
UID:10001912-1789655400-1789664400@www.pinetoplakesgolf.com
SUMMARY:Bingo
DESCRIPTION:Thursday afternoon Bingo\, open to the public
URL:https://www.pinetoplakesgolf.com/event/bingo-6/2026-09-17/
END:VEVENT
BEGIN:VEVENT
DTSTART;TZID=America/Phoenix:20260918T080000
DTEND;TZID=America/Phoenix:20260918T120000
DTSTAMP:20260422T005346
CREATED:20260227T173435Z
LAST-MODIFIED:20260420T171852Z
UID:10002226-1789718400-1789732800@www.pinetoplakesgolf.com
SUMMARY:Old Strokes
DESCRIPTION:League Play
URL:https://www.pinetoplakesgolf.com/event/old-strokes-56/2026-09-18/
END:VEVENT
BEGIN:VEVENT
DTSTART;TZID=America/Phoenix:20260918T090000
DTEND;TZID=America/Phoenix:20260918T130000
DTSTAMP:20260422T005346
CREATED:20260217T173701Z
LAST-MODIFIED:20260217T174230Z
UID:10001801-1789722000-1789736400@www.pinetoplakesgolf.com
SUMMARY:One Putters
DESCRIPTION:Ladies Member League
URL:https://www.pinetoplakesgolf.com/event/one-putters-27/2026-09-18/
END:VEVENT
BEGIN:VEVENT
DTSTART;TZID=America/Phoenix:20260919T080000
DTEND;TZID=America/Phoenix:20260919T120000
DTSTAMP:20260422T005346
CREATED:20260302T203645Z
LAST-MODIFIED:20260302T203645Z
UID:10001875-1789804800-1789819200@www.pinetoplakesgolf.com
SUMMARY:The Den Golf Tournament
DESCRIPTION:
URL:https://www.pinetoplakesgolf.com/event/the-den-golf-tournament/
END:VEVENT
BEGIN:VEVENT
DTSTART;TZID=America/Phoenix:20260919T080000
DTEND;TZID=America/Phoenix:20260919T170000
DTSTAMP:20260422T005346
CREATED:20260217T180339Z
LAST-MODIFIED:20260217T180339Z
UID:10001822-1789804800-1789837200@www.pinetoplakesgolf.com
SUMMARY:Yoga
DESCRIPTION:Member Only Yoga
URL:https://www.pinetoplakesgolf.com/event/yoga/2026-09-19/
END:VEVENT
BEGIN:VEVENT
DTSTART;TZID=America/Phoenix:20260921T080000
DTEND;TZID=America/Phoenix:20260921T090000
DTSTAMP:20260422T005346
CREATED:20260217T155838Z
LAST-MODIFIED:20260217T155838Z
UID:10001504-1789977600-1789981200@www.pinetoplakesgolf.com
SUMMARY:Board Meeting
DESCRIPTION:Monthly Board Meeting in Member’s Room
URL:https://www.pinetoplakesgolf.com/event/board-meeting-3/2026-09-21/
END:VEVENT
BEGIN:VEVENT
DTSTART;TZID=America/Phoenix:20260921T080000
DTEND;TZID=America/Phoenix:20260921T120000
DTSTAMP:20260422T005346
CREATED:20260420T171651Z
LAST-MODIFIED:20260420T171652Z
UID:10002076-1789977600-1789992000@www.pinetoplakesgolf.com
SUMMARY:Old Strokes
DESCRIPTION:
URL:https://www.pinetoplakesgolf.com/event/old-strokes-58-2/2026-09-21/
END:VEVENT
BEGIN:VEVENT
DTSTART;TZID=America/Phoenix:20260921T183000
DTEND;TZID=America/Phoenix:20260921T210000
DTSTAMP:20260422T005346
CREATED:20260217T164708Z
LAST-MODIFIED:20260330T161903Z
UID:10001745-1790015400-1790024400@www.pinetoplakesgolf.com
SUMMARY:BINGO
DESCRIPTION:Open to the Public
URL:https://www.pinetoplakesgolf.com/event/bingo-5/2026-09-21/
END:VEVENT
BEGIN:VEVENT
DTSTART;TZID=America/Phoenix:20260922T090000
DTEND;TZID=America/Phoenix:20260922T100000
DTSTAMP:20260422T005346
CREATED:20260217T164854Z
LAST-MODIFIED:20260217T164854Z
UID:10001764-1790067600-1790071200@www.pinetoplakesgolf.com
SUMMARY:Yoga in the Pines
DESCRIPTION:Member Only Yoga
URL:https://www.pinetoplakesgolf.com/event/yoga-in-the-pines/2026-09-22/
END:VEVENT
BEGIN:VEVENT
DTSTART;TZID=America/Phoenix:20260922T094500
DTEND;TZID=America/Phoenix:20260922T113000
DTSTAMP:20260422T005346
CREATED:20260217T160855Z
LAST-MODIFIED:20260217T160855Z
UID:10001560-1790070300-1790076600@www.pinetoplakesgolf.com
SUMMARY:MGA 9-Hole League
DESCRIPTION:Member League Play
URL:https://www.pinetoplakesgolf.com/event/mga-9-hole-league/2026-09-22/
END:VEVENT
BEGIN:VEVENT
DTSTART;TZID=America/Phoenix:20260922T123000
DTEND;TZID=America/Phoenix:20260922T150000
DTSTAMP:20260422T005346
CREATED:20260217T165001Z
LAST-MODIFIED:20260217T165001Z
UID:10001783-1790080200-1790089200@www.pinetoplakesgolf.com
SUMMARY:Bridge
DESCRIPTION:
URL:https://www.pinetoplakesgolf.com/event/bridge/2026-09-22/
END:VEVENT
BEGIN:VEVENT
DTSTART;TZID=America/Phoenix:20260922T140000
DTEND;TZID=America/Phoenix:20260922T170000
DTSTAMP:20260422T005346
CREATED:20260217T161737Z
LAST-MODIFIED:20260330T164657Z
UID:10002056-1790085600-1790096400@www.pinetoplakesgolf.com
SUMMARY:Swing & Swig
DESCRIPTION:Afternoon Member Play
URL:https://www.pinetoplakesgolf.com/event/swing-swig-2/2026-09-22/
END:VEVENT
BEGIN:VEVENT
DTSTART;TZID=America/Phoenix:20260923T083000
DTEND;TZID=America/Phoenix:20260923T123000
DTSTAMP:20260422T005346
CREATED:20260217T162201Z
LAST-MODIFIED:20260217T162201Z
UID:10001725-1790152200-1790166600@www.pinetoplakesgolf.com
SUMMARY:WGA 18-Hole League
DESCRIPTION:Member League Play
URL:https://www.pinetoplakesgolf.com/event/wga-18-hole-league/2026-09-23/
END:VEVENT
BEGIN:VEVENT
DTSTART;TZID=America/Phoenix:20260924T083000
DTEND;TZID=America/Phoenix:20260924T120000
DTSTAMP:20260422T005346
CREATED:20260217T160510Z
LAST-MODIFIED:20260217T160510Z
UID:10001532-1790238600-1790251200@www.pinetoplakesgolf.com
SUMMARY:Men's 18-Hole League
DESCRIPTION:Member League Play
URL:https://www.pinetoplakesgolf.com/event/mens-18-hole-league/2026-09-24/
END:VEVENT
BEGIN:VEVENT
DTSTART;TZID=America/Phoenix:20260924T143000
DTEND;TZID=America/Phoenix:20260924T170000
DTSTAMP:20260422T005346
CREATED:20260330T161656Z
LAST-MODIFIED:20260330T161656Z
UID:10001913-1790260200-1790269200@www.pinetoplakesgolf.com
SUMMARY:Bingo
DESCRIPTION:Thursday afternoon Bingo\, open to the public
URL:https://www.pinetoplakesgolf.com/event/bingo-6/2026-09-24/
END:VEVENT
BEGIN:VEVENT
DTSTART;VALUE=DATE:20260925
DTEND;VALUE=DATE:20260928
DTSTAMP:20260422T005346
CREATED:20260302T203756Z
LAST-MODIFIED:20260302T203756Z
UID:10001876-1790294400-1790553599@www.pinetoplakesgolf.com
SUMMARY:Run to the Pines Car Show
DESCRIPTION:
URL:https://www.pinetoplakesgolf.com/event/run-to-the-pines-car-show-3/
END:VEVENT
END:VCALENDAR