BEGIN:VCALENDAR
VERSION:2.0
PRODID:-//Pinetop Lakes Golf and Country Club - ECPv6.15.18//NONSGML v1.0//EN
CALSCALE:GREGORIAN
METHOD:PUBLISH
X-WR-CALNAME:Pinetop Lakes Golf and Country Club
X-ORIGINAL-URL:https://www.pinetoplakesgolf.com
X-WR-CALDESC:Events for Pinetop Lakes Golf and Country Club
REFRESH-INTERVAL;VALUE=DURATION:PT1H
X-Robots-Tag:noindex
X-PUBLISHED-TTL:PT1H
BEGIN:VTIMEZONE
TZID:America/Phoenix
BEGIN:STANDARD
TZOFFSETFROM:-0700
TZOFFSETTO:-0700
TZNAME:MST
DTSTART:20250101T000000
END:STANDARD
END:VTIMEZONE
BEGIN:VEVENT
DTSTART;TZID=America/Phoenix:20260822T080000
DTEND;TZID=America/Phoenix:20260822T170000
DTSTAMP:20260422T045204
CREATED:20260217T180339Z
LAST-MODIFIED:20260217T180339Z
UID:10001818-1787385600-1787418000@www.pinetoplakesgolf.com
SUMMARY:Yoga
DESCRIPTION:Member Only Yoga
URL:https://www.pinetoplakesgolf.com/event/yoga/2026-08-22/
END:VEVENT
BEGIN:VEVENT
DTSTART;TZID=America/Phoenix:20260829T080000
DTEND;TZID=America/Phoenix:20260829T170000
DTSTAMP:20260422T045204
CREATED:20260217T180339Z
LAST-MODIFIED:20260217T180339Z
UID:10001819-1787990400-1788022800@www.pinetoplakesgolf.com
SUMMARY:Yoga
DESCRIPTION:Member Only Yoga
URL:https://www.pinetoplakesgolf.com/event/yoga/2026-08-29/
END:VEVENT
BEGIN:VEVENT
DTSTART;TZID=America/Phoenix:20260905T080000
DTEND;TZID=America/Phoenix:20260905T170000
DTSTAMP:20260422T045204
CREATED:20260217T180339Z
LAST-MODIFIED:20260217T180339Z
UID:10001820-1788595200-1788627600@www.pinetoplakesgolf.com
SUMMARY:Yoga
DESCRIPTION:Member Only Yoga
URL:https://www.pinetoplakesgolf.com/event/yoga/2026-09-05/
END:VEVENT
BEGIN:VEVENT
DTSTART;TZID=America/Phoenix:20260912T080000
DTEND;TZID=America/Phoenix:20260912T170000
DTSTAMP:20260422T045204
CREATED:20260217T180339Z
LAST-MODIFIED:20260217T180339Z
UID:10001821-1789200000-1789232400@www.pinetoplakesgolf.com
SUMMARY:Yoga
DESCRIPTION:Member Only Yoga
URL:https://www.pinetoplakesgolf.com/event/yoga/2026-09-12/
END:VEVENT
BEGIN:VEVENT
DTSTART;TZID=America/Phoenix:20260919T080000
DTEND;TZID=America/Phoenix:20260919T170000
DTSTAMP:20260422T045204
CREATED:20260217T180339Z
LAST-MODIFIED:20260217T180339Z
UID:10001822-1789804800-1789837200@www.pinetoplakesgolf.com
SUMMARY:Yoga
DESCRIPTION:Member Only Yoga
URL:https://www.pinetoplakesgolf.com/event/yoga/2026-09-19/
END:VEVENT
BEGIN:VEVENT
DTSTART;TZID=America/Phoenix:20260926T080000
DTEND;TZID=America/Phoenix:20260926T170000
DTSTAMP:20260422T045204
CREATED:20260217T180339Z
LAST-MODIFIED:20260217T180339Z
UID:10001823-1790409600-1790442000@www.pinetoplakesgolf.com
SUMMARY:Yoga
DESCRIPTION:Member Only Yoga
URL:https://www.pinetoplakesgolf.com/event/yoga/2026-09-26/
END:VEVENT
END:VCALENDAR