BEGIN:VCALENDAR
VERSION:2.0
PRODID:-//Pinetop Lakes Golf and Country Club - ECPv6.15.18//NONSGML v1.0//EN
CALSCALE:GREGORIAN
METHOD:PUBLISH
X-WR-CALNAME:Pinetop Lakes Golf and Country Club
X-ORIGINAL-URL:https://www.pinetoplakesgolf.com
X-WR-CALDESC:Events for Pinetop Lakes Golf and Country Club
REFRESH-INTERVAL;VALUE=DURATION:PT1H
X-Robots-Tag:noindex
X-PUBLISHED-TTL:PT1H
BEGIN:VTIMEZONE
TZID:America/Phoenix
BEGIN:STANDARD
TZOFFSETFROM:-0700
TZOFFSETTO:-0700
TZNAME:MST
DTSTART:20250101T000000
END:STANDARD
END:VTIMEZONE
BEGIN:VEVENT
DTSTART;TZID=America/Phoenix:20260828T090000
DTEND;TZID=America/Phoenix:20260828T130000
DTSTAMP:20260422T145547
CREATED:20260217T173701Z
LAST-MODIFIED:20260217T174230Z
UID:10001798-1787907600-1787922000@www.pinetoplakesgolf.com
SUMMARY:One Putters
DESCRIPTION:Ladies Member League
URL:https://www.pinetoplakesgolf.com/event/one-putters-27/2026-08-28/
END:VEVENT
BEGIN:VEVENT
DTSTART;TZID=America/Phoenix:20260904T090000
DTEND;TZID=America/Phoenix:20260904T130000
DTSTAMP:20260422T145547
CREATED:20260217T173701Z
LAST-MODIFIED:20260217T174230Z
UID:10001799-1788512400-1788526800@www.pinetoplakesgolf.com
SUMMARY:One Putters
DESCRIPTION:Ladies Member League
URL:https://www.pinetoplakesgolf.com/event/one-putters-27/2026-09-04/
END:VEVENT
BEGIN:VEVENT
DTSTART;TZID=America/Phoenix:20260911T090000
DTEND;TZID=America/Phoenix:20260911T130000
DTSTAMP:20260422T145547
CREATED:20260217T173701Z
LAST-MODIFIED:20260217T174230Z
UID:10001800-1789117200-1789131600@www.pinetoplakesgolf.com
SUMMARY:One Putters
DESCRIPTION:Ladies Member League
URL:https://www.pinetoplakesgolf.com/event/one-putters-27/2026-09-11/
END:VEVENT
BEGIN:VEVENT
DTSTART;TZID=America/Phoenix:20260918T090000
DTEND;TZID=America/Phoenix:20260918T130000
DTSTAMP:20260422T145547
CREATED:20260217T173701Z
LAST-MODIFIED:20260217T174230Z
UID:10001801-1789722000-1789736400@www.pinetoplakesgolf.com
SUMMARY:One Putters
DESCRIPTION:Ladies Member League
URL:https://www.pinetoplakesgolf.com/event/one-putters-27/2026-09-18/
END:VEVENT
BEGIN:VEVENT
DTSTART;TZID=America/Phoenix:20260925T090000
DTEND;TZID=America/Phoenix:20260925T130000
DTSTAMP:20260422T145547
CREATED:20260217T173701Z
LAST-MODIFIED:20260217T174230Z
UID:10001802-1790326800-1790341200@www.pinetoplakesgolf.com
SUMMARY:One Putters
DESCRIPTION:Ladies Member League
URL:https://www.pinetoplakesgolf.com/event/one-putters-27/2026-09-25/
END:VEVENT
END:VCALENDAR