BEGIN:VCALENDAR
VERSION:2.0
PRODID:-//Pinetop Lakes Golf and Country Club - ECPv6.15.18//NONSGML v1.0//EN
CALSCALE:GREGORIAN
METHOD:PUBLISH
X-WR-CALNAME:Pinetop Lakes Golf and Country Club
X-ORIGINAL-URL:https://www.pinetoplakesgolf.com
X-WR-CALDESC:Events for Pinetop Lakes Golf and Country Club
REFRESH-INTERVAL;VALUE=DURATION:PT1H
X-Robots-Tag:noindex
X-PUBLISHED-TTL:PT1H
BEGIN:VTIMEZONE
TZID:America/Phoenix
BEGIN:STANDARD
TZOFFSETFROM:-0700
TZOFFSETTO:-0700
TZNAME:MST
DTSTART:20250101T000000
END:STANDARD
END:VTIMEZONE
BEGIN:VEVENT
DTSTART;TZID=America/Phoenix:20260824T183000
DTEND;TZID=America/Phoenix:20260824T210000
DTSTAMP:20260422T145542
CREATED:20260217T164708Z
LAST-MODIFIED:20260330T161903Z
UID:10001741-1787596200-1787605200@www.pinetoplakesgolf.com
SUMMARY:BINGO
DESCRIPTION:Open to the Public
URL:https://www.pinetoplakesgolf.com/event/bingo-5/2026-08-24/
END:VEVENT
BEGIN:VEVENT
DTSTART;TZID=America/Phoenix:20260831T183000
DTEND;TZID=America/Phoenix:20260831T210000
DTSTAMP:20260422T145542
CREATED:20260217T164708Z
LAST-MODIFIED:20260330T161903Z
UID:10001742-1788201000-1788210000@www.pinetoplakesgolf.com
SUMMARY:BINGO
DESCRIPTION:Open to the Public
URL:https://www.pinetoplakesgolf.com/event/bingo-5/2026-08-31/
END:VEVENT
BEGIN:VEVENT
DTSTART;TZID=America/Phoenix:20260907T183000
DTEND;TZID=America/Phoenix:20260907T210000
DTSTAMP:20260422T145542
CREATED:20260217T164708Z
LAST-MODIFIED:20260330T161903Z
UID:10001743-1788805800-1788814800@www.pinetoplakesgolf.com
SUMMARY:BINGO
DESCRIPTION:Open to the Public
URL:https://www.pinetoplakesgolf.com/event/bingo-5/2026-09-07/
END:VEVENT
BEGIN:VEVENT
DTSTART;TZID=America/Phoenix:20260914T183000
DTEND;TZID=America/Phoenix:20260914T210000
DTSTAMP:20260422T145542
CREATED:20260217T164708Z
LAST-MODIFIED:20260330T161903Z
UID:10001744-1789410600-1789419600@www.pinetoplakesgolf.com
SUMMARY:BINGO
DESCRIPTION:Open to the Public
URL:https://www.pinetoplakesgolf.com/event/bingo-5/2026-09-14/
END:VEVENT
BEGIN:VEVENT
DTSTART;TZID=America/Phoenix:20260921T183000
DTEND;TZID=America/Phoenix:20260921T210000
DTSTAMP:20260422T145542
CREATED:20260217T164708Z
LAST-MODIFIED:20260330T161903Z
UID:10001745-1790015400-1790024400@www.pinetoplakesgolf.com
SUMMARY:BINGO
DESCRIPTION:Open to the Public
URL:https://www.pinetoplakesgolf.com/event/bingo-5/2026-09-21/
END:VEVENT
BEGIN:VEVENT
DTSTART;TZID=America/Phoenix:20260928T183000
DTEND;TZID=America/Phoenix:20260928T210000
DTSTAMP:20260422T145542
CREATED:20260217T164708Z
LAST-MODIFIED:20260330T161903Z
UID:10001746-1790620200-1790629200@www.pinetoplakesgolf.com
SUMMARY:BINGO
DESCRIPTION:Open to the Public
URL:https://www.pinetoplakesgolf.com/event/bingo-5/2026-09-28/
END:VEVENT
END:VCALENDAR