BEGIN:VCALENDAR
VERSION:2.0
PRODID:-//Pinetop Lakes Golf and Country Club - ECPv6.15.18//NONSGML v1.0//EN
CALSCALE:GREGORIAN
METHOD:PUBLISH
X-WR-CALNAME:Pinetop Lakes Golf and Country Club
X-ORIGINAL-URL:https://www.pinetoplakesgolf.com
X-WR-CALDESC:Events for Pinetop Lakes Golf and Country Club
REFRESH-INTERVAL;VALUE=DURATION:PT1H
X-Robots-Tag:noindex
X-PUBLISHED-TTL:PT1H
BEGIN:VTIMEZONE
TZID:UTC
BEGIN:STANDARD
TZOFFSETFROM:+0000
TZOFFSETTO:+0000
TZNAME:UTC
DTSTART:20230101T000000
END:STANDARD
END:VTIMEZONE
BEGIN:VEVENT
DTSTART;TZID=UTC:20240731T163000
DTEND;TZID=UTC:20240731T193000
DTSTAMP:20260423T040553
CREATED:20240418T223423Z
LAST-MODIFIED:20240606T062713Z
UID:10000134-1722443400-1722454200@www.pinetoplakesgolf.com
SUMMARY:Music in the Pines (KT Klassics)
DESCRIPTION:
URL:https://www.pinetoplakesgolf.com/event/music-in-the-pines-kt-klassics-2/
END:VEVENT
BEGIN:VEVENT
DTSTART;TZID=UTC:20240731T153000
DTEND;TZID=UTC:20240731T163000
DTSTAMP:20260423T040553
CREATED:20240720T052831Z
LAST-MODIFIED:20240720T052831Z
UID:10000689-1722439800-1722443400@www.pinetoplakesgolf.com
SUMMARY:MITP Line Dancing
DESCRIPTION:Free line dancing before Music In The Pines
URL:https://www.pinetoplakesgolf.com/event/mitp-line-dancing/2024-07-31/
END:VEVENT
BEGIN:VEVENT
DTSTART;TZID=UTC:20240731T130000
DTEND;TZID=UTC:20240731T130000
DTSTAMP:20260423T040553
CREATED:20240418T223335Z
LAST-MODIFIED:20240426T223844Z
UID:10000133-1722430800-1722430800@www.pinetoplakesgolf.com
SUMMARY:Women's Golf Association Meeting
DESCRIPTION:
URL:https://www.pinetoplakesgolf.com/event/1-pm-womens-golf-association-meeting/
ATTACH;FMTTYPE=image/jpeg:https://www.pinetoplakesgolf.com/wp-content/uploads/sites/8955/2024/04/img_golf_1x_5b652e.jpg
END:VEVENT
BEGIN:VEVENT
DTSTART;TZID=UTC:20240731T083000
DTEND;TZID=UTC:20240731T083000
DTSTAMP:20260423T040553
CREATED:20240418T223250Z
LAST-MODIFIED:20240426T223804Z
UID:10000132-1722414600-1722414600@www.pinetoplakesgolf.com
SUMMARY:Women's 18-Hole League
DESCRIPTION:
URL:https://www.pinetoplakesgolf.com/event/womens-18-hole-league-11/
END:VEVENT
BEGIN:VEVENT
DTSTART;TZID=UTC:20240730T140000
DTEND;TZID=UTC:20240730T140000
DTSTAMP:20260423T040553
CREATED:20240418T223155Z
LAST-MODIFIED:20240426T223718Z
UID:10000131-1722348000-1722348000@www.pinetoplakesgolf.com
SUMMARY:Swing and Swig
DESCRIPTION:
URL:https://www.pinetoplakesgolf.com/event/swing-and-swig-12/
END:VEVENT
BEGIN:VEVENT
DTSTART;TZID=UTC:20240730T130000
DTEND;TZID=UTC:20240730T160000
DTSTAMP:20260423T040553
CREATED:20240617T234323Z
LAST-MODIFIED:20241002T213440Z
UID:10000617-1722344400-1722355200@www.pinetoplakesgolf.com
SUMMARY:Bridge in Barclay's @ Pinetop Lakes
DESCRIPTION:
URL:https://www.pinetoplakesgolf.com/event/bridge-in-barclays-pinetop-lakes/2024-07-30/
END:VEVENT
BEGIN:VEVENT
DTSTART;TZID=UTC:20240730T090000
DTEND;TZID=UTC:20240730T090000
DTSTAMP:20260423T040553
CREATED:20240418T223128Z
LAST-MODIFIED:20240717T010739Z
UID:10000130-1722330000-1722330000@www.pinetoplakesgolf.com
SUMMARY:Women's 9-Hole League
DESCRIPTION:
URL:https://www.pinetoplakesgolf.com/event/womens-9-hole-league-11/
END:VEVENT
BEGIN:VEVENT
DTSTART;TZID=UTC:20240730T080000
DTEND;TZID=UTC:20240730T090000
DTSTAMP:20260423T040553
CREATED:20240524T002807Z
LAST-MODIFIED:20241002T213731Z
UID:10000461-1722326400-1722330000@www.pinetoplakesgolf.com
SUMMARY:Member Yoga
DESCRIPTION:
URL:https://www.pinetoplakesgolf.com/event/member-yoga-4/2024-07-30/
END:VEVENT
BEGIN:VEVENT
DTSTART;TZID=UTC:20240730T080000
DTEND;TZID=UTC:20240730T080000
DTSTAMP:20260423T040553
CREATED:20240418T222408Z
LAST-MODIFIED:20240426T223550Z
UID:10000129-1722326400-1722326400@www.pinetoplakesgolf.com
SUMMARY:Men's 9-Hole
DESCRIPTION:
URL:https://www.pinetoplakesgolf.com/event/mens-9-hole-14/
END:VEVENT
BEGIN:VEVENT
DTSTART;TZID=UTC:20240729T183000
DTEND;TZID=UTC:20240729T183000
DTSTAMP:20260423T040553
CREATED:20240524T000403Z
LAST-MODIFIED:20240831T050508Z
UID:10000321-1722277800-1722277800@www.pinetoplakesgolf.com
SUMMARY:Bingo
DESCRIPTION:
URL:https://www.pinetoplakesgolf.com/event/bingo-4/2024-07-29/
END:VEVENT
BEGIN:VEVENT
DTSTART;TZID=UTC:20240729T140000
DTEND;TZID=UTC:20240729T140000
DTSTAMP:20260423T040553
CREATED:20240507T234801Z
LAST-MODIFIED:20241002T212951Z
UID:10000249-1722261600-1722261600@www.pinetoplakesgolf.com
SUMMARY:150 League
DESCRIPTION:
URL:https://www.pinetoplakesgolf.com/event/150-league/2024-07-29/
END:VEVENT
BEGIN:VEVENT
DTSTART;TZID=UTC:20240729T090000
DTEND;TZID=UTC:20240729T090000
DTSTAMP:20260423T040553
CREATED:20240418T222337Z
LAST-MODIFIED:20240426T223518Z
UID:10000128-1722243600-1722243600@www.pinetoplakesgolf.com
SUMMARY:Ryder Cup
DESCRIPTION:
URL:https://www.pinetoplakesgolf.com/event/ryder-cup/
END:VEVENT
BEGIN:VEVENT
DTSTART;TZID=UTC:20240729T083000
DTEND;TZID=UTC:20240729T083000
DTSTAMP:20260423T040553
CREATED:20240418T222309Z
LAST-MODIFIED:20240426T223442Z
UID:10000127-1722241800-1722241800@www.pinetoplakesgolf.com
SUMMARY:Women's Team Play at Pinetop Lakes
DESCRIPTION:
URL:https://www.pinetoplakesgolf.com/event/womens-team-play-at-pinetop-lakes/
END:VEVENT
BEGIN:VEVENT
DTSTART;TZID=UTC:20240727T080000
DTEND;TZID=UTC:20240727T080000
DTSTAMP:20260423T040553
CREATED:20240507T233954Z
LAST-MODIFIED:20240507T234026Z
UID:10000235-1722067200-1722067200@www.pinetoplakesgolf.com
SUMMARY:Will Broder
DESCRIPTION:Shotgun Start 8:00am
URL:https://www.pinetoplakesgolf.com/event/will-broder/
END:VEVENT
BEGIN:VEVENT
DTSTART;TZID=UTC:20240725T080000
DTEND;TZID=UTC:20240725T090000
DTSTAMP:20260423T040553
CREATED:20240509T025946Z
LAST-MODIFIED:20241002T213125Z
UID:10000532-1721894400-1721898000@www.pinetoplakesgolf.com
SUMMARY:Member Yoga
DESCRIPTION:
URL:https://www.pinetoplakesgolf.com/event/member-yoga-2/2024-07-25/
END:VEVENT
BEGIN:VEVENT
DTSTART;TZID=UTC:20240725T080000
DTEND;TZID=UTC:20240725T080000
DTSTAMP:20260423T040553
CREATED:20240418T222144Z
LAST-MODIFIED:20240426T223002Z
UID:10000124-1721894400-1721894400@www.pinetoplakesgolf.com
SUMMARY:Men's Club Invitational Day 1
DESCRIPTION:
URL:https://www.pinetoplakesgolf.com/event/mens-18-hole-14/
END:VEVENT
BEGIN:VEVENT
DTSTART;TZID=UTC:20240724T130000
DTEND;TZID=UTC:20240724T130000
DTSTAMP:20260423T040553
CREATED:20240418T222117Z
LAST-MODIFIED:20240426T222620Z
UID:10000123-1721826000-1721826000@www.pinetoplakesgolf.com
SUMMARY:Men's Club Invitational Practice Rounds
DESCRIPTION:
URL:https://www.pinetoplakesgolf.com/event/mens-club-invitational-practice-rounds/
END:VEVENT
BEGIN:VEVENT
DTSTART;TZID=UTC:20240724T083000
DTEND;TZID=UTC:20240724T083000
DTSTAMP:20260423T040553
CREATED:20240418T222052Z
LAST-MODIFIED:20240426T222539Z
UID:10000122-1721809800-1721809800@www.pinetoplakesgolf.com
SUMMARY:Women's 18-Hole League
DESCRIPTION:
URL:https://www.pinetoplakesgolf.com/event/womens-18-hole-league-10/
END:VEVENT
BEGIN:VEVENT
DTSTART;TZID=UTC:20240723T140000
DTEND;TZID=UTC:20240723T140000
DTSTAMP:20260423T040553
CREATED:20240418T222026Z
LAST-MODIFIED:20240426T222510Z
UID:10000121-1721743200-1721743200@www.pinetoplakesgolf.com
SUMMARY:Swing and Swig
DESCRIPTION:
URL:https://www.pinetoplakesgolf.com/event/swing-and-swig-11/
END:VEVENT
BEGIN:VEVENT
DTSTART;TZID=UTC:20240723T130000
DTEND;TZID=UTC:20240723T160000
DTSTAMP:20260423T040553
CREATED:20240617T234323Z
LAST-MODIFIED:20241002T213440Z
UID:10000616-1721739600-1721750400@www.pinetoplakesgolf.com
SUMMARY:Bridge in Barclay's @ Pinetop Lakes
DESCRIPTION:
URL:https://www.pinetoplakesgolf.com/event/bridge-in-barclays-pinetop-lakes/2024-07-23/
END:VEVENT
BEGIN:VEVENT
DTSTART;TZID=UTC:20240723T090000
DTEND;TZID=UTC:20240723T090000
DTSTAMP:20260423T040553
CREATED:20240418T221954Z
LAST-MODIFIED:20240717T010707Z
UID:10000120-1721725200-1721725200@www.pinetoplakesgolf.com
SUMMARY:Women's 9-Hole League
DESCRIPTION:
URL:https://www.pinetoplakesgolf.com/event/womens-9-hole-league-10/
END:VEVENT
BEGIN:VEVENT
DTSTART;TZID=UTC:20240723T080000
DTEND;TZID=UTC:20240723T090000
DTSTAMP:20260423T040553
CREATED:20240524T002807Z
LAST-MODIFIED:20241002T213731Z
UID:10000460-1721721600-1721725200@www.pinetoplakesgolf.com
SUMMARY:Member Yoga
DESCRIPTION:
URL:https://www.pinetoplakesgolf.com/event/member-yoga-4/2024-07-23/
END:VEVENT
BEGIN:VEVENT
DTSTART;TZID=UTC:20240723T080000
DTEND;TZID=UTC:20240723T080000
DTSTAMP:20260423T040553
CREATED:20240418T221916Z
LAST-MODIFIED:20240426T222345Z
UID:10000119-1721721600-1721721600@www.pinetoplakesgolf.com
SUMMARY:Men's 9-Hole
DESCRIPTION:
URL:https://www.pinetoplakesgolf.com/event/mens-9-hole-13/
END:VEVENT
BEGIN:VEVENT
DTSTART;TZID=UTC:20240722T183000
DTEND;TZID=UTC:20240722T183000
DTSTAMP:20260423T040553
CREATED:20240524T000403Z
LAST-MODIFIED:20240831T050508Z
UID:10000320-1721673000-1721673000@www.pinetoplakesgolf.com
SUMMARY:Bingo
DESCRIPTION:
URL:https://www.pinetoplakesgolf.com/event/bingo-4/2024-07-22/
END:VEVENT
BEGIN:VEVENT
DTSTART;TZID=UTC:20240722T140000
DTEND;TZID=UTC:20240722T140000
DTSTAMP:20260423T040553
CREATED:20240507T234801Z
LAST-MODIFIED:20241002T212951Z
UID:10000248-1721656800-1721656800@www.pinetoplakesgolf.com
SUMMARY:150 League
DESCRIPTION:
URL:https://www.pinetoplakesgolf.com/event/150-league/2024-07-22/
END:VEVENT
BEGIN:VEVENT
DTSTART;TZID=UTC:20240722T090000
DTEND;TZID=UTC:20240722T090000
DTSTAMP:20260423T040553
CREATED:20240418T221847Z
LAST-MODIFIED:20240426T222319Z
UID:10000118-1721638800-1721638800@www.pinetoplakesgolf.com
SUMMARY:Old Strokes
DESCRIPTION:
URL:https://www.pinetoplakesgolf.com/event/old-strokes-27/
END:VEVENT
BEGIN:VEVENT
DTSTART;TZID=UTC:20240722T080000
DTEND;TZID=UTC:20240722T080000
DTSTAMP:20260423T040553
CREATED:20240418T220216Z
LAST-MODIFIED:20240617T234734Z
UID:10000106-1721635200-1721635200@www.pinetoplakesgolf.com
SUMMARY:Board Meeting Members Room
DESCRIPTION:
URL:https://www.pinetoplakesgolf.com/event/board-meeting-members-room-4/
END:VEVENT
BEGIN:VEVENT
DTSTART;TZID=UTC:20240720T074500
DTEND;TZID=UTC:20240720T074500
DTSTAMP:20260423T040553
CREATED:20240507T233801Z
LAST-MODIFIED:20240507T233801Z
UID:10000234-1721461500-1721461500@www.pinetoplakesgolf.com
SUMMARY:Tempe Diablos
DESCRIPTION:7:45 Tee Times
URL:https://www.pinetoplakesgolf.com/event/tempe-diablos/
END:VEVENT
BEGIN:VEVENT
DTSTART;TZID=UTC:20240719T094500
DTEND;TZID=UTC:20240719T094500
DTSTAMP:20260423T040553
CREATED:20240418T221712Z
LAST-MODIFIED:20240426T222249Z
UID:10000117-1721382300-1721382300@www.pinetoplakesgolf.com
SUMMARY:One Putters
DESCRIPTION:
URL:https://www.pinetoplakesgolf.com/event/one-putters-13/
END:VEVENT
BEGIN:VEVENT
DTSTART;TZID=UTC:20240719T090000
DTEND;TZID=UTC:20240719T090000
DTSTAMP:20260423T040553
CREATED:20240418T221633Z
LAST-MODIFIED:20240426T222210Z
UID:10000116-1721379600-1721379600@www.pinetoplakesgolf.com
SUMMARY:Old Strokes
DESCRIPTION:
URL:https://www.pinetoplakesgolf.com/event/old-strokes-26/
END:VEVENT
END:VCALENDAR