BEGIN:VCALENDAR
VERSION:2.0
PRODID:-//Pinetop Lakes Golf and Country Club - ECPv6.15.18//NONSGML v1.0//EN
CALSCALE:GREGORIAN
METHOD:PUBLISH
X-ORIGINAL-URL:https://www.pinetoplakesgolf.com
X-WR-CALDESC:Events for Pinetop Lakes Golf and Country Club
REFRESH-INTERVAL;VALUE=DURATION:PT1H
X-Robots-Tag:noindex
X-PUBLISHED-TTL:PT1H
BEGIN:VTIMEZONE
TZID:America/Phoenix
BEGIN:STANDARD
TZOFFSETFROM:-0700
TZOFFSETTO:-0700
TZNAME:MST
DTSTART:20250101T000000
END:STANDARD
END:VTIMEZONE
BEGIN:VEVENT
DTSTART;TZID=America/Phoenix:20260806T143000
DTEND;TZID=America/Phoenix:20260806T170000
DTSTAMP:20260421T093327
CREATED:20260330T161656Z
LAST-MODIFIED:20260330T161656Z
UID:10001906-1786026600-1786035600@www.pinetoplakesgolf.com
SUMMARY:Bingo
DESCRIPTION:Thursday afternoon Bingo\, open to the public
URL:https://www.pinetoplakesgolf.com/event/bingo-6/2026-08-06/
END:VEVENT
BEGIN:VEVENT
DTSTART;TZID=America/Phoenix:20260807T080000
DTEND;TZID=America/Phoenix:20260807T120000
DTSTAMP:20260421T093327
CREATED:20260420T172031Z
LAST-MODIFIED:20260420T172031Z
UID:10002236-1786089600-1786104000@www.pinetoplakesgolf.com
SUMMARY:Old Strokes Ryder Cup
DESCRIPTION:
URL:https://www.pinetoplakesgolf.com/event/old-strokes-ryder-cup-3/2026-08-07/
END:VEVENT
BEGIN:VEVENT
DTSTART;TZID=America/Phoenix:20260807T090000
DTEND;TZID=America/Phoenix:20260807T130000
DTSTAMP:20260421T093327
CREATED:20260217T173701Z
LAST-MODIFIED:20260217T174230Z
UID:10001795-1786093200-1786107600@www.pinetoplakesgolf.com
SUMMARY:One Putters
DESCRIPTION:Ladies Member League
URL:https://www.pinetoplakesgolf.com/event/one-putters-27/2026-08-07/
END:VEVENT
BEGIN:VEVENT
DTSTART;TZID=America/Phoenix:20260808T080000
DTEND;TZID=America/Phoenix:20260808T170000
DTSTAMP:20260421T093327
CREATED:20260217T180339Z
LAST-MODIFIED:20260217T180339Z
UID:10001816-1786176000-1786208400@www.pinetoplakesgolf.com
SUMMARY:Yoga
DESCRIPTION:Member Only Yoga
URL:https://www.pinetoplakesgolf.com/event/yoga/2026-08-08/
END:VEVENT
BEGIN:VEVENT
DTSTART;TZID=America/Phoenix:20260810T080000
DTEND;TZID=America/Phoenix:20260810T120000
DTSTAMP:20260421T093327
CREATED:20260302T202515Z
LAST-MODIFIED:20260302T202515Z
UID:10001862-1786348800-1786363200@www.pinetoplakesgolf.com
SUMMARY:Giggles Tournament
DESCRIPTION:Breast Cancer Awareness Fundraiser
URL:https://www.pinetoplakesgolf.com/event/giggles-tournament-3/2026-08-10/
END:VEVENT
BEGIN:VEVENT
DTSTART;TZID=America/Phoenix:20260810T080000
DTEND;TZID=America/Phoenix:20260810T120000
DTSTAMP:20260421T093327
CREATED:20260420T171651Z
LAST-MODIFIED:20260420T171652Z
UID:10002070-1786348800-1786363200@www.pinetoplakesgolf.com
SUMMARY:Old Strokes
DESCRIPTION:
URL:https://www.pinetoplakesgolf.com/event/old-strokes-58-2/2026-08-10/
END:VEVENT
BEGIN:VEVENT
DTSTART;TZID=America/Phoenix:20260810T183000
DTEND;TZID=America/Phoenix:20260810T210000
DTSTAMP:20260421T093327
CREATED:20260217T164708Z
LAST-MODIFIED:20260330T161903Z
UID:10001739-1786386600-1786395600@www.pinetoplakesgolf.com
SUMMARY:BINGO
DESCRIPTION:Open to the Public
URL:https://www.pinetoplakesgolf.com/event/bingo-5/2026-08-10/
END:VEVENT
BEGIN:VEVENT
DTSTART;TZID=America/Phoenix:20260811T080000
DTEND;TZID=America/Phoenix:20260811T120000
DTSTAMP:20260421T093327
CREATED:20260302T202515Z
LAST-MODIFIED:20260302T202515Z
UID:10001863-1786435200-1786449600@www.pinetoplakesgolf.com
SUMMARY:Giggles Tournament
DESCRIPTION:Breast Cancer Awareness Fundraiser
URL:https://www.pinetoplakesgolf.com/event/giggles-tournament-3/2026-08-11/
END:VEVENT
BEGIN:VEVENT
DTSTART;TZID=America/Phoenix:20260811T090000
DTEND;TZID=America/Phoenix:20260811T100000
DTSTAMP:20260421T093327
CREATED:20260217T164854Z
LAST-MODIFIED:20260217T164854Z
UID:10001758-1786438800-1786442400@www.pinetoplakesgolf.com
SUMMARY:Yoga in the Pines
DESCRIPTION:Member Only Yoga
URL:https://www.pinetoplakesgolf.com/event/yoga-in-the-pines/2026-08-11/
END:VEVENT
BEGIN:VEVENT
DTSTART;TZID=America/Phoenix:20260811T090000
DTEND;TZID=America/Phoenix:20260811T110000
DTSTAMP:20260421T093327
CREATED:20260330T162817Z
LAST-MODIFIED:20260330T165126Z
UID:10001977-1786438800-1786446000@www.pinetoplakesgolf.com
SUMMARY:WGA 9-Hole League
DESCRIPTION:Member League Play
URL:https://www.pinetoplakesgolf.com/event/wga-9-hole-league/2026-08-11/
END:VEVENT
BEGIN:VEVENT
DTSTART;TZID=America/Phoenix:20260811T094500
DTEND;TZID=America/Phoenix:20260811T113000
DTSTAMP:20260421T093327
CREATED:20260217T160855Z
LAST-MODIFIED:20260217T160855Z
UID:10001554-1786441500-1786447800@www.pinetoplakesgolf.com
SUMMARY:MGA 9-Hole League
DESCRIPTION:Member League Play
URL:https://www.pinetoplakesgolf.com/event/mga-9-hole-league/2026-08-11/
END:VEVENT
BEGIN:VEVENT
DTSTART;TZID=America/Phoenix:20260811T123000
DTEND;TZID=America/Phoenix:20260811T150000
DTSTAMP:20260421T093327
CREATED:20260217T165001Z
LAST-MODIFIED:20260217T165001Z
UID:10001777-1786451400-1786460400@www.pinetoplakesgolf.com
SUMMARY:Bridge
DESCRIPTION:
URL:https://www.pinetoplakesgolf.com/event/bridge/2026-08-11/
END:VEVENT
BEGIN:VEVENT
DTSTART;TZID=America/Phoenix:20260811T140000
DTEND;TZID=America/Phoenix:20260811T170000
DTSTAMP:20260421T093327
CREATED:20260217T161737Z
LAST-MODIFIED:20260330T164657Z
UID:10002050-1786456800-1786467600@www.pinetoplakesgolf.com
SUMMARY:Swing & Swig
DESCRIPTION:Afternoon Member Play
URL:https://www.pinetoplakesgolf.com/event/swing-swig-2/2026-08-11/
END:VEVENT
BEGIN:VEVENT
DTSTART;TZID=America/Phoenix:20260812T083000
DTEND;TZID=America/Phoenix:20260812T123000
DTSTAMP:20260421T093327
CREATED:20260217T162201Z
LAST-MODIFIED:20260217T162201Z
UID:10001719-1786523400-1786537800@www.pinetoplakesgolf.com
SUMMARY:WGA 18-Hole League
DESCRIPTION:Member League Play
URL:https://www.pinetoplakesgolf.com/event/wga-18-hole-league/2026-08-12/
END:VEVENT
BEGIN:VEVENT
DTSTART;TZID=America/Phoenix:20260812T160000
DTEND;TZID=America/Phoenix:20260812T190000
DTSTAMP:20260421T093327
CREATED:20260302T202603Z
LAST-MODIFIED:20260302T202603Z
UID:10001864-1786550400-1786561200@www.pinetoplakesgolf.com
SUMMARY:Music In The Pines
DESCRIPTION:Outdoor Concert open to the Public
URL:https://www.pinetoplakesgolf.com/event/music-in-the-pines-6/
END:VEVENT
BEGIN:VEVENT
DTSTART;TZID=America/Phoenix:20260813T083000
DTEND;TZID=America/Phoenix:20260813T120000
DTSTAMP:20260421T093327
CREATED:20260217T160510Z
LAST-MODIFIED:20260217T160510Z
UID:10001526-1786609800-1786622400@www.pinetoplakesgolf.com
SUMMARY:Men's 18-Hole League
DESCRIPTION:Member League Play
URL:https://www.pinetoplakesgolf.com/event/mens-18-hole-league/2026-08-13/
END:VEVENT
BEGIN:VEVENT
DTSTART;TZID=America/Phoenix:20260813T143000
DTEND;TZID=America/Phoenix:20260813T170000
DTSTAMP:20260421T093327
CREATED:20260330T161656Z
LAST-MODIFIED:20260330T161656Z
UID:10001907-1786631400-1786640400@www.pinetoplakesgolf.com
SUMMARY:Bingo
DESCRIPTION:Thursday afternoon Bingo\, open to the public
URL:https://www.pinetoplakesgolf.com/event/bingo-6/2026-08-13/
END:VEVENT
BEGIN:VEVENT
DTSTART;TZID=America/Phoenix:20260814T080000
DTEND;TZID=America/Phoenix:20260814T120000
DTSTAMP:20260421T093327
CREATED:20260227T173435Z
LAST-MODIFIED:20260420T171852Z
UID:10002221-1786694400-1786708800@www.pinetoplakesgolf.com
SUMMARY:Old Strokes
DESCRIPTION:League Play
URL:https://www.pinetoplakesgolf.com/event/old-strokes-56/2026-08-14/
END:VEVENT
BEGIN:VEVENT
DTSTART;TZID=America/Phoenix:20260814T090000
DTEND;TZID=America/Phoenix:20260814T130000
DTSTAMP:20260421T093327
CREATED:20260217T173701Z
LAST-MODIFIED:20260217T174230Z
UID:10001796-1786698000-1786712400@www.pinetoplakesgolf.com
SUMMARY:One Putters
DESCRIPTION:Ladies Member League
URL:https://www.pinetoplakesgolf.com/event/one-putters-27/2026-08-14/
END:VEVENT
BEGIN:VEVENT
DTSTART;TZID=America/Phoenix:20260815T080000
DTEND;TZID=America/Phoenix:20260815T120000
DTSTAMP:20260421T093327
CREATED:20260302T202744Z
LAST-MODIFIED:20260302T202744Z
UID:10001865-1786780800-1786795200@www.pinetoplakesgolf.com
SUMMARY:University Challenge
DESCRIPTION:PLCC Club Golf Event to raise scholarship funds for ASU and UofA designated graduating High School Seniors
URL:https://www.pinetoplakesgolf.com/event/university-challenge/
END:VEVENT
BEGIN:VEVENT
DTSTART;TZID=America/Phoenix:20260815T080000
DTEND;TZID=America/Phoenix:20260815T170000
DTSTAMP:20260421T093327
CREATED:20260217T180339Z
LAST-MODIFIED:20260217T180339Z
UID:10001817-1786780800-1786813200@www.pinetoplakesgolf.com
SUMMARY:Yoga
DESCRIPTION:Member Only Yoga
URL:https://www.pinetoplakesgolf.com/event/yoga/2026-08-15/
END:VEVENT
BEGIN:VEVENT
DTSTART;TZID=America/Phoenix:20260817T080000
DTEND;TZID=America/Phoenix:20260817T090000
DTSTAMP:20260421T093327
CREATED:20260217T155838Z
LAST-MODIFIED:20260217T155838Z
UID:10001503-1786953600-1786957200@www.pinetoplakesgolf.com
SUMMARY:Board Meeting
DESCRIPTION:Monthly Board Meeting in Member’s Room
URL:https://www.pinetoplakesgolf.com/event/board-meeting-3/2026-08-17/
END:VEVENT
BEGIN:VEVENT
DTSTART;TZID=America/Phoenix:20260817T080000
DTEND;TZID=America/Phoenix:20260817T120000
DTSTAMP:20260421T093327
CREATED:20260420T171651Z
LAST-MODIFIED:20260420T171652Z
UID:10002071-1786953600-1786968000@www.pinetoplakesgolf.com
SUMMARY:Old Strokes
DESCRIPTION:
URL:https://www.pinetoplakesgolf.com/event/old-strokes-58-2/2026-08-17/
END:VEVENT
BEGIN:VEVENT
DTSTART;TZID=America/Phoenix:20260817T183000
DTEND;TZID=America/Phoenix:20260817T210000
DTSTAMP:20260421T093327
CREATED:20260217T164708Z
LAST-MODIFIED:20260330T161903Z
UID:10001740-1786991400-1787000400@www.pinetoplakesgolf.com
SUMMARY:BINGO
DESCRIPTION:Open to the Public
URL:https://www.pinetoplakesgolf.com/event/bingo-5/2026-08-17/
END:VEVENT
BEGIN:VEVENT
DTSTART;TZID=America/Phoenix:20260818T090000
DTEND;TZID=America/Phoenix:20260818T100000
DTSTAMP:20260421T093327
CREATED:20260217T164854Z
LAST-MODIFIED:20260217T164854Z
UID:10001759-1787043600-1787047200@www.pinetoplakesgolf.com
SUMMARY:Yoga in the Pines
DESCRIPTION:Member Only Yoga
URL:https://www.pinetoplakesgolf.com/event/yoga-in-the-pines/2026-08-18/
END:VEVENT
BEGIN:VEVENT
DTSTART;TZID=America/Phoenix:20260818T090000
DTEND;TZID=America/Phoenix:20260818T110000
DTSTAMP:20260421T093327
CREATED:20260330T162817Z
LAST-MODIFIED:20260330T165126Z
UID:10001978-1787043600-1787050800@www.pinetoplakesgolf.com
SUMMARY:WGA 9-Hole League
DESCRIPTION:Member League Play
URL:https://www.pinetoplakesgolf.com/event/wga-9-hole-league/2026-08-18/
END:VEVENT
BEGIN:VEVENT
DTSTART;TZID=America/Phoenix:20260818T094500
DTEND;TZID=America/Phoenix:20260818T113000
DTSTAMP:20260421T093327
CREATED:20260217T160855Z
LAST-MODIFIED:20260217T160855Z
UID:10001555-1787046300-1787052600@www.pinetoplakesgolf.com
SUMMARY:MGA 9-Hole League
DESCRIPTION:Member League Play
URL:https://www.pinetoplakesgolf.com/event/mga-9-hole-league/2026-08-18/
END:VEVENT
BEGIN:VEVENT
DTSTART;TZID=America/Phoenix:20260818T123000
DTEND;TZID=America/Phoenix:20260818T150000
DTSTAMP:20260421T093327
CREATED:20260217T165001Z
LAST-MODIFIED:20260217T165001Z
UID:10001778-1787056200-1787065200@www.pinetoplakesgolf.com
SUMMARY:Bridge
DESCRIPTION:
URL:https://www.pinetoplakesgolf.com/event/bridge/2026-08-18/
END:VEVENT
BEGIN:VEVENT
DTSTART;TZID=America/Phoenix:20260818T140000
DTEND;TZID=America/Phoenix:20260818T170000
DTSTAMP:20260421T093327
CREATED:20260217T161737Z
LAST-MODIFIED:20260330T164657Z
UID:10002051-1787061600-1787072400@www.pinetoplakesgolf.com
SUMMARY:Swing & Swig
DESCRIPTION:Afternoon Member Play
URL:https://www.pinetoplakesgolf.com/event/swing-swig-2/2026-08-18/
END:VEVENT
BEGIN:VEVENT
DTSTART;TZID=America/Phoenix:20260819T083000
DTEND;TZID=America/Phoenix:20260819T123000
DTSTAMP:20260421T093327
CREATED:20260217T162201Z
LAST-MODIFIED:20260217T162201Z
UID:10001720-1787128200-1787142600@www.pinetoplakesgolf.com
SUMMARY:WGA 18-Hole League
DESCRIPTION:Member League Play
URL:https://www.pinetoplakesgolf.com/event/wga-18-hole-league/2026-08-19/
END:VEVENT
END:VCALENDAR