BEGIN:VCALENDAR
VERSION:2.0
PRODID:-//Pinetop Lakes Golf and Country Club - ECPv6.15.18//NONSGML v1.0//EN
CALSCALE:GREGORIAN
METHOD:PUBLISH
X-WR-CALNAME:Pinetop Lakes Golf and Country Club
X-ORIGINAL-URL:https://www.pinetoplakesgolf.com
X-WR-CALDESC:Events for Pinetop Lakes Golf and Country Club
REFRESH-INTERVAL;VALUE=DURATION:PT1H
X-Robots-Tag:noindex
X-PUBLISHED-TTL:PT1H
BEGIN:VTIMEZONE
TZID:UTC
BEGIN:STANDARD
TZOFFSETFROM:+0000
TZOFFSETTO:+0000
TZNAME:UTC
DTSTART:20230101T000000
END:STANDARD
END:VTIMEZONE
BEGIN:VEVENT
DTSTART;TZID=UTC:20240812T090000
DTEND;TZID=UTC:20240812T090000
DTSTAMP:20260423T004613
CREATED:20240418T235004Z
LAST-MODIFIED:20240426T234910Z
UID:10000151-1723453200-1723453200@www.pinetoplakesgolf.com
SUMMARY:Old Strokes
DESCRIPTION:
URL:https://www.pinetoplakesgolf.com/event/old-strokes-30/
END:VEVENT
BEGIN:VEVENT
DTSTART;VALUE=DATE:20240810
DTEND;VALUE=DATE:20240812
DTSTAMP:20260423T004613
CREATED:20240418T234938Z
LAST-MODIFIED:20240418T234938Z
UID:10000150-1723248000-1723420799@www.pinetoplakesgolf.com
SUMMARY:Bob Hanson Tournament
DESCRIPTION:
URL:https://www.pinetoplakesgolf.com/event/bob-hanson-tournament/
END:VEVENT
BEGIN:VEVENT
DTSTART;TZID=UTC:20240809T094500
DTEND;TZID=UTC:20240809T094500
DTSTAMP:20260423T004613
CREATED:20240418T234845Z
LAST-MODIFIED:20240426T234825Z
UID:10000149-1723196700-1723196700@www.pinetoplakesgolf.com
SUMMARY:One Putters
DESCRIPTION:
URL:https://www.pinetoplakesgolf.com/event/one-putters-16/
END:VEVENT
BEGIN:VEVENT
DTSTART;TZID=UTC:20240809T090000
DTEND;TZID=UTC:20240809T090000
DTSTAMP:20260423T004613
CREATED:20240418T234814Z
LAST-MODIFIED:20240426T234745Z
UID:10000148-1723194000-1723194000@www.pinetoplakesgolf.com
SUMMARY:Old Strokes
DESCRIPTION:
URL:https://www.pinetoplakesgolf.com/event/old-strokes-29/
END:VEVENT
BEGIN:VEVENT
DTSTART;TZID=UTC:20240808T080000
DTEND;TZID=UTC:20240808T090000
DTSTAMP:20260423T004613
CREATED:20240509T025946Z
LAST-MODIFIED:20241002T213125Z
UID:10000534-1723104000-1723107600@www.pinetoplakesgolf.com
SUMMARY:Member Yoga
DESCRIPTION:
URL:https://www.pinetoplakesgolf.com/event/member-yoga-2/2024-08-08/
END:VEVENT
BEGIN:VEVENT
DTSTART;TZID=UTC:20240808T080000
DTEND;TZID=UTC:20240808T080000
DTSTAMP:20260423T004613
CREATED:20240418T234743Z
LAST-MODIFIED:20240426T234712Z
UID:10000147-1723104000-1723104000@www.pinetoplakesgolf.com
SUMMARY:Men Host Women
DESCRIPTION:
URL:https://www.pinetoplakesgolf.com/event/men-host-women/
END:VEVENT
BEGIN:VEVENT
DTSTART;TZID=UTC:20240807T170000
DTEND;TZID=UTC:20240807T170000
DTSTAMP:20260423T004613
CREATED:20240418T230214Z
LAST-MODIFIED:20240627T020606Z
UID:10000145-1723050000-1723050000@www.pinetoplakesgolf.com
SUMMARY:Old Strokes Ryder Cup Awards Dinner
DESCRIPTION:
URL:https://www.pinetoplakesgolf.com/event/old-strokes-ryder-cup-awards-dinner/
ATTACH;FMTTYPE=image/jpeg:https://www.pinetoplakesgolf.com/wp-content/uploads/sites/8955/2024/04/img_dinner_1x.jpg
END:VEVENT
BEGIN:VEVENT
DTSTART;TZID=UTC:20240807T083000
DTEND;TZID=UTC:20240807T083000
DTSTAMP:20260423T004613
CREATED:20240418T230413Z
LAST-MODIFIED:20240426T234639Z
UID:10000146-1723019400-1723019400@www.pinetoplakesgolf.com
SUMMARY:Women's 18-Hole League
DESCRIPTION:
URL:https://www.pinetoplakesgolf.com/event/womens-18-hole-league-12/
END:VEVENT
BEGIN:VEVENT
DTSTART;TZID=UTC:20240806T140000
DTEND;TZID=UTC:20240806T140000
DTSTAMP:20260423T004613
CREATED:20240418T225610Z
LAST-MODIFIED:20240426T234451Z
UID:10000144-1722952800-1722952800@www.pinetoplakesgolf.com
SUMMARY:Swing and Swig
DESCRIPTION:
URL:https://www.pinetoplakesgolf.com/event/swing-and-swig-13/
END:VEVENT
BEGIN:VEVENT
DTSTART;TZID=UTC:20240806T130000
DTEND;TZID=UTC:20240806T160000
DTSTAMP:20260423T004613
CREATED:20240617T234323Z
LAST-MODIFIED:20241002T213440Z
UID:10000618-1722949200-1722960000@www.pinetoplakesgolf.com
SUMMARY:Bridge in Barclay's @ Pinetop Lakes
DESCRIPTION:
URL:https://www.pinetoplakesgolf.com/event/bridge-in-barclays-pinetop-lakes/2024-08-06/
END:VEVENT
BEGIN:VEVENT
DTSTART;TZID=UTC:20240806T090000
DTEND;TZID=UTC:20240806T090000
DTSTAMP:20260423T004613
CREATED:20240418T224026Z
LAST-MODIFIED:20240717T010810Z
UID:10000143-1722934800-1722934800@www.pinetoplakesgolf.com
SUMMARY:Women's 9-Hole League
DESCRIPTION:
URL:https://www.pinetoplakesgolf.com/event/womens-9-hole-league-12/
END:VEVENT
BEGIN:VEVENT
DTSTART;TZID=UTC:20240806T080000
DTEND;TZID=UTC:20240806T090000
DTSTAMP:20260423T004613
CREATED:20240524T002807Z
LAST-MODIFIED:20241002T213731Z
UID:10000462-1722931200-1722934800@www.pinetoplakesgolf.com
SUMMARY:Member Yoga
DESCRIPTION:
URL:https://www.pinetoplakesgolf.com/event/member-yoga-4/2024-08-06/
END:VEVENT
BEGIN:VEVENT
DTSTART;TZID=UTC:20240806T080000
DTEND;TZID=UTC:20240806T080000
DTSTAMP:20260423T004613
CREATED:20240418T223958Z
LAST-MODIFIED:20240426T234348Z
UID:10000142-1722931200-1722931200@www.pinetoplakesgolf.com
SUMMARY:Men's 9-Hole
DESCRIPTION:
URL:https://www.pinetoplakesgolf.com/event/mens-9-hole-15/
END:VEVENT
BEGIN:VEVENT
DTSTART;TZID=UTC:20240805T183000
DTEND;TZID=UTC:20240805T183000
DTSTAMP:20260423T004613
CREATED:20240524T000403Z
LAST-MODIFIED:20240831T050508Z
UID:10000322-1722882600-1722882600@www.pinetoplakesgolf.com
SUMMARY:Bingo
DESCRIPTION:
URL:https://www.pinetoplakesgolf.com/event/bingo-4/2024-08-05/
END:VEVENT
BEGIN:VEVENT
DTSTART;TZID=UTC:20240805T140000
DTEND;TZID=UTC:20240805T140000
DTSTAMP:20260423T004613
CREATED:20240507T234801Z
LAST-MODIFIED:20241002T212951Z
UID:10000250-1722866400-1722866400@www.pinetoplakesgolf.com
SUMMARY:150 League
DESCRIPTION:
URL:https://www.pinetoplakesgolf.com/event/150-league/2024-08-05/
END:VEVENT
BEGIN:VEVENT
DTSTART;TZID=UTC:20240805T090000
DTEND;TZID=UTC:20240805T090000
DTSTAMP:20260423T004613
CREATED:20240418T223843Z
LAST-MODIFIED:20240426T234307Z
UID:10000140-1722848400-1722848400@www.pinetoplakesgolf.com
SUMMARY:Ryder Cup
DESCRIPTION:
URL:https://www.pinetoplakesgolf.com/event/ryder-cup-3/
END:VEVENT
BEGIN:VEVENT
DTSTART;TZID=UTC:20240805T083000
DTEND;TZID=UTC:20240805T083000
DTSTAMP:20260423T004613
CREATED:20240418T223913Z
LAST-MODIFIED:20240426T234218Z
UID:10000141-1722846600-1722846600@www.pinetoplakesgolf.com
SUMMARY:Team Play at White Mountain
DESCRIPTION:
URL:https://www.pinetoplakesgolf.com/event/team-play-at-white-mountain/
END:VEVENT
BEGIN:VEVENT
DTSTART;TZID=UTC:20240804T083000
DTEND;TZID=UTC:20240804T083000
DTSTAMP:20260423T004613
CREATED:20240418T223803Z
LAST-MODIFIED:20240426T224236Z
UID:10000139-1722760200-1722760200@www.pinetoplakesgolf.com
SUMMARY:Giggles Tournament
DESCRIPTION:
URL:https://www.pinetoplakesgolf.com/event/giggles-tournament-2/
END:VEVENT
BEGIN:VEVENT
DTSTART;TZID=UTC:20240803T083000
DTEND;TZID=UTC:20240803T083000
DTSTAMP:20260423T004613
CREATED:20240418T223731Z
LAST-MODIFIED:20240426T224208Z
UID:10000138-1722673800-1722673800@www.pinetoplakesgolf.com
SUMMARY:Giggles Tournament
DESCRIPTION:
URL:https://www.pinetoplakesgolf.com/event/giggles-tournament/
END:VEVENT
BEGIN:VEVENT
DTSTART;TZID=UTC:20240802T094500
DTEND;TZID=UTC:20240802T094500
DTSTAMP:20260423T004613
CREATED:20240418T223655Z
LAST-MODIFIED:20240426T224133Z
UID:10000137-1722591900-1722591900@www.pinetoplakesgolf.com
SUMMARY:One Putters
DESCRIPTION:
URL:https://www.pinetoplakesgolf.com/event/one-putters-15/
END:VEVENT
BEGIN:VEVENT
DTSTART;TZID=UTC:20240802T090000
DTEND;TZID=UTC:20240802T090000
DTSTAMP:20260423T004613
CREATED:20240418T223629Z
LAST-MODIFIED:20240426T224045Z
UID:10000136-1722589200-1722589200@www.pinetoplakesgolf.com
SUMMARY:Ryder Cup
DESCRIPTION:
URL:https://www.pinetoplakesgolf.com/event/ryder-cup-2/
END:VEVENT
BEGIN:VEVENT
DTSTART;TZID=UTC:20240801T140000
DTEND;TZID=UTC:20240801T140000
DTSTAMP:20260423T004613
CREATED:20240621T040533Z
LAST-MODIFIED:20240626T232652Z
UID:10000683-1722520800-1722520800@www.pinetoplakesgolf.com
SUMMARY:Bingo
DESCRIPTION:
URL:https://www.pinetoplakesgolf.com/event/bingo-2-2/2024-08-01/
END:VEVENT
BEGIN:VEVENT
DTSTART;TZID=UTC:20240801T080000
DTEND;TZID=UTC:20240801T090000
DTSTAMP:20260423T004613
CREATED:20240509T025946Z
LAST-MODIFIED:20241002T213125Z
UID:10000533-1722499200-1722502800@www.pinetoplakesgolf.com
SUMMARY:Member Yoga
DESCRIPTION:
URL:https://www.pinetoplakesgolf.com/event/member-yoga-2/2024-08-01/
END:VEVENT
BEGIN:VEVENT
DTSTART;TZID=UTC:20240801T080000
DTEND;TZID=UTC:20240801T080000
DTSTAMP:20260423T004613
CREATED:20240418T223453Z
LAST-MODIFIED:20240426T224006Z
UID:10000135-1722499200-1722499200@www.pinetoplakesgolf.com
SUMMARY:Men's 18-Hole
DESCRIPTION:
URL:https://www.pinetoplakesgolf.com/event/800-mens-18-hole/
END:VEVENT
BEGIN:VEVENT
DTSTART;TZID=UTC:20240731T163000
DTEND;TZID=UTC:20240731T193000
DTSTAMP:20260423T004613
CREATED:20240418T223423Z
LAST-MODIFIED:20240606T062713Z
UID:10000134-1722443400-1722454200@www.pinetoplakesgolf.com
SUMMARY:Music in the Pines (KT Klassics)
DESCRIPTION:
URL:https://www.pinetoplakesgolf.com/event/music-in-the-pines-kt-klassics-2/
END:VEVENT
BEGIN:VEVENT
DTSTART;TZID=UTC:20240731T153000
DTEND;TZID=UTC:20240731T163000
DTSTAMP:20260423T004613
CREATED:20240720T052831Z
LAST-MODIFIED:20240720T052831Z
UID:10000689-1722439800-1722443400@www.pinetoplakesgolf.com
SUMMARY:MITP Line Dancing
DESCRIPTION:Free line dancing before Music In The Pines
URL:https://www.pinetoplakesgolf.com/event/mitp-line-dancing/2024-07-31/
END:VEVENT
BEGIN:VEVENT
DTSTART;TZID=UTC:20240731T130000
DTEND;TZID=UTC:20240731T130000
DTSTAMP:20260423T004613
CREATED:20240418T223335Z
LAST-MODIFIED:20240426T223844Z
UID:10000133-1722430800-1722430800@www.pinetoplakesgolf.com
SUMMARY:Women's Golf Association Meeting
DESCRIPTION:
URL:https://www.pinetoplakesgolf.com/event/1-pm-womens-golf-association-meeting/
ATTACH;FMTTYPE=image/jpeg:https://www.pinetoplakesgolf.com/wp-content/uploads/sites/8955/2024/04/img_golf_1x_5b652e.jpg
END:VEVENT
BEGIN:VEVENT
DTSTART;TZID=UTC:20240731T083000
DTEND;TZID=UTC:20240731T083000
DTSTAMP:20260423T004613
CREATED:20240418T223250Z
LAST-MODIFIED:20240426T223804Z
UID:10000132-1722414600-1722414600@www.pinetoplakesgolf.com
SUMMARY:Women's 18-Hole League
DESCRIPTION:
URL:https://www.pinetoplakesgolf.com/event/womens-18-hole-league-11/
END:VEVENT
BEGIN:VEVENT
DTSTART;TZID=UTC:20240730T140000
DTEND;TZID=UTC:20240730T140000
DTSTAMP:20260423T004613
CREATED:20240418T223155Z
LAST-MODIFIED:20240426T223718Z
UID:10000131-1722348000-1722348000@www.pinetoplakesgolf.com
SUMMARY:Swing and Swig
DESCRIPTION:
URL:https://www.pinetoplakesgolf.com/event/swing-and-swig-12/
END:VEVENT
BEGIN:VEVENT
DTSTART;TZID=UTC:20240730T130000
DTEND;TZID=UTC:20240730T160000
DTSTAMP:20260423T004613
CREATED:20240617T234323Z
LAST-MODIFIED:20241002T213440Z
UID:10000617-1722344400-1722355200@www.pinetoplakesgolf.com
SUMMARY:Bridge in Barclay's @ Pinetop Lakes
DESCRIPTION:
URL:https://www.pinetoplakesgolf.com/event/bridge-in-barclays-pinetop-lakes/2024-07-30/
END:VEVENT
END:VCALENDAR