BEGIN:VCALENDAR
VERSION:2.0
PRODID:-//Pinetop Lakes Golf and Country Club - ECPv6.15.18//NONSGML v1.0//EN
CALSCALE:GREGORIAN
METHOD:PUBLISH
X-WR-CALNAME:Pinetop Lakes Golf and Country Club
X-ORIGINAL-URL:https://www.pinetoplakesgolf.com
X-WR-CALDESC:Events for Pinetop Lakes Golf and Country Club
REFRESH-INTERVAL;VALUE=DURATION:PT1H
X-Robots-Tag:noindex
X-PUBLISHED-TTL:PT1H
BEGIN:VTIMEZONE
TZID:America/Phoenix
BEGIN:STANDARD
TZOFFSETFROM:-0700
TZOFFSETTO:-0700
TZNAME:MST
DTSTART:20260101T000000
END:STANDARD
END:VTIMEZONE
BEGIN:VEVENT
DTSTART;TZID=America/Phoenix:20270708T143000
DTEND;TZID=America/Phoenix:20270708T170000
DTSTAMP:20260422T170152
CREATED:20260330T161656Z
LAST-MODIFIED:20260330T161656Z
UID:10001954-1815057000-1815066000@www.pinetoplakesgolf.com
SUMMARY:Bingo
DESCRIPTION:Thursday afternoon Bingo\, open to the public
URL:https://www.pinetoplakesgolf.com/event/bingo-6/2027-07-08/
END:VEVENT
BEGIN:VEVENT
DTSTART;TZID=America/Phoenix:20270715T143000
DTEND;TZID=America/Phoenix:20270715T170000
DTSTAMP:20260422T170152
CREATED:20260330T161656Z
LAST-MODIFIED:20260330T161656Z
UID:10001955-1815661800-1815670800@www.pinetoplakesgolf.com
SUMMARY:Bingo
DESCRIPTION:Thursday afternoon Bingo\, open to the public
URL:https://www.pinetoplakesgolf.com/event/bingo-6/2027-07-15/
END:VEVENT
BEGIN:VEVENT
DTSTART;TZID=America/Phoenix:20270722T143000
DTEND;TZID=America/Phoenix:20270722T170000
DTSTAMP:20260422T170152
CREATED:20260330T161656Z
LAST-MODIFIED:20260330T161656Z
UID:10001956-1816266600-1816275600@www.pinetoplakesgolf.com
SUMMARY:Bingo
DESCRIPTION:Thursday afternoon Bingo\, open to the public
URL:https://www.pinetoplakesgolf.com/event/bingo-6/2027-07-22/
END:VEVENT
BEGIN:VEVENT
DTSTART;TZID=America/Phoenix:20270729T143000
DTEND;TZID=America/Phoenix:20270729T170000
DTSTAMP:20260422T170152
CREATED:20260330T161656Z
LAST-MODIFIED:20260330T161656Z
UID:10001957-1816871400-1816880400@www.pinetoplakesgolf.com
SUMMARY:Bingo
DESCRIPTION:Thursday afternoon Bingo\, open to the public
URL:https://www.pinetoplakesgolf.com/event/bingo-6/2027-07-29/
END:VEVENT
BEGIN:VEVENT
DTSTART;TZID=America/Phoenix:20270805T143000
DTEND;TZID=America/Phoenix:20270805T170000
DTSTAMP:20260422T170152
CREATED:20260330T161656Z
LAST-MODIFIED:20260330T161656Z
UID:10001958-1817476200-1817485200@www.pinetoplakesgolf.com
SUMMARY:Bingo
DESCRIPTION:Thursday afternoon Bingo\, open to the public
URL:https://www.pinetoplakesgolf.com/event/bingo-6/2027-08-05/
END:VEVENT
BEGIN:VEVENT
DTSTART;TZID=America/Phoenix:20270812T143000
DTEND;TZID=America/Phoenix:20270812T170000
DTSTAMP:20260422T170152
CREATED:20260330T161656Z
LAST-MODIFIED:20260330T161656Z
UID:10001959-1818081000-1818090000@www.pinetoplakesgolf.com
SUMMARY:Bingo
DESCRIPTION:Thursday afternoon Bingo\, open to the public
URL:https://www.pinetoplakesgolf.com/event/bingo-6/2027-08-12/
END:VEVENT
BEGIN:VEVENT
DTSTART;TZID=America/Phoenix:20270819T143000
DTEND;TZID=America/Phoenix:20270819T170000
DTSTAMP:20260422T170152
CREATED:20260330T161656Z
LAST-MODIFIED:20260330T161656Z
UID:10001960-1818685800-1818694800@www.pinetoplakesgolf.com
SUMMARY:Bingo
DESCRIPTION:Thursday afternoon Bingo\, open to the public
URL:https://www.pinetoplakesgolf.com/event/bingo-6/2027-08-19/
END:VEVENT
BEGIN:VEVENT
DTSTART;TZID=America/Phoenix:20270826T143000
DTEND;TZID=America/Phoenix:20270826T170000
DTSTAMP:20260422T170152
CREATED:20260330T161656Z
LAST-MODIFIED:20260330T161656Z
UID:10001961-1819290600-1819299600@www.pinetoplakesgolf.com
SUMMARY:Bingo
DESCRIPTION:Thursday afternoon Bingo\, open to the public
URL:https://www.pinetoplakesgolf.com/event/bingo-6/2027-08-26/
END:VEVENT
BEGIN:VEVENT
DTSTART;TZID=America/Phoenix:20270902T143000
DTEND;TZID=America/Phoenix:20270902T170000
DTSTAMP:20260422T170152
CREATED:20260330T161656Z
LAST-MODIFIED:20260330T161656Z
UID:10001962-1819895400-1819904400@www.pinetoplakesgolf.com
SUMMARY:Bingo
DESCRIPTION:Thursday afternoon Bingo\, open to the public
URL:https://www.pinetoplakesgolf.com/event/bingo-6/2027-09-02/
END:VEVENT
BEGIN:VEVENT
DTSTART;TZID=America/Phoenix:20270909T143000
DTEND;TZID=America/Phoenix:20270909T170000
DTSTAMP:20260422T170152
CREATED:20260330T161656Z
LAST-MODIFIED:20260330T161656Z
UID:10001963-1820500200-1820509200@www.pinetoplakesgolf.com
SUMMARY:Bingo
DESCRIPTION:Thursday afternoon Bingo\, open to the public
URL:https://www.pinetoplakesgolf.com/event/bingo-6/2027-09-09/
END:VEVENT
BEGIN:VEVENT
DTSTART;TZID=America/Phoenix:20270916T143000
DTEND;TZID=America/Phoenix:20270916T170000
DTSTAMP:20260422T170152
CREATED:20260330T161656Z
LAST-MODIFIED:20260330T161656Z
UID:10001964-1821105000-1821114000@www.pinetoplakesgolf.com
SUMMARY:Bingo
DESCRIPTION:Thursday afternoon Bingo\, open to the public
URL:https://www.pinetoplakesgolf.com/event/bingo-6/2027-09-16/
END:VEVENT
END:VCALENDAR