BEGIN:VCALENDAR
VERSION:2.0
PRODID:-//Pinetop Lakes Golf and Country Club - ECPv6.15.18//NONSGML v1.0//EN
CALSCALE:GREGORIAN
METHOD:PUBLISH
X-WR-CALNAME:Pinetop Lakes Golf and Country Club
X-ORIGINAL-URL:https://www.pinetoplakesgolf.com
X-WR-CALDESC:Events for Pinetop Lakes Golf and Country Club
REFRESH-INTERVAL;VALUE=DURATION:PT1H
X-Robots-Tag:noindex
X-PUBLISHED-TTL:PT1H
BEGIN:VTIMEZONE
TZID:UTC
BEGIN:STANDARD
TZOFFSETFROM:+0000
TZOFFSETTO:+0000
TZNAME:UTC
DTSTART:20230101T000000
END:STANDARD
END:VTIMEZONE
BEGIN:VEVENT
DTSTART;TZID=UTC:20240822T080000
DTEND;TZID=UTC:20240822T090000
DTSTAMP:20260422T155601
CREATED:20240509T025946Z
LAST-MODIFIED:20241002T213125Z
UID:10000536-1724313600-1724317200@www.pinetoplakesgolf.com
SUMMARY:Member Yoga
DESCRIPTION:
URL:https://www.pinetoplakesgolf.com/event/member-yoga-2/2024-08-22/
END:VEVENT
BEGIN:VEVENT
DTSTART;TZID=UTC:20240822T080000
DTEND;TZID=UTC:20240822T080000
DTSTAMP:20260422T155601
CREATED:20240419T000517Z
LAST-MODIFIED:20240426T235850Z
UID:10000169-1724313600-1724313600@www.pinetoplakesgolf.com
SUMMARY:Men's 18-Hole
DESCRIPTION:
URL:https://www.pinetoplakesgolf.com/event/mens-18-hole-16/
END:VEVENT
BEGIN:VEVENT
DTSTART;TZID=UTC:20240821T163000
DTEND;TZID=UTC:20240821T163000
DTSTAMP:20260422T155601
CREATED:20240716T203931Z
LAST-MODIFIED:20240716T203931Z
UID:10000688-1724257800-1724257800@www.pinetoplakesgolf.com
SUMMARY:Barclay's Wine & Food Pairing
DESCRIPTION:
URL:https://www.pinetoplakesgolf.com/event/barclays-wine-food-pairing/
END:VEVENT
BEGIN:VEVENT
DTSTART;TZID=UTC:20240821T130000
DTEND;TZID=UTC:20240821T130000
DTSTAMP:20260422T155601
CREATED:20240419T000332Z
LAST-MODIFIED:20240426T235823Z
UID:10000168-1724245200-1724245200@www.pinetoplakesgolf.com
SUMMARY:Women's Golf Association Meeting
DESCRIPTION:
URL:https://www.pinetoplakesgolf.com/event/100-womens-golf-association-meeting/
ATTACH;FMTTYPE=image/jpeg:https://www.pinetoplakesgolf.com/wp-content/uploads/sites/8955/2024/04/img_golf_1x_5b652e.jpg
END:VEVENT
BEGIN:VEVENT
DTSTART;TZID=UTC:20240821T083000
DTEND;TZID=UTC:20240821T083000
DTSTAMP:20260422T155601
CREATED:20240419T000236Z
LAST-MODIFIED:20240426T235744Z
UID:10000167-1724229000-1724229000@www.pinetoplakesgolf.com
SUMMARY:Women's 18-Hole League
DESCRIPTION:
URL:https://www.pinetoplakesgolf.com/event/womens-18-hole-league-14/
END:VEVENT
BEGIN:VEVENT
DTSTART;TZID=UTC:20240820T140000
DTEND;TZID=UTC:20240820T140000
DTSTAMP:20260422T155601
CREATED:20240419T000157Z
LAST-MODIFIED:20240426T235716Z
UID:10000166-1724162400-1724162400@www.pinetoplakesgolf.com
SUMMARY:Swing and Swig
DESCRIPTION:
URL:https://www.pinetoplakesgolf.com/event/swing-and-swig-15/
END:VEVENT
BEGIN:VEVENT
DTSTART;TZID=UTC:20240820T130000
DTEND;TZID=UTC:20240820T160000
DTSTAMP:20260422T155601
CREATED:20240617T234323Z
LAST-MODIFIED:20241002T213440Z
UID:10000620-1724158800-1724169600@www.pinetoplakesgolf.com
SUMMARY:Bridge in Barclay's @ Pinetop Lakes
DESCRIPTION:
URL:https://www.pinetoplakesgolf.com/event/bridge-in-barclays-pinetop-lakes/2024-08-20/
END:VEVENT
BEGIN:VEVENT
DTSTART;TZID=UTC:20240820T090000
DTEND;TZID=UTC:20240820T090000
DTSTAMP:20260422T155601
CREATED:20240419T000117Z
LAST-MODIFIED:20240717T010913Z
UID:10000165-1724144400-1724144400@www.pinetoplakesgolf.com
SUMMARY:Women's 9-Hole League
DESCRIPTION:
URL:https://www.pinetoplakesgolf.com/event/womens-9-hole-league-14/
END:VEVENT
BEGIN:VEVENT
DTSTART;TZID=UTC:20240820T080000
DTEND;TZID=UTC:20240820T090000
DTSTAMP:20260422T155601
CREATED:20240524T002807Z
LAST-MODIFIED:20241002T213731Z
UID:10000464-1724140800-1724144400@www.pinetoplakesgolf.com
SUMMARY:Member Yoga
DESCRIPTION:
URL:https://www.pinetoplakesgolf.com/event/member-yoga-4/2024-08-20/
END:VEVENT
BEGIN:VEVENT
DTSTART;TZID=UTC:20240820T080000
DTEND;TZID=UTC:20240820T080000
DTSTAMP:20260422T155601
CREATED:20240419T000041Z
LAST-MODIFIED:20240426T235625Z
UID:10000164-1724140800-1724140800@www.pinetoplakesgolf.com
SUMMARY:Men's 9-Hole
DESCRIPTION:
URL:https://www.pinetoplakesgolf.com/event/mens-9-hole-17/
END:VEVENT
BEGIN:VEVENT
DTSTART;TZID=UTC:20240819T183000
DTEND;TZID=UTC:20240819T183000
DTSTAMP:20260422T155601
CREATED:20240524T000403Z
LAST-MODIFIED:20240831T050508Z
UID:10000324-1724092200-1724092200@www.pinetoplakesgolf.com
SUMMARY:Bingo
DESCRIPTION:
URL:https://www.pinetoplakesgolf.com/event/bingo-4/2024-08-19/
END:VEVENT
BEGIN:VEVENT
DTSTART;TZID=UTC:20240819T140000
DTEND;TZID=UTC:20240819T140000
DTSTAMP:20260422T155601
CREATED:20240507T234801Z
LAST-MODIFIED:20241002T212951Z
UID:10000252-1724076000-1724076000@www.pinetoplakesgolf.com
SUMMARY:150 League
DESCRIPTION:
URL:https://www.pinetoplakesgolf.com/event/150-league/2024-08-19/
END:VEVENT
BEGIN:VEVENT
DTSTART;TZID=UTC:20240819T090000
DTEND;TZID=UTC:20240819T090000
DTSTAMP:20260422T155601
CREATED:20240419T000007Z
LAST-MODIFIED:20240426T235600Z
UID:10000163-1724058000-1724058000@www.pinetoplakesgolf.com
SUMMARY:Old Strokes
DESCRIPTION:
URL:https://www.pinetoplakesgolf.com/event/old-strokes-32/
END:VEVENT
BEGIN:VEVENT
DTSTART;TZID=UTC:20240819T083000
DTEND;TZID=UTC:20240819T083000
DTSTAMP:20260422T155601
CREATED:20240418T235942Z
LAST-MODIFIED:20240426T235531Z
UID:10000162-1724056200-1724056200@www.pinetoplakesgolf.com
SUMMARY:Team Play at Silver Creek
DESCRIPTION:
URL:https://www.pinetoplakesgolf.com/event/team-play-at-silver-creek/
END:VEVENT
BEGIN:VEVENT
DTSTART;TZID=UTC:20240819T080000
DTEND;TZID=UTC:20240819T080000
DTSTAMP:20260422T155601
CREATED:20240418T235913Z
LAST-MODIFIED:20240426T235507Z
UID:10000161-1724054400-1724054400@www.pinetoplakesgolf.com
SUMMARY:Board Meeting Members Room
DESCRIPTION:
URL:https://www.pinetoplakesgolf.com/event/board-meeting-members-room-5/
END:VEVENT
BEGIN:VEVENT
DTSTART;TZID=UTC:20240817T150000
DTEND;TZID=UTC:20240817T180000
DTSTAMP:20260422T155601
CREATED:20240418T235813Z
LAST-MODIFIED:20240716T204015Z
UID:10000160-1723906800-1723917600@www.pinetoplakesgolf.com
SUMMARY:Annual Meeting and Social
DESCRIPTION:
URL:https://www.pinetoplakesgolf.com/event/annual-meeting/
END:VEVENT
BEGIN:VEVENT
DTSTART;TZID=UTC:20240817T080000
DTEND;TZID=UTC:20240817T080000
DTSTAMP:20260422T155601
CREATED:20240531T033106Z
LAST-MODIFIED:20240720T041928Z
UID:10000605-1723881600-1723881600@www.pinetoplakesgolf.com
SUMMARY:UofA/ASU Challenge
DESCRIPTION:
URL:https://www.pinetoplakesgolf.com/event/uofa-asu-challenge/
END:VEVENT
BEGIN:VEVENT
DTSTART;TZID=UTC:20240816T094500
DTEND;TZID=UTC:20240816T094500
DTSTAMP:20260422T155601
CREATED:20240418T235738Z
LAST-MODIFIED:20240426T235357Z
UID:10000159-1723801500-1723801500@www.pinetoplakesgolf.com
SUMMARY:One Putters
DESCRIPTION:
URL:https://www.pinetoplakesgolf.com/event/one-putters-17/
END:VEVENT
BEGIN:VEVENT
DTSTART;TZID=UTC:20240816T090000
DTEND;TZID=UTC:20240816T090000
DTSTAMP:20260422T155601
CREATED:20240418T235707Z
LAST-MODIFIED:20240426T235326Z
UID:10000158-1723798800-1723798800@www.pinetoplakesgolf.com
SUMMARY:Old Strokes
DESCRIPTION:
URL:https://www.pinetoplakesgolf.com/event/old-strokes-31/
END:VEVENT
BEGIN:VEVENT
DTSTART;TZID=UTC:20240815T123000
DTEND;TZID=UTC:20240815T133000
DTSTAMP:20260422T155601
CREATED:20240520T232821Z
LAST-MODIFIED:20240520T232848Z
UID:10000600-1723725000-1723728600@www.pinetoplakesgolf.com
SUMMARY:Men's Club Meeting
DESCRIPTION:Thirsty Thursday
URL:https://www.pinetoplakesgolf.com/event/mens-club-meeting-4/2024-08-15/
END:VEVENT
BEGIN:VEVENT
DTSTART;TZID=UTC:20240815T080000
DTEND;TZID=UTC:20240815T090000
DTSTAMP:20260422T155601
CREATED:20240509T025946Z
LAST-MODIFIED:20241002T213125Z
UID:10000535-1723708800-1723712400@www.pinetoplakesgolf.com
SUMMARY:Member Yoga
DESCRIPTION:
URL:https://www.pinetoplakesgolf.com/event/member-yoga-2/2024-08-15/
END:VEVENT
BEGIN:VEVENT
DTSTART;TZID=UTC:20240815T080000
DTEND;TZID=UTC:20240815T080000
DTSTAMP:20260422T155601
CREATED:20240418T235645Z
LAST-MODIFIED:20240426T235257Z
UID:10000157-1723708800-1723708800@www.pinetoplakesgolf.com
SUMMARY:Men's 18-Hole
DESCRIPTION:
URL:https://www.pinetoplakesgolf.com/event/mens-18-hole-15/
END:VEVENT
BEGIN:VEVENT
DTSTART;TZID=UTC:20240814T163000
DTEND;TZID=UTC:20240814T193000
DTSTAMP:20260422T155601
CREATED:20240418T235421Z
LAST-MODIFIED:20240606T062806Z
UID:10000156-1723653000-1723663800@www.pinetoplakesgolf.com
SUMMARY:Music in the Pines (Fat Chance)
DESCRIPTION:
URL:https://www.pinetoplakesgolf.com/event/music-in-the-pines-fat-chance-2/
END:VEVENT
BEGIN:VEVENT
DTSTART;TZID=UTC:20240814T153000
DTEND;TZID=UTC:20240814T163000
DTSTAMP:20260422T155601
CREATED:20240720T052831Z
LAST-MODIFIED:20240720T052831Z
UID:10000690-1723649400-1723653000@www.pinetoplakesgolf.com
SUMMARY:MITP Line Dancing
DESCRIPTION:Free line dancing before Music In The Pines
URL:https://www.pinetoplakesgolf.com/event/mitp-line-dancing/2024-08-14/
END:VEVENT
BEGIN:VEVENT
DTSTART;TZID=UTC:20240814T083000
DTEND;TZID=UTC:20240814T083000
DTSTAMP:20260422T155601
CREATED:20240418T235336Z
LAST-MODIFIED:20240426T235156Z
UID:10000155-1723624200-1723624200@www.pinetoplakesgolf.com
SUMMARY:Women's 18-Hole League
DESCRIPTION:
URL:https://www.pinetoplakesgolf.com/event/womens-18-hole-league-13/
END:VEVENT
BEGIN:VEVENT
DTSTART;TZID=UTC:20240813T140000
DTEND;TZID=UTC:20240813T140000
DTSTAMP:20260422T155601
CREATED:20240418T235127Z
LAST-MODIFIED:20240426T235124Z
UID:10000154-1723557600-1723557600@www.pinetoplakesgolf.com
SUMMARY:Swing and Swig
DESCRIPTION:
URL:https://www.pinetoplakesgolf.com/event/swing-and-swig-14/
END:VEVENT
BEGIN:VEVENT
DTSTART;TZID=UTC:20240813T130000
DTEND;TZID=UTC:20240813T160000
DTSTAMP:20260422T155601
CREATED:20240617T234323Z
LAST-MODIFIED:20241002T213440Z
UID:10000619-1723554000-1723564800@www.pinetoplakesgolf.com
SUMMARY:Bridge in Barclay's @ Pinetop Lakes
DESCRIPTION:
URL:https://www.pinetoplakesgolf.com/event/bridge-in-barclays-pinetop-lakes/2024-08-13/
END:VEVENT
BEGIN:VEVENT
DTSTART;TZID=UTC:20240813T090000
DTEND;TZID=UTC:20240813T090000
DTSTAMP:20260422T155601
CREATED:20240418T235102Z
LAST-MODIFIED:20240717T010847Z
UID:10000153-1723539600-1723539600@www.pinetoplakesgolf.com
SUMMARY:Women's 9-Hole League
DESCRIPTION:
URL:https://www.pinetoplakesgolf.com/event/womens-9-hole-league-13/
END:VEVENT
BEGIN:VEVENT
DTSTART;TZID=UTC:20240813T080000
DTEND;TZID=UTC:20240813T090000
DTSTAMP:20260422T155601
CREATED:20240524T002807Z
LAST-MODIFIED:20241002T213731Z
UID:10000463-1723536000-1723539600@www.pinetoplakesgolf.com
SUMMARY:Member Yoga
DESCRIPTION:
URL:https://www.pinetoplakesgolf.com/event/member-yoga-4/2024-08-13/
END:VEVENT
BEGIN:VEVENT
DTSTART;TZID=UTC:20240813T080000
DTEND;TZID=UTC:20240813T080000
DTSTAMP:20260422T155601
CREATED:20240418T235030Z
LAST-MODIFIED:20240426T234948Z
UID:10000152-1723536000-1723536000@www.pinetoplakesgolf.com
SUMMARY:Men's 9-Hole
DESCRIPTION:
URL:https://www.pinetoplakesgolf.com/event/mens-9-hole-16/
END:VEVENT
END:VCALENDAR