BEGIN:VCALENDAR
VERSION:2.0
PRODID:-//Pinetop Lakes Golf and Country Club - ECPv6.15.18//NONSGML v1.0//EN
CALSCALE:GREGORIAN
METHOD:PUBLISH
X-ORIGINAL-URL:https://www.pinetoplakesgolf.com
X-WR-CALDESC:Events for Pinetop Lakes Golf and Country Club
REFRESH-INTERVAL;VALUE=DURATION:PT1H
X-Robots-Tag:noindex
X-PUBLISHED-TTL:PT1H
BEGIN:VTIMEZONE
TZID:America/Phoenix
BEGIN:STANDARD
TZOFFSETFROM:-0700
TZOFFSETTO:-0700
TZNAME:MST
DTSTART:20250101T000000
END:STANDARD
END:VTIMEZONE
BEGIN:VEVENT
DTSTART;TZID=America/Phoenix:20260630T140000
DTEND;TZID=America/Phoenix:20260630T170000
DTSTAMP:20260420T202539
CREATED:20260217T161737Z
LAST-MODIFIED:20260330T164657Z
UID:10002044-1782828000-1782838800@www.pinetoplakesgolf.com
SUMMARY:Swing & Swig
DESCRIPTION:Afternoon Member Play
URL:https://www.pinetoplakesgolf.com/event/swing-swig-2/2026-06-30/
END:VEVENT
BEGIN:VEVENT
DTSTART;TZID=America/Phoenix:20260701T083000
DTEND;TZID=America/Phoenix:20260701T123000
DTSTAMP:20260420T202539
CREATED:20260217T162201Z
LAST-MODIFIED:20260217T162201Z
UID:10001713-1782894600-1782909000@www.pinetoplakesgolf.com
SUMMARY:WGA 18-Hole League
DESCRIPTION:Member League Play
URL:https://www.pinetoplakesgolf.com/event/wga-18-hole-league/2026-07-01/
END:VEVENT
BEGIN:VEVENT
DTSTART;TZID=America/Phoenix:20260702T083000
DTEND;TZID=America/Phoenix:20260702T120000
DTSTAMP:20260420T202539
CREATED:20260217T160510Z
LAST-MODIFIED:20260217T160510Z
UID:10001521-1782981000-1782993600@www.pinetoplakesgolf.com
SUMMARY:Men's 18-Hole League
DESCRIPTION:Member League Play
URL:https://www.pinetoplakesgolf.com/event/mens-18-hole-league/2026-07-02/
END:VEVENT
BEGIN:VEVENT
DTSTART;TZID=America/Phoenix:20260702T143000
DTEND;TZID=America/Phoenix:20260702T170000
DTSTAMP:20260420T202539
CREATED:20260330T161656Z
LAST-MODIFIED:20260330T161656Z
UID:10001901-1783002600-1783011600@www.pinetoplakesgolf.com
SUMMARY:Bingo
DESCRIPTION:Thursday afternoon Bingo\, open to the public
URL:https://www.pinetoplakesgolf.com/event/bingo-6/2026-07-02/
END:VEVENT
BEGIN:VEVENT
DTSTART;TZID=America/Phoenix:20260703T090000
DTEND;TZID=America/Phoenix:20260703T130000
DTSTAMP:20260420T202539
CREATED:20260217T173701Z
LAST-MODIFIED:20260217T174230Z
UID:10001790-1783069200-1783083600@www.pinetoplakesgolf.com
SUMMARY:One Putters
DESCRIPTION:Ladies Member League
URL:https://www.pinetoplakesgolf.com/event/one-putters-27/2026-07-03/
END:VEVENT
BEGIN:VEVENT
DTSTART;TZID=America/Phoenix:20260703T100000
DTEND;TZID=America/Phoenix:20260703T140000
DTSTAMP:20260420T202539
CREATED:20260227T173559Z
LAST-MODIFIED:20260227T173559Z
UID:10001852-1783072800-1783087200@www.pinetoplakesgolf.com
SUMMARY:Liar's Tournament
DESCRIPTION:
URL:https://www.pinetoplakesgolf.com/event/liars-tournament-4/
END:VEVENT
BEGIN:VEVENT
DTSTART;TZID=America/Phoenix:20260703T163000
DTEND;TZID=America/Phoenix:20260703T190000
DTSTAMP:20260420T202539
CREATED:20260330T163415Z
LAST-MODIFIED:20260330T163415Z
UID:10002035-1783096200-1783105200@www.pinetoplakesgolf.com
SUMMARY:Music In The Pines
DESCRIPTION:
URL:https://www.pinetoplakesgolf.com/event/music-in-the-pines-9/
END:VEVENT
BEGIN:VEVENT
DTSTART;TZID=America/Phoenix:20260704T080000
DTEND;TZID=America/Phoenix:20260704T120000
DTSTAMP:20260420T202539
CREATED:20260227T173625Z
LAST-MODIFIED:20260227T173625Z
UID:10001853-1783152000-1783166400@www.pinetoplakesgolf.com
SUMMARY:Liar's Tournament
DESCRIPTION:
URL:https://www.pinetoplakesgolf.com/event/liars-tournament-5/
END:VEVENT
BEGIN:VEVENT
DTSTART;TZID=America/Phoenix:20260704T080000
DTEND;TZID=America/Phoenix:20260704T170000
DTSTAMP:20260420T202539
CREATED:20260217T180339Z
LAST-MODIFIED:20260217T180339Z
UID:10001811-1783152000-1783184400@www.pinetoplakesgolf.com
SUMMARY:Yoga
DESCRIPTION:Member Only Yoga
URL:https://www.pinetoplakesgolf.com/event/yoga/2026-07-04/
END:VEVENT
BEGIN:VEVENT
DTSTART;TZID=America/Phoenix:20260706T080000
DTEND;TZID=America/Phoenix:20260706T120000
DTSTAMP:20260420T202539
CREATED:20260420T170156Z
LAST-MODIFIED:20260420T171308Z
UID:10002065-1783324800-1783339200@www.pinetoplakesgolf.com
SUMMARY:Old Strokes
DESCRIPTION:
URL:https://www.pinetoplakesgolf.com/event/old-strokes-58/2026-07-06/
END:VEVENT
BEGIN:VEVENT
DTSTART;TZID=America/Phoenix:20260706T183000
DTEND;TZID=America/Phoenix:20260706T210000
DTSTAMP:20260420T202539
CREATED:20260217T164708Z
LAST-MODIFIED:20260330T161903Z
UID:10001734-1783362600-1783371600@www.pinetoplakesgolf.com
SUMMARY:BINGO
DESCRIPTION:Open to the Public
URL:https://www.pinetoplakesgolf.com/event/bingo-5/2026-07-06/
END:VEVENT
BEGIN:VEVENT
DTSTART;TZID=America/Phoenix:20260707T090000
DTEND;TZID=America/Phoenix:20260707T100000
DTSTAMP:20260420T202539
CREATED:20260217T164854Z
LAST-MODIFIED:20260217T164854Z
UID:10001753-1783414800-1783418400@www.pinetoplakesgolf.com
SUMMARY:Yoga in the Pines
DESCRIPTION:Member Only Yoga
URL:https://www.pinetoplakesgolf.com/event/yoga-in-the-pines/2026-07-07/
END:VEVENT
BEGIN:VEVENT
DTSTART;TZID=America/Phoenix:20260707T090000
DTEND;TZID=America/Phoenix:20260707T110000
DTSTAMP:20260420T202539
CREATED:20260330T162817Z
LAST-MODIFIED:20260330T165126Z
UID:10001972-1783414800-1783422000@www.pinetoplakesgolf.com
SUMMARY:WGA 9-Hole League
DESCRIPTION:Member League Play
URL:https://www.pinetoplakesgolf.com/event/wga-9-hole-league/2026-07-07/
END:VEVENT
BEGIN:VEVENT
DTSTART;TZID=America/Phoenix:20260707T094500
DTEND;TZID=America/Phoenix:20260707T113000
DTSTAMP:20260420T202539
CREATED:20260217T160855Z
LAST-MODIFIED:20260217T160855Z
UID:10001549-1783417500-1783423800@www.pinetoplakesgolf.com
SUMMARY:MGA 9-Hole League
DESCRIPTION:Member League Play
URL:https://www.pinetoplakesgolf.com/event/mga-9-hole-league/2026-07-07/
END:VEVENT
BEGIN:VEVENT
DTSTART;TZID=America/Phoenix:20260707T123000
DTEND;TZID=America/Phoenix:20260707T150000
DTSTAMP:20260420T202539
CREATED:20260217T165001Z
LAST-MODIFIED:20260217T165001Z
UID:10001772-1783427400-1783436400@www.pinetoplakesgolf.com
SUMMARY:Bridge
DESCRIPTION:
URL:https://www.pinetoplakesgolf.com/event/bridge/2026-07-07/
END:VEVENT
BEGIN:VEVENT
DTSTART;TZID=America/Phoenix:20260707T140000
DTEND;TZID=America/Phoenix:20260707T170000
DTSTAMP:20260420T202539
CREATED:20260217T161737Z
LAST-MODIFIED:20260330T164657Z
UID:10002045-1783432800-1783443600@www.pinetoplakesgolf.com
SUMMARY:Swing & Swig
DESCRIPTION:Afternoon Member Play
URL:https://www.pinetoplakesgolf.com/event/swing-swig-2/2026-07-07/
END:VEVENT
BEGIN:VEVENT
DTSTART;TZID=America/Phoenix:20260708T083000
DTEND;TZID=America/Phoenix:20260708T120000
DTSTAMP:20260420T202539
CREATED:20260227T173745Z
LAST-MODIFIED:20260227T173745Z
UID:10001854-1783499400-1783512000@www.pinetoplakesgolf.com
SUMMARY:WGA - Mardi Gras Event
DESCRIPTION:
URL:https://www.pinetoplakesgolf.com/event/wga-mardi-gras-event/
END:VEVENT
BEGIN:VEVENT
DTSTART;TZID=America/Phoenix:20260708T083000
DTEND;TZID=America/Phoenix:20260708T123000
DTSTAMP:20260420T202539
CREATED:20260217T162201Z
LAST-MODIFIED:20260217T162201Z
UID:10001714-1783499400-1783513800@www.pinetoplakesgolf.com
SUMMARY:WGA 18-Hole League
DESCRIPTION:Member League Play
URL:https://www.pinetoplakesgolf.com/event/wga-18-hole-league/2026-07-08/
END:VEVENT
BEGIN:VEVENT
DTSTART;TZID=America/Phoenix:20260708T180000
DTEND;TZID=America/Phoenix:20260708T203000
DTSTAMP:20260420T202539
CREATED:20260227T173842Z
LAST-MODIFIED:20260330T163840Z
UID:10001855-1783533600-1783542600@www.pinetoplakesgolf.com
SUMMARY:Member's Game Night - Name That Tune
DESCRIPTION:Members Only
URL:https://www.pinetoplakesgolf.com/event/members-game-night-name-that-tune/
END:VEVENT
BEGIN:VEVENT
DTSTART;TZID=America/Phoenix:20260709T083000
DTEND;TZID=America/Phoenix:20260709T120000
DTSTAMP:20260420T202539
CREATED:20260217T160510Z
LAST-MODIFIED:20260217T160510Z
UID:10001522-1783585800-1783598400@www.pinetoplakesgolf.com
SUMMARY:Men's 18-Hole League
DESCRIPTION:Member League Play
URL:https://www.pinetoplakesgolf.com/event/mens-18-hole-league/2026-07-09/
END:VEVENT
BEGIN:VEVENT
DTSTART;TZID=America/Phoenix:20260709T143000
DTEND;TZID=America/Phoenix:20260709T170000
DTSTAMP:20260420T202539
CREATED:20260330T161656Z
LAST-MODIFIED:20260330T161656Z
UID:10001902-1783607400-1783616400@www.pinetoplakesgolf.com
SUMMARY:Bingo
DESCRIPTION:Thursday afternoon Bingo\, open to the public
URL:https://www.pinetoplakesgolf.com/event/bingo-6/2026-07-09/
END:VEVENT
BEGIN:VEVENT
DTSTART;TZID=America/Phoenix:20260710T080000
DTEND;TZID=America/Phoenix:20260710T120000
DTSTAMP:20260420T202539
CREATED:20260227T173435Z
LAST-MODIFIED:20260420T171852Z
UID:10002216-1783670400-1783684800@www.pinetoplakesgolf.com
SUMMARY:Old Strokes
DESCRIPTION:League Play
URL:https://www.pinetoplakesgolf.com/event/old-strokes-56/2026-07-10/
END:VEVENT
BEGIN:VEVENT
DTSTART;TZID=America/Phoenix:20260710T090000
DTEND;TZID=America/Phoenix:20260710T130000
DTSTAMP:20260420T202539
CREATED:20260217T173701Z
LAST-MODIFIED:20260217T174230Z
UID:10001791-1783674000-1783688400@www.pinetoplakesgolf.com
SUMMARY:One Putters
DESCRIPTION:Ladies Member League
URL:https://www.pinetoplakesgolf.com/event/one-putters-27/2026-07-10/
END:VEVENT
BEGIN:VEVENT
DTSTART;TZID=America/Phoenix:20260711T080000
DTEND;TZID=America/Phoenix:20260711T170000
DTSTAMP:20260420T202539
CREATED:20260217T180339Z
LAST-MODIFIED:20260217T180339Z
UID:10001812-1783756800-1783789200@www.pinetoplakesgolf.com
SUMMARY:Yoga
DESCRIPTION:Member Only Yoga
URL:https://www.pinetoplakesgolf.com/event/yoga/2026-07-11/
END:VEVENT
BEGIN:VEVENT
DTSTART;TZID=America/Phoenix:20260713T080000
DTEND;TZID=America/Phoenix:20260713T120000
DTSTAMP:20260420T202539
CREATED:20260420T171651Z
LAST-MODIFIED:20260420T171652Z
UID:10002066-1783929600-1783944000@www.pinetoplakesgolf.com
SUMMARY:Old Strokes
DESCRIPTION:
URL:https://www.pinetoplakesgolf.com/event/old-strokes-58-2/2026-07-13/
END:VEVENT
BEGIN:VEVENT
DTSTART;TZID=America/Phoenix:20260713T183000
DTEND;TZID=America/Phoenix:20260713T210000
DTSTAMP:20260420T202539
CREATED:20260217T164708Z
LAST-MODIFIED:20260330T161903Z
UID:10001735-1783967400-1783976400@www.pinetoplakesgolf.com
SUMMARY:BINGO
DESCRIPTION:Open to the Public
URL:https://www.pinetoplakesgolf.com/event/bingo-5/2026-07-13/
END:VEVENT
BEGIN:VEVENT
DTSTART;TZID=America/Phoenix:20260714T090000
DTEND;TZID=America/Phoenix:20260714T100000
DTSTAMP:20260420T202539
CREATED:20260217T164854Z
LAST-MODIFIED:20260217T164854Z
UID:10001754-1784019600-1784023200@www.pinetoplakesgolf.com
SUMMARY:Yoga in the Pines
DESCRIPTION:Member Only Yoga
URL:https://www.pinetoplakesgolf.com/event/yoga-in-the-pines/2026-07-14/
END:VEVENT
BEGIN:VEVENT
DTSTART;TZID=America/Phoenix:20260714T090000
DTEND;TZID=America/Phoenix:20260714T110000
DTSTAMP:20260420T202539
CREATED:20260330T162817Z
LAST-MODIFIED:20260330T165126Z
UID:10001973-1784019600-1784026800@www.pinetoplakesgolf.com
SUMMARY:WGA 9-Hole League
DESCRIPTION:Member League Play
URL:https://www.pinetoplakesgolf.com/event/wga-9-hole-league/2026-07-14/
END:VEVENT
BEGIN:VEVENT
DTSTART;TZID=America/Phoenix:20260714T094500
DTEND;TZID=America/Phoenix:20260714T113000
DTSTAMP:20260420T202539
CREATED:20260217T160855Z
LAST-MODIFIED:20260217T160855Z
UID:10001550-1784022300-1784028600@www.pinetoplakesgolf.com
SUMMARY:MGA 9-Hole League
DESCRIPTION:Member League Play
URL:https://www.pinetoplakesgolf.com/event/mga-9-hole-league/2026-07-14/
END:VEVENT
BEGIN:VEVENT
DTSTART;TZID=America/Phoenix:20260714T123000
DTEND;TZID=America/Phoenix:20260714T150000
DTSTAMP:20260420T202539
CREATED:20260217T165001Z
LAST-MODIFIED:20260217T165001Z
UID:10001773-1784032200-1784041200@www.pinetoplakesgolf.com
SUMMARY:Bridge
DESCRIPTION:
URL:https://www.pinetoplakesgolf.com/event/bridge/2026-07-14/
END:VEVENT
END:VCALENDAR