BEGIN:VCALENDAR
VERSION:2.0
PRODID:-//Pinetop Lakes Golf and Country Club - ECPv6.15.18//NONSGML v1.0//EN
CALSCALE:GREGORIAN
METHOD:PUBLISH
X-ORIGINAL-URL:https://www.pinetoplakesgolf.com
X-WR-CALDESC:Events for Pinetop Lakes Golf and Country Club
REFRESH-INTERVAL;VALUE=DURATION:PT1H
X-Robots-Tag:noindex
X-PUBLISHED-TTL:PT1H
BEGIN:VTIMEZONE
TZID:America/Phoenix
BEGIN:STANDARD
TZOFFSETFROM:-0700
TZOFFSETTO:-0700
TZNAME:MST
DTSTART:20250101T000000
END:STANDARD
END:VTIMEZONE
BEGIN:VEVENT
DTSTART;TZID=America/Phoenix:20260423T083000
DTEND;TZID=America/Phoenix:20260423T120000
DTSTAMP:20260422T050329
CREATED:20260217T160510Z
LAST-MODIFIED:20260217T160510Z
UID:10001511-1776933000-1776945600@www.pinetoplakesgolf.com
SUMMARY:Men's 18-Hole League
DESCRIPTION:Member League Play
URL:https://www.pinetoplakesgolf.com/event/mens-18-hole-league/2026-04-23/
END:VEVENT
BEGIN:VEVENT
DTSTART;TZID=America/Phoenix:20260430T083000
DTEND;TZID=America/Phoenix:20260430T120000
DTSTAMP:20260422T050329
CREATED:20260217T160510Z
LAST-MODIFIED:20260217T160510Z
UID:10001512-1777537800-1777550400@www.pinetoplakesgolf.com
SUMMARY:Men's 18-Hole League
DESCRIPTION:Member League Play
URL:https://www.pinetoplakesgolf.com/event/mens-18-hole-league/2026-04-30/
END:VEVENT
BEGIN:VEVENT
DTSTART;TZID=America/Phoenix:20260507T083000
DTEND;TZID=America/Phoenix:20260507T120000
DTSTAMP:20260422T050329
CREATED:20260217T160510Z
LAST-MODIFIED:20260217T160510Z
UID:10001513-1778142600-1778155200@www.pinetoplakesgolf.com
SUMMARY:Men's 18-Hole League
DESCRIPTION:Member League Play
URL:https://www.pinetoplakesgolf.com/event/mens-18-hole-league/2026-05-07/
END:VEVENT
BEGIN:VEVENT
DTSTART;TZID=America/Phoenix:20260514T083000
DTEND;TZID=America/Phoenix:20260514T120000
DTSTAMP:20260422T050329
CREATED:20260217T160510Z
LAST-MODIFIED:20260217T160510Z
UID:10001514-1778747400-1778760000@www.pinetoplakesgolf.com
SUMMARY:Men's 18-Hole League
DESCRIPTION:Member League Play
URL:https://www.pinetoplakesgolf.com/event/mens-18-hole-league/2026-05-14/
END:VEVENT
BEGIN:VEVENT
DTSTART;TZID=America/Phoenix:20260521T083000
DTEND;TZID=America/Phoenix:20260521T120000
DTSTAMP:20260422T050329
CREATED:20260217T160510Z
LAST-MODIFIED:20260217T160510Z
UID:10001515-1779352200-1779364800@www.pinetoplakesgolf.com
SUMMARY:Men's 18-Hole League
DESCRIPTION:Member League Play
URL:https://www.pinetoplakesgolf.com/event/mens-18-hole-league/2026-05-21/
END:VEVENT
BEGIN:VEVENT
DTSTART;TZID=America/Phoenix:20260528T083000
DTEND;TZID=America/Phoenix:20260528T120000
DTSTAMP:20260422T050329
CREATED:20260217T160510Z
LAST-MODIFIED:20260217T160510Z
UID:10001516-1779957000-1779969600@www.pinetoplakesgolf.com
SUMMARY:Men's 18-Hole League
DESCRIPTION:Member League Play
URL:https://www.pinetoplakesgolf.com/event/mens-18-hole-league/2026-05-28/
END:VEVENT
BEGIN:VEVENT
DTSTART;TZID=America/Phoenix:20260604T083000
DTEND;TZID=America/Phoenix:20260604T120000
DTSTAMP:20260422T050329
CREATED:20260217T160510Z
LAST-MODIFIED:20260217T160510Z
UID:10001517-1780561800-1780574400@www.pinetoplakesgolf.com
SUMMARY:Men's 18-Hole League
DESCRIPTION:Member League Play
URL:https://www.pinetoplakesgolf.com/event/mens-18-hole-league/2026-06-04/
END:VEVENT
BEGIN:VEVENT
DTSTART;TZID=America/Phoenix:20260611T083000
DTEND;TZID=America/Phoenix:20260611T120000
DTSTAMP:20260422T050329
CREATED:20260217T160510Z
LAST-MODIFIED:20260217T160510Z
UID:10001518-1781166600-1781179200@www.pinetoplakesgolf.com
SUMMARY:Men's 18-Hole League
DESCRIPTION:Member League Play
URL:https://www.pinetoplakesgolf.com/event/mens-18-hole-league/2026-06-11/
END:VEVENT
BEGIN:VEVENT
DTSTART;TZID=America/Phoenix:20260618T083000
DTEND;TZID=America/Phoenix:20260618T120000
DTSTAMP:20260422T050329
CREATED:20260217T160510Z
LAST-MODIFIED:20260217T160510Z
UID:10001519-1781771400-1781784000@www.pinetoplakesgolf.com
SUMMARY:Men's 18-Hole League
DESCRIPTION:Member League Play
URL:https://www.pinetoplakesgolf.com/event/mens-18-hole-league/2026-06-18/
END:VEVENT
BEGIN:VEVENT
DTSTART;TZID=America/Phoenix:20260625T083000
DTEND;TZID=America/Phoenix:20260625T120000
DTSTAMP:20260422T050329
CREATED:20260217T160510Z
LAST-MODIFIED:20260217T160510Z
UID:10001520-1782376200-1782388800@www.pinetoplakesgolf.com
SUMMARY:Men's 18-Hole League
DESCRIPTION:Member League Play
URL:https://www.pinetoplakesgolf.com/event/mens-18-hole-league/2026-06-25/
END:VEVENT
BEGIN:VEVENT
DTSTART;TZID=America/Phoenix:20260702T083000
DTEND;TZID=America/Phoenix:20260702T120000
DTSTAMP:20260422T050329
CREATED:20260217T160510Z
LAST-MODIFIED:20260217T160510Z
UID:10001521-1782981000-1782993600@www.pinetoplakesgolf.com
SUMMARY:Men's 18-Hole League
DESCRIPTION:Member League Play
URL:https://www.pinetoplakesgolf.com/event/mens-18-hole-league/2026-07-02/
END:VEVENT
BEGIN:VEVENT
DTSTART;TZID=America/Phoenix:20260709T083000
DTEND;TZID=America/Phoenix:20260709T120000
DTSTAMP:20260422T050329
CREATED:20260217T160510Z
LAST-MODIFIED:20260217T160510Z
UID:10001522-1783585800-1783598400@www.pinetoplakesgolf.com
SUMMARY:Men's 18-Hole League
DESCRIPTION:Member League Play
URL:https://www.pinetoplakesgolf.com/event/mens-18-hole-league/2026-07-09/
END:VEVENT
BEGIN:VEVENT
DTSTART;TZID=America/Phoenix:20260716T083000
DTEND;TZID=America/Phoenix:20260716T120000
DTSTAMP:20260422T050329
CREATED:20260217T160510Z
LAST-MODIFIED:20260217T160510Z
UID:10001523-1784190600-1784203200@www.pinetoplakesgolf.com
SUMMARY:Men's 18-Hole League
DESCRIPTION:Member League Play
URL:https://www.pinetoplakesgolf.com/event/mens-18-hole-league/2026-07-16/
END:VEVENT
BEGIN:VEVENT
DTSTART;TZID=America/Phoenix:20260723T083000
DTEND;TZID=America/Phoenix:20260723T120000
DTSTAMP:20260422T050329
CREATED:20260217T160510Z
LAST-MODIFIED:20260217T160510Z
UID:10001524-1784795400-1784808000@www.pinetoplakesgolf.com
SUMMARY:Men's 18-Hole League
DESCRIPTION:Member League Play
URL:https://www.pinetoplakesgolf.com/event/mens-18-hole-league/2026-07-23/
END:VEVENT
BEGIN:VEVENT
DTSTART;TZID=America/Phoenix:20260806T083000
DTEND;TZID=America/Phoenix:20260806T120000
DTSTAMP:20260422T050330
CREATED:20260217T160510Z
LAST-MODIFIED:20260217T160510Z
UID:10001525-1786005000-1786017600@www.pinetoplakesgolf.com
SUMMARY:Men's 18-Hole League
DESCRIPTION:Member League Play
URL:https://www.pinetoplakesgolf.com/event/mens-18-hole-league/2026-08-06/
END:VEVENT
BEGIN:VEVENT
DTSTART;TZID=America/Phoenix:20260813T083000
DTEND;TZID=America/Phoenix:20260813T120000
DTSTAMP:20260422T050330
CREATED:20260217T160510Z
LAST-MODIFIED:20260217T160510Z
UID:10001526-1786609800-1786622400@www.pinetoplakesgolf.com
SUMMARY:Men's 18-Hole League
DESCRIPTION:Member League Play
URL:https://www.pinetoplakesgolf.com/event/mens-18-hole-league/2026-08-13/
END:VEVENT
BEGIN:VEVENT
DTSTART;TZID=America/Phoenix:20260820T083000
DTEND;TZID=America/Phoenix:20260820T120000
DTSTAMP:20260422T050330
CREATED:20260217T160510Z
LAST-MODIFIED:20260217T160510Z
UID:10001527-1787214600-1787227200@www.pinetoplakesgolf.com
SUMMARY:Men's 18-Hole League
DESCRIPTION:Member League Play
URL:https://www.pinetoplakesgolf.com/event/mens-18-hole-league/2026-08-20/
END:VEVENT
BEGIN:VEVENT
DTSTART;TZID=America/Phoenix:20260827T083000
DTEND;TZID=America/Phoenix:20260827T120000
DTSTAMP:20260422T050330
CREATED:20260217T160510Z
LAST-MODIFIED:20260217T160510Z
UID:10001528-1787819400-1787832000@www.pinetoplakesgolf.com
SUMMARY:Men's 18-Hole League
DESCRIPTION:Member League Play
URL:https://www.pinetoplakesgolf.com/event/mens-18-hole-league/2026-08-27/
END:VEVENT
BEGIN:VEVENT
DTSTART;TZID=America/Phoenix:20260903T083000
DTEND;TZID=America/Phoenix:20260903T120000
DTSTAMP:20260422T050330
CREATED:20260217T160510Z
LAST-MODIFIED:20260217T160510Z
UID:10001529-1788424200-1788436800@www.pinetoplakesgolf.com
SUMMARY:Men's 18-Hole League
DESCRIPTION:Member League Play
URL:https://www.pinetoplakesgolf.com/event/mens-18-hole-league/2026-09-03/
END:VEVENT
BEGIN:VEVENT
DTSTART;TZID=America/Phoenix:20260910T083000
DTEND;TZID=America/Phoenix:20260910T120000
DTSTAMP:20260422T050330
CREATED:20260217T160510Z
LAST-MODIFIED:20260217T160510Z
UID:10001530-1789029000-1789041600@www.pinetoplakesgolf.com
SUMMARY:Men's 18-Hole League
DESCRIPTION:Member League Play
URL:https://www.pinetoplakesgolf.com/event/mens-18-hole-league/2026-09-10/
END:VEVENT
BEGIN:VEVENT
DTSTART;TZID=America/Phoenix:20260917T083000
DTEND;TZID=America/Phoenix:20260917T120000
DTSTAMP:20260422T050330
CREATED:20260217T160510Z
LAST-MODIFIED:20260217T160510Z
UID:10001531-1789633800-1789646400@www.pinetoplakesgolf.com
SUMMARY:Men's 18-Hole League
DESCRIPTION:Member League Play
URL:https://www.pinetoplakesgolf.com/event/mens-18-hole-league/2026-09-17/
END:VEVENT
BEGIN:VEVENT
DTSTART;TZID=America/Phoenix:20260924T083000
DTEND;TZID=America/Phoenix:20260924T120000
DTSTAMP:20260422T050330
CREATED:20260217T160510Z
LAST-MODIFIED:20260217T160510Z
UID:10001532-1790238600-1790251200@www.pinetoplakesgolf.com
SUMMARY:Men's 18-Hole League
DESCRIPTION:Member League Play
URL:https://www.pinetoplakesgolf.com/event/mens-18-hole-league/2026-09-24/
END:VEVENT
BEGIN:VEVENT
DTSTART;TZID=America/Phoenix:20261001T083000
DTEND;TZID=America/Phoenix:20261001T120000
DTSTAMP:20260422T050330
CREATED:20260217T160510Z
LAST-MODIFIED:20260217T160510Z
UID:10001533-1790843400-1790856000@www.pinetoplakesgolf.com
SUMMARY:Men's 18-Hole League
DESCRIPTION:Member League Play
URL:https://www.pinetoplakesgolf.com/event/mens-18-hole-league/2026-10-01/
END:VEVENT
END:VCALENDAR