BEGIN:VCALENDAR
VERSION:2.0
PRODID:-//Pinetop Lakes Golf and Country Club - ECPv6.15.18//NONSGML v1.0//EN
CALSCALE:GREGORIAN
METHOD:PUBLISH
X-WR-CALNAME:Pinetop Lakes Golf and Country Club
X-ORIGINAL-URL:https://www.pinetoplakesgolf.com
X-WR-CALDESC:Events for Pinetop Lakes Golf and Country Club
REFRESH-INTERVAL;VALUE=DURATION:PT1H
X-Robots-Tag:noindex
X-PUBLISHED-TTL:PT1H
BEGIN:VTIMEZONE
TZID:America/Phoenix
BEGIN:STANDARD
TZOFFSETFROM:-0700
TZOFFSETTO:-0700
TZNAME:MST
DTSTART:20250101T000000
END:STANDARD
END:VTIMEZONE
BEGIN:VEVENT
DTSTART;TZID=America/Phoenix:20261001T083000
DTEND;TZID=America/Phoenix:20261001T120000
DTSTAMP:20260422T004043
CREATED:20260217T160510Z
LAST-MODIFIED:20260217T160510Z
UID:10001533-1790843400-1790856000@www.pinetoplakesgolf.com
SUMMARY:Men's 18-Hole League
DESCRIPTION:Member League Play
URL:https://www.pinetoplakesgolf.com/event/mens-18-hole-league/2026-10-01/
END:VEVENT
BEGIN:VEVENT
DTSTART;TZID=America/Phoenix:20261001T143000
DTEND;TZID=America/Phoenix:20261001T170000
DTSTAMP:20260422T004043
CREATED:20260330T161656Z
LAST-MODIFIED:20260330T161656Z
UID:10001914-1790865000-1790874000@www.pinetoplakesgolf.com
SUMMARY:Bingo
DESCRIPTION:Thursday afternoon Bingo\, open to the public
URL:https://www.pinetoplakesgolf.com/event/bingo-6/2026-10-01/
END:VEVENT
BEGIN:VEVENT
DTSTART;TZID=America/Phoenix:20261002T080000
DTEND;TZID=America/Phoenix:20261002T120000
DTSTAMP:20260422T004043
CREATED:20260227T173435Z
LAST-MODIFIED:20260420T171852Z
UID:10002228-1790928000-1790942400@www.pinetoplakesgolf.com
SUMMARY:Old Strokes
DESCRIPTION:League Play
URL:https://www.pinetoplakesgolf.com/event/old-strokes-56/2026-10-02/
END:VEVENT
BEGIN:VEVENT
DTSTART;TZID=America/Phoenix:20261005T080000
DTEND;TZID=America/Phoenix:20261005T120000
DTSTAMP:20260422T004043
CREATED:20260420T171651Z
LAST-MODIFIED:20260420T171652Z
UID:10002078-1791187200-1791201600@www.pinetoplakesgolf.com
SUMMARY:Old Strokes
DESCRIPTION:
URL:https://www.pinetoplakesgolf.com/event/old-strokes-58-2/2026-10-05/
END:VEVENT
BEGIN:VEVENT
DTSTART;TZID=America/Phoenix:20261006T094500
DTEND;TZID=America/Phoenix:20261006T113000
DTSTAMP:20260422T004043
CREATED:20260217T160855Z
LAST-MODIFIED:20260217T160855Z
UID:10001562-1791279900-1791286200@www.pinetoplakesgolf.com
SUMMARY:MGA 9-Hole League
DESCRIPTION:Member League Play
URL:https://www.pinetoplakesgolf.com/event/mga-9-hole-league/2026-10-06/
END:VEVENT
BEGIN:VEVENT
DTSTART;TZID=America/Phoenix:20261007T120000
DTEND;TZID=America/Phoenix:20261007T150000
DTSTAMP:20260422T004043
CREATED:20260330T164833Z
LAST-MODIFIED:20260330T164833Z
UID:10002058-1791374400-1791385200@www.pinetoplakesgolf.com
SUMMARY:Employee Appreciation Golf Event
DESCRIPTION:Employees and Members 9-hole golf and prizes
URL:https://www.pinetoplakesgolf.com/event/employee-appreciation-golf-event-2/
END:VEVENT
BEGIN:VEVENT
DTSTART;TZID=America/Phoenix:20261008T143000
DTEND;TZID=America/Phoenix:20261008T170000
DTSTAMP:20260422T004043
CREATED:20260330T161656Z
LAST-MODIFIED:20260330T161656Z
UID:10001915-1791469800-1791478800@www.pinetoplakesgolf.com
SUMMARY:Bingo
DESCRIPTION:Thursday afternoon Bingo\, open to the public
URL:https://www.pinetoplakesgolf.com/event/bingo-6/2026-10-08/
END:VEVENT
BEGIN:VEVENT
DTSTART;TZID=America/Phoenix:20261009T080000
DTEND;TZID=America/Phoenix:20261009T120000
DTSTAMP:20260422T004043
CREATED:20260227T173435Z
LAST-MODIFIED:20260420T171852Z
UID:10002229-1791532800-1791547200@www.pinetoplakesgolf.com
SUMMARY:Old Strokes
DESCRIPTION:League Play
URL:https://www.pinetoplakesgolf.com/event/old-strokes-56/2026-10-09/
END:VEVENT
BEGIN:VEVENT
DTSTART;TZID=America/Phoenix:20261012T080000
DTEND;TZID=America/Phoenix:20261012T120000
DTSTAMP:20260422T004043
CREATED:20260420T171651Z
LAST-MODIFIED:20260420T171652Z
UID:10002079-1791792000-1791806400@www.pinetoplakesgolf.com
SUMMARY:Old Strokes
DESCRIPTION:
URL:https://www.pinetoplakesgolf.com/event/old-strokes-58-2/2026-10-12/
END:VEVENT
BEGIN:VEVENT
DTSTART;TZID=America/Phoenix:20261015T143000
DTEND;TZID=America/Phoenix:20261015T170000
DTSTAMP:20260422T004043
CREATED:20260330T161656Z
LAST-MODIFIED:20260330T161656Z
UID:10001916-1792074600-1792083600@www.pinetoplakesgolf.com
SUMMARY:Bingo
DESCRIPTION:Thursday afternoon Bingo\, open to the public
URL:https://www.pinetoplakesgolf.com/event/bingo-6/2026-10-15/
END:VEVENT
BEGIN:VEVENT
DTSTART;TZID=America/Phoenix:20261016T080000
DTEND;TZID=America/Phoenix:20261016T120000
DTSTAMP:20260422T004043
CREATED:20260227T173435Z
LAST-MODIFIED:20260420T171852Z
UID:10002230-1792137600-1792152000@www.pinetoplakesgolf.com
SUMMARY:Old Strokes
DESCRIPTION:League Play
URL:https://www.pinetoplakesgolf.com/event/old-strokes-56/2026-10-16/
END:VEVENT
BEGIN:VEVENT
DTSTART;TZID=America/Phoenix:20261019T080000
DTEND;TZID=America/Phoenix:20261019T090000
DTSTAMP:20260422T004043
CREATED:20260217T155838Z
LAST-MODIFIED:20260217T155838Z
UID:10001505-1792396800-1792400400@www.pinetoplakesgolf.com
SUMMARY:Board Meeting
DESCRIPTION:Monthly Board Meeting in Member’s Room
URL:https://www.pinetoplakesgolf.com/event/board-meeting-3/2026-10-19/
END:VEVENT
BEGIN:VEVENT
DTSTART;TZID=America/Phoenix:20261019T080000
DTEND;TZID=America/Phoenix:20261019T120000
DTSTAMP:20260422T004043
CREATED:20260420T171651Z
LAST-MODIFIED:20260420T171652Z
UID:10002080-1792396800-1792411200@www.pinetoplakesgolf.com
SUMMARY:Old Strokes
DESCRIPTION:
URL:https://www.pinetoplakesgolf.com/event/old-strokes-58-2/2026-10-19/
END:VEVENT
BEGIN:VEVENT
DTSTART;TZID=America/Phoenix:20261022T143000
DTEND;TZID=America/Phoenix:20261022T170000
DTSTAMP:20260422T004043
CREATED:20260330T161656Z
LAST-MODIFIED:20260330T161656Z
UID:10001917-1792679400-1792688400@www.pinetoplakesgolf.com
SUMMARY:Bingo
DESCRIPTION:Thursday afternoon Bingo\, open to the public
URL:https://www.pinetoplakesgolf.com/event/bingo-6/2026-10-22/
END:VEVENT
BEGIN:VEVENT
DTSTART;TZID=America/Phoenix:20261023T080000
DTEND;TZID=America/Phoenix:20261023T120000
DTSTAMP:20260422T004043
CREATED:20260227T173435Z
LAST-MODIFIED:20260420T171852Z
UID:10002231-1792742400-1792756800@www.pinetoplakesgolf.com
SUMMARY:Old Strokes
DESCRIPTION:League Play
URL:https://www.pinetoplakesgolf.com/event/old-strokes-56/2026-10-23/
END:VEVENT
BEGIN:VEVENT
DTSTART;TZID=America/Phoenix:20261026T080000
DTEND;TZID=America/Phoenix:20261026T120000
DTSTAMP:20260422T004043
CREATED:20260420T171651Z
LAST-MODIFIED:20260420T171652Z
UID:10002081-1793001600-1793016000@www.pinetoplakesgolf.com
SUMMARY:Old Strokes
DESCRIPTION:
URL:https://www.pinetoplakesgolf.com/event/old-strokes-58-2/2026-10-26/
END:VEVENT
BEGIN:VEVENT
DTSTART;TZID=America/Phoenix:20261029T143000
DTEND;TZID=America/Phoenix:20261029T170000
DTSTAMP:20260422T004043
CREATED:20260330T161656Z
LAST-MODIFIED:20260330T161656Z
UID:10001918-1793284200-1793293200@www.pinetoplakesgolf.com
SUMMARY:Bingo
DESCRIPTION:Thursday afternoon Bingo\, open to the public
URL:https://www.pinetoplakesgolf.com/event/bingo-6/2026-10-29/
END:VEVENT
BEGIN:VEVENT
DTSTART;TZID=America/Phoenix:20261030T080000
DTEND;TZID=America/Phoenix:20261030T120000
DTSTAMP:20260422T004043
CREATED:20260227T173435Z
LAST-MODIFIED:20260420T171852Z
UID:10002232-1793347200-1793361600@www.pinetoplakesgolf.com
SUMMARY:Old Strokes
DESCRIPTION:League Play
URL:https://www.pinetoplakesgolf.com/event/old-strokes-56/2026-10-30/
END:VEVENT
BEGIN:VEVENT
DTSTART;TZID=America/Phoenix:20261031T120000
DTEND;TZID=America/Phoenix:20261031T160000
DTSTAMP:20260422T004043
CREATED:20260330T165002Z
LAST-MODIFIED:20260330T165002Z
UID:10002059-1793448000-1793462400@www.pinetoplakesgolf.com
SUMMARY:Closing Day Festivities
DESCRIPTION:Member only event – Greenskeeper’s Revenge
URL:https://www.pinetoplakesgolf.com/event/closing-day-festivities-3/
END:VEVENT
BEGIN:VEVENT
DTSTART;TZID=America/Phoenix:20261105T143000
DTEND;TZID=America/Phoenix:20261105T170000
DTSTAMP:20260422T004043
CREATED:20260330T161656Z
LAST-MODIFIED:20260330T161656Z
UID:10001919-1793889000-1793898000@www.pinetoplakesgolf.com
SUMMARY:Bingo
DESCRIPTION:Thursday afternoon Bingo\, open to the public
URL:https://www.pinetoplakesgolf.com/event/bingo-6/2026-11-05/
END:VEVENT
BEGIN:VEVENT
DTSTART;TZID=America/Phoenix:20261112T143000
DTEND;TZID=America/Phoenix:20261112T170000
DTSTAMP:20260422T004043
CREATED:20260330T161656Z
LAST-MODIFIED:20260330T161656Z
UID:10001920-1794493800-1794502800@www.pinetoplakesgolf.com
SUMMARY:Bingo
DESCRIPTION:Thursday afternoon Bingo\, open to the public
URL:https://www.pinetoplakesgolf.com/event/bingo-6/2026-11-12/
END:VEVENT
BEGIN:VEVENT
DTSTART;TZID=America/Phoenix:20261119T143000
DTEND;TZID=America/Phoenix:20261119T170000
DTSTAMP:20260422T004043
CREATED:20260330T161656Z
LAST-MODIFIED:20260330T161656Z
UID:10001921-1795098600-1795107600@www.pinetoplakesgolf.com
SUMMARY:Bingo
DESCRIPTION:Thursday afternoon Bingo\, open to the public
URL:https://www.pinetoplakesgolf.com/event/bingo-6/2026-11-19/
END:VEVENT
BEGIN:VEVENT
DTSTART;TZID=America/Phoenix:20261126T143000
DTEND;TZID=America/Phoenix:20261126T170000
DTSTAMP:20260422T004043
CREATED:20260330T161656Z
LAST-MODIFIED:20260330T161656Z
UID:10001922-1795703400-1795712400@www.pinetoplakesgolf.com
SUMMARY:Bingo
DESCRIPTION:Thursday afternoon Bingo\, open to the public
URL:https://www.pinetoplakesgolf.com/event/bingo-6/2026-11-26/
END:VEVENT
BEGIN:VEVENT
DTSTART;TZID=America/Phoenix:20261203T143000
DTEND;TZID=America/Phoenix:20261203T170000
DTSTAMP:20260422T004043
CREATED:20260330T161656Z
LAST-MODIFIED:20260330T161656Z
UID:10001923-1796308200-1796317200@www.pinetoplakesgolf.com
SUMMARY:Bingo
DESCRIPTION:Thursday afternoon Bingo\, open to the public
URL:https://www.pinetoplakesgolf.com/event/bingo-6/2026-12-03/
END:VEVENT
BEGIN:VEVENT
DTSTART;TZID=America/Phoenix:20261210T143000
DTEND;TZID=America/Phoenix:20261210T170000
DTSTAMP:20260422T004043
CREATED:20260330T161656Z
LAST-MODIFIED:20260330T161656Z
UID:10001924-1796913000-1796922000@www.pinetoplakesgolf.com
SUMMARY:Bingo
DESCRIPTION:Thursday afternoon Bingo\, open to the public
URL:https://www.pinetoplakesgolf.com/event/bingo-6/2026-12-10/
END:VEVENT
BEGIN:VEVENT
DTSTART;TZID=America/Phoenix:20261217T143000
DTEND;TZID=America/Phoenix:20261217T170000
DTSTAMP:20260422T004043
CREATED:20260330T161656Z
LAST-MODIFIED:20260330T161656Z
UID:10001925-1797517800-1797526800@www.pinetoplakesgolf.com
SUMMARY:Bingo
DESCRIPTION:Thursday afternoon Bingo\, open to the public
URL:https://www.pinetoplakesgolf.com/event/bingo-6/2026-12-17/
END:VEVENT
BEGIN:VEVENT
DTSTART;TZID=America/Phoenix:20261224T143000
DTEND;TZID=America/Phoenix:20261224T170000
DTSTAMP:20260422T004043
CREATED:20260330T161656Z
LAST-MODIFIED:20260330T161656Z
UID:10001926-1798122600-1798131600@www.pinetoplakesgolf.com
SUMMARY:Bingo
DESCRIPTION:Thursday afternoon Bingo\, open to the public
URL:https://www.pinetoplakesgolf.com/event/bingo-6/2026-12-24/
END:VEVENT
BEGIN:VEVENT
DTSTART;TZID=America/Phoenix:20261231T143000
DTEND;TZID=America/Phoenix:20261231T170000
DTSTAMP:20260422T004043
CREATED:20260330T161656Z
LAST-MODIFIED:20260330T161656Z
UID:10001927-1798727400-1798736400@www.pinetoplakesgolf.com
SUMMARY:Bingo
DESCRIPTION:Thursday afternoon Bingo\, open to the public
URL:https://www.pinetoplakesgolf.com/event/bingo-6/2026-12-31/
END:VEVENT
BEGIN:VEVENT
DTSTART;TZID=America/Phoenix:20270107T143000
DTEND;TZID=America/Phoenix:20270107T170000
DTSTAMP:20260422T004043
CREATED:20260330T161656Z
LAST-MODIFIED:20260330T161656Z
UID:10001928-1799332200-1799341200@www.pinetoplakesgolf.com
SUMMARY:Bingo
DESCRIPTION:Thursday afternoon Bingo\, open to the public
URL:https://www.pinetoplakesgolf.com/event/bingo-6/2027-01-07/
END:VEVENT
BEGIN:VEVENT
DTSTART;TZID=America/Phoenix:20270114T143000
DTEND;TZID=America/Phoenix:20270114T170000
DTSTAMP:20260422T004043
CREATED:20260330T161656Z
LAST-MODIFIED:20260330T161656Z
UID:10001929-1799937000-1799946000@www.pinetoplakesgolf.com
SUMMARY:Bingo
DESCRIPTION:Thursday afternoon Bingo\, open to the public
URL:https://www.pinetoplakesgolf.com/event/bingo-6/2027-01-14/
END:VEVENT
END:VCALENDAR