BEGIN:VCALENDAR
VERSION:2.0
PRODID:-//Pinetop Lakes Golf and Country Club - ECPv6.15.18//NONSGML v1.0//EN
CALSCALE:GREGORIAN
METHOD:PUBLISH
X-WR-CALNAME:Pinetop Lakes Golf and Country Club
X-ORIGINAL-URL:https://www.pinetoplakesgolf.com
X-WR-CALDESC:Events for Pinetop Lakes Golf and Country Club
REFRESH-INTERVAL;VALUE=DURATION:PT1H
X-Robots-Tag:noindex
X-PUBLISHED-TTL:PT1H
BEGIN:VTIMEZONE
TZID:UTC
BEGIN:STANDARD
TZOFFSETFROM:+0000
TZOFFSETTO:+0000
TZNAME:UTC
DTSTART:20230101T000000
END:STANDARD
END:VTIMEZONE
BEGIN:VEVENT
DTSTART;TZID=UTC:20240708T090000
DTEND;TZID=UTC:20240708T090000
DTSTAMP:20260423T143139
CREATED:20240418T215557Z
LAST-MODIFIED:20240426T220201Z
UID:10000097-1720429200-1720429200@www.pinetoplakesgolf.com
SUMMARY:Old Strokes
DESCRIPTION:
URL:https://www.pinetoplakesgolf.com/event/old-strokes-23/
END:VEVENT
BEGIN:VEVENT
DTSTART;TZID=UTC:20240708T140000
DTEND;TZID=UTC:20240708T140000
DTSTAMP:20260423T143139
CREATED:20240507T234801Z
LAST-MODIFIED:20241002T212951Z
UID:10000246-1720447200-1720447200@www.pinetoplakesgolf.com
SUMMARY:150 League
DESCRIPTION:
URL:https://www.pinetoplakesgolf.com/event/150-league/2024-07-08/
END:VEVENT
BEGIN:VEVENT
DTSTART;TZID=UTC:20240708T183000
DTEND;TZID=UTC:20240708T183000
DTSTAMP:20260423T143139
CREATED:20240524T000403Z
LAST-MODIFIED:20240831T050508Z
UID:10000318-1720463400-1720463400@www.pinetoplakesgolf.com
SUMMARY:Bingo
DESCRIPTION:
URL:https://www.pinetoplakesgolf.com/event/bingo-4/2024-07-08/
END:VEVENT
BEGIN:VEVENT
DTSTART;TZID=UTC:20240709T080000
DTEND;TZID=UTC:20240709T080000
DTSTAMP:20260423T143139
CREATED:20240418T215628Z
LAST-MODIFIED:20240426T220225Z
UID:10000098-1720512000-1720512000@www.pinetoplakesgolf.com
SUMMARY:Men's 9-Hole
DESCRIPTION:
URL:https://www.pinetoplakesgolf.com/event/mens-9-hole-11/
END:VEVENT
BEGIN:VEVENT
DTSTART;TZID=UTC:20240709T080000
DTEND;TZID=UTC:20240709T090000
DTSTAMP:20260423T143139
CREATED:20240524T002807Z
LAST-MODIFIED:20241002T213731Z
UID:10000458-1720512000-1720515600@www.pinetoplakesgolf.com
SUMMARY:Member Yoga
DESCRIPTION:
URL:https://www.pinetoplakesgolf.com/event/member-yoga-4/2024-07-09/
END:VEVENT
BEGIN:VEVENT
DTSTART;TZID=UTC:20240709T083000
DTEND;TZID=UTC:20240709T083000
DTSTAMP:20260423T143139
CREATED:20240418T215657Z
LAST-MODIFIED:20240426T220322Z
UID:10000099-1720513800-1720513800@www.pinetoplakesgolf.com
SUMMARY:Women's 9-Hole League
DESCRIPTION:
URL:https://www.pinetoplakesgolf.com/event/womens-9-hole-league-8/
END:VEVENT
BEGIN:VEVENT
DTSTART;TZID=UTC:20240709T130000
DTEND;TZID=UTC:20240709T160000
DTSTAMP:20260423T143139
CREATED:20240617T234323Z
LAST-MODIFIED:20241002T213440Z
UID:10000614-1720530000-1720540800@www.pinetoplakesgolf.com
SUMMARY:Bridge in Barclay's @ Pinetop Lakes
DESCRIPTION:
URL:https://www.pinetoplakesgolf.com/event/bridge-in-barclays-pinetop-lakes/2024-07-09/
END:VEVENT
BEGIN:VEVENT
DTSTART;TZID=UTC:20240709T140000
DTEND;TZID=UTC:20240709T140000
DTSTAMP:20260423T143139
CREATED:20240418T215733Z
LAST-MODIFIED:20240426T221044Z
UID:10000100-1720533600-1720533600@www.pinetoplakesgolf.com
SUMMARY:Swing and Swig
DESCRIPTION:
URL:https://www.pinetoplakesgolf.com/event/swing-and-swig-9/
END:VEVENT
BEGIN:VEVENT
DTSTART;TZID=UTC:20240710T083000
DTEND;TZID=UTC:20240710T083000
DTSTAMP:20260423T143139
CREATED:20240418T215805Z
LAST-MODIFIED:20240426T221132Z
UID:10000101-1720600200-1720600200@www.pinetoplakesgolf.com
SUMMARY:Women's 18-Hole League
DESCRIPTION:
URL:https://www.pinetoplakesgolf.com/event/womens-18-hole-league-8/
END:VEVENT
BEGIN:VEVENT
DTSTART;TZID=UTC:20240711T080000
DTEND;TZID=UTC:20240711T080000
DTSTAMP:20260423T143139
CREATED:20240418T215836Z
LAST-MODIFIED:20240426T221218Z
UID:10000102-1720684800-1720684800@www.pinetoplakesgolf.com
SUMMARY:Men's 18-Hole
DESCRIPTION:
URL:https://www.pinetoplakesgolf.com/event/mens-18-hole-12/
END:VEVENT
BEGIN:VEVENT
DTSTART;TZID=UTC:20240711T080000
DTEND;TZID=UTC:20240711T090000
DTSTAMP:20260423T143139
CREATED:20240509T025946Z
LAST-MODIFIED:20241002T213125Z
UID:10000530-1720684800-1720688400@www.pinetoplakesgolf.com
SUMMARY:Member Yoga
DESCRIPTION:
URL:https://www.pinetoplakesgolf.com/event/member-yoga-2/2024-07-11/
END:VEVENT
BEGIN:VEVENT
DTSTART;TZID=UTC:20240711T140000
DTEND;TZID=UTC:20240711T140000
DTSTAMP:20260423T143139
CREATED:20240621T040533Z
LAST-MODIFIED:20240626T232652Z
UID:10000680-1720706400-1720706400@www.pinetoplakesgolf.com
SUMMARY:Bingo
DESCRIPTION:
URL:https://www.pinetoplakesgolf.com/event/bingo-2-2/2024-07-11/
END:VEVENT
BEGIN:VEVENT
DTSTART;TZID=UTC:20240712T090000
DTEND;TZID=UTC:20240712T090000
DTSTAMP:20260423T143139
CREATED:20240418T215906Z
LAST-MODIFIED:20240426T221244Z
UID:10000103-1720774800-1720774800@www.pinetoplakesgolf.com
SUMMARY:Old Strokes
DESCRIPTION:
URL:https://www.pinetoplakesgolf.com/event/old-strokes-24/
END:VEVENT
BEGIN:VEVENT
DTSTART;TZID=UTC:20240712T094500
DTEND;TZID=UTC:20240712T094500
DTSTAMP:20260423T143139
CREATED:20240418T215932Z
LAST-MODIFIED:20240426T221408Z
UID:10000104-1720777500-1720777500@www.pinetoplakesgolf.com
SUMMARY:One Putters
DESCRIPTION:
URL:https://www.pinetoplakesgolf.com/event/one-putters-12/
END:VEVENT
BEGIN:VEVENT
DTSTART;VALUE=DATE:20240713
DTEND;VALUE=DATE:20240715
DTSTAMP:20260423T143139
CREATED:20240418T220047Z
LAST-MODIFIED:20240418T220047Z
UID:10000105-1720828800-1721001599@www.pinetoplakesgolf.com
SUMMARY:LPGA Amateur's
DESCRIPTION:36 players: tee times starting at noon and then 8:00 am shotgun on Sunday
URL:https://www.pinetoplakesgolf.com/event/lpga-amateurs/
END:VEVENT
BEGIN:VEVENT
DTSTART;TZID=UTC:20240715T083000
DTEND;TZID=UTC:20240715T083000
DTSTAMP:20260423T143139
CREATED:20240418T220405Z
LAST-MODIFIED:20240426T221551Z
UID:10000107-1721032200-1721032200@www.pinetoplakesgolf.com
SUMMARY:Team Play at Pinetop Country Club
DESCRIPTION:
URL:https://www.pinetoplakesgolf.com/event/team-play-at-pinetop-country-club/
END:VEVENT
BEGIN:VEVENT
DTSTART;TZID=UTC:20240715T090000
DTEND;TZID=UTC:20240715T090000
DTSTAMP:20260423T143139
CREATED:20240418T220433Z
LAST-MODIFIED:20240426T221736Z
UID:10000108-1721034000-1721034000@www.pinetoplakesgolf.com
SUMMARY:Old Strokes
DESCRIPTION:
URL:https://www.pinetoplakesgolf.com/event/old-strokes-25/
END:VEVENT
BEGIN:VEVENT
DTSTART;TZID=UTC:20240715T140000
DTEND;TZID=UTC:20240715T140000
DTSTAMP:20260423T143139
CREATED:20240507T234801Z
LAST-MODIFIED:20241002T212951Z
UID:10000247-1721052000-1721052000@www.pinetoplakesgolf.com
SUMMARY:150 League
DESCRIPTION:
URL:https://www.pinetoplakesgolf.com/event/150-league/2024-07-15/
END:VEVENT
BEGIN:VEVENT
DTSTART;TZID=UTC:20240715T183000
DTEND;TZID=UTC:20240715T183000
DTSTAMP:20260423T143139
CREATED:20240524T000403Z
LAST-MODIFIED:20240831T050508Z
UID:10000319-1721068200-1721068200@www.pinetoplakesgolf.com
SUMMARY:Bingo
DESCRIPTION:
URL:https://www.pinetoplakesgolf.com/event/bingo-4/2024-07-15/
END:VEVENT
BEGIN:VEVENT
DTSTART;TZID=UTC:20240716T080000
DTEND;TZID=UTC:20240716T080000
DTSTAMP:20260423T143139
CREATED:20240418T220509Z
LAST-MODIFIED:20240426T221701Z
UID:10000109-1721116800-1721116800@www.pinetoplakesgolf.com
SUMMARY:Men's 9-Hole
DESCRIPTION:
URL:https://www.pinetoplakesgolf.com/event/mens-9-hole-12/
END:VEVENT
BEGIN:VEVENT
DTSTART;TZID=UTC:20240716T080000
DTEND;TZID=UTC:20240716T090000
DTSTAMP:20260423T143139
CREATED:20240524T002807Z
LAST-MODIFIED:20241002T213731Z
UID:10000459-1721116800-1721120400@www.pinetoplakesgolf.com
SUMMARY:Member Yoga
DESCRIPTION:
URL:https://www.pinetoplakesgolf.com/event/member-yoga-4/2024-07-16/
END:VEVENT
BEGIN:VEVENT
DTSTART;TZID=UTC:20240716T090000
DTEND;TZID=UTC:20240716T090000
DTSTAMP:20260423T143139
CREATED:20240418T220555Z
LAST-MODIFIED:20240717T010616Z
UID:10000110-1721120400-1721120400@www.pinetoplakesgolf.com
SUMMARY:Women's 9-Hole League
DESCRIPTION:
URL:https://www.pinetoplakesgolf.com/event/womens-9-hole-league-9/
END:VEVENT
BEGIN:VEVENT
DTSTART;TZID=UTC:20240716T130000
DTEND;TZID=UTC:20240716T160000
DTSTAMP:20260423T143139
CREATED:20240617T234323Z
LAST-MODIFIED:20241002T213440Z
UID:10000615-1721134800-1721145600@www.pinetoplakesgolf.com
SUMMARY:Bridge in Barclay's @ Pinetop Lakes
DESCRIPTION:
URL:https://www.pinetoplakesgolf.com/event/bridge-in-barclays-pinetop-lakes/2024-07-16/
END:VEVENT
BEGIN:VEVENT
DTSTART;TZID=UTC:20240716T210000
DTEND;TZID=UTC:20240716T223000
DTSTAMP:20260423T143139
CREATED:20240418T221352Z
LAST-MODIFIED:20240418T221352Z
UID:10000111-1721163600-1721169000@www.pinetoplakesgolf.com
SUMMARY:Swing and Swig
DESCRIPTION:
URL:https://www.pinetoplakesgolf.com/event/swing-and-swig-10/
END:VEVENT
BEGIN:VEVENT
DTSTART;TZID=UTC:20240717T083000
DTEND;TZID=UTC:20240717T083000
DTSTAMP:20260423T143139
CREATED:20240418T221423Z
LAST-MODIFIED:20240426T221903Z
UID:10000112-1721205000-1721205000@www.pinetoplakesgolf.com
SUMMARY:Women's 18-Hole League
DESCRIPTION:
URL:https://www.pinetoplakesgolf.com/event/womens-18-hole-league-9/
END:VEVENT
BEGIN:VEVENT
DTSTART;TZID=UTC:20240717T163000
DTEND;TZID=UTC:20240717T193000
DTSTAMP:20260423T143139
CREATED:20240418T221508Z
LAST-MODIFIED:20240606T062635Z
UID:10000113-1721233800-1721244600@www.pinetoplakesgolf.com
SUMMARY:Music in the Pines (KT Klassics)
DESCRIPTION:
URL:https://www.pinetoplakesgolf.com/event/music-in-the-pines-kt-klassics/
END:VEVENT
BEGIN:VEVENT
DTSTART;TZID=UTC:20240718T080000
DTEND;TZID=UTC:20240718T080000
DTSTAMP:20260423T143139
CREATED:20240418T221538Z
LAST-MODIFIED:20240426T222015Z
UID:10000114-1721289600-1721289600@www.pinetoplakesgolf.com
SUMMARY:Men's 18-Hole
DESCRIPTION:
URL:https://www.pinetoplakesgolf.com/event/mens-18-hole-13/
END:VEVENT
BEGIN:VEVENT
DTSTART;TZID=UTC:20240718T080000
DTEND;TZID=UTC:20240718T090000
DTSTAMP:20260423T143139
CREATED:20240509T025946Z
LAST-MODIFIED:20241002T213125Z
UID:10000531-1721289600-1721293200@www.pinetoplakesgolf.com
SUMMARY:Member Yoga
DESCRIPTION:
URL:https://www.pinetoplakesgolf.com/event/member-yoga-2/2024-07-18/
END:VEVENT
BEGIN:VEVENT
DTSTART;TZID=UTC:20240718T123000
DTEND;TZID=UTC:20240718T123000
DTSTAMP:20260423T143139
CREATED:20240418T221608Z
LAST-MODIFIED:20240426T222139Z
UID:10000115-1721305800-1721305800@www.pinetoplakesgolf.com
SUMMARY:Men's Club Meeting
DESCRIPTION:
URL:https://www.pinetoplakesgolf.com/event/mens-club-meeting-2/
END:VEVENT
BEGIN:VEVENT
DTSTART;TZID=UTC:20240718T123000
DTEND;TZID=UTC:20240718T133000
DTSTAMP:20260423T143139
CREATED:20240520T232821Z
LAST-MODIFIED:20240520T232848Z
UID:10000599-1721305800-1721309400@www.pinetoplakesgolf.com
SUMMARY:Men's Club Meeting
DESCRIPTION:Thirsty Thursday
URL:https://www.pinetoplakesgolf.com/event/mens-club-meeting-4/2024-07-18/
END:VEVENT
END:VCALENDAR