BEGIN:VCALENDAR
VERSION:2.0
PRODID:-//Pinetop Lakes Golf and Country Club - ECPv6.15.18//NONSGML v1.0//EN
CALSCALE:GREGORIAN
METHOD:PUBLISH
X-WR-CALNAME:Pinetop Lakes Golf and Country Club
X-ORIGINAL-URL:https://www.pinetoplakesgolf.com
X-WR-CALDESC:Events for Pinetop Lakes Golf and Country Club
REFRESH-INTERVAL;VALUE=DURATION:PT1H
X-Robots-Tag:noindex
X-PUBLISHED-TTL:PT1H
BEGIN:VTIMEZONE
TZID:UTC
BEGIN:STANDARD
TZOFFSETFROM:+0000
TZOFFSETTO:+0000
TZNAME:UTC
DTSTART:20230101T000000
END:STANDARD
END:VTIMEZONE
BEGIN:VEVENT
DTSTART;TZID=UTC:20240604T080000
DTEND;TZID=UTC:20240604T080000
DTSTAMP:20260423T130503
CREATED:20240418T065150Z
LAST-MODIFIED:20240426T212745Z
UID:10000046-1717488000-1717488000@www.pinetoplakesgolf.com
SUMMARY:Men's 9-Hole
DESCRIPTION:
URL:https://www.pinetoplakesgolf.com/event/mens-9-hole-7/
END:VEVENT
BEGIN:VEVENT
DTSTART;TZID=UTC:20240604T083000
DTEND;TZID=UTC:20240604T083000
DTSTAMP:20260423T130503
CREATED:20240418T065213Z
LAST-MODIFIED:20240426T212815Z
UID:10000047-1717489800-1717489800@www.pinetoplakesgolf.com
SUMMARY:Women's 9-Hole League
DESCRIPTION:
URL:https://www.pinetoplakesgolf.com/event/womens-9-hole-league-4/
END:VEVENT
BEGIN:VEVENT
DTSTART;TZID=UTC:20240604T130000
DTEND;TZID=UTC:20240604T160000
DTSTAMP:20260423T130503
CREATED:20240617T234323Z
LAST-MODIFIED:20241002T213440Z
UID:10000609-1717506000-1717516800@www.pinetoplakesgolf.com
SUMMARY:Bridge in Barclay's @ Pinetop Lakes
DESCRIPTION:
URL:https://www.pinetoplakesgolf.com/event/bridge-in-barclays-pinetop-lakes/2024-06-04/
END:VEVENT
BEGIN:VEVENT
DTSTART;TZID=UTC:20240604T140000
DTEND;TZID=UTC:20240604T140000
DTSTAMP:20260423T130503
CREATED:20240418T065238Z
LAST-MODIFIED:20240426T212844Z
UID:10000048-1717509600-1717509600@www.pinetoplakesgolf.com
SUMMARY:Swing and Swig
DESCRIPTION:
URL:https://www.pinetoplakesgolf.com/event/swing-and-swig-4/
END:VEVENT
BEGIN:VEVENT
DTSTART;TZID=UTC:20240605T083000
DTEND;TZID=UTC:20240605T083000
DTSTAMP:20260423T130503
CREATED:20240418T065311Z
LAST-MODIFIED:20240426T213028Z
UID:10000049-1717576200-1717576200@www.pinetoplakesgolf.com
SUMMARY:Women's 18-Hole League
DESCRIPTION:
URL:https://www.pinetoplakesgolf.com/event/womens-18-hole-league-4/
END:VEVENT
BEGIN:VEVENT
DTSTART;TZID=UTC:20240605T160000
DTEND;TZID=UTC:20240605T190000
DTSTAMP:20260423T130503
CREATED:20240418T065431Z
LAST-MODIFIED:20240426T213122Z
UID:10000050-1717603200-1717614000@www.pinetoplakesgolf.com
SUMMARY:Music in the Pines (Armour)
DESCRIPTION:
URL:https://www.pinetoplakesgolf.com/event/music-in-the-pines-armour/
END:VEVENT
BEGIN:VEVENT
DTSTART;TZID=UTC:20240606T080000
DTEND;TZID=UTC:20240606T080000
DTSTAMP:20260423T130503
CREATED:20240418T204907Z
LAST-MODIFIED:20240426T213204Z
UID:10000051-1717660800-1717660800@www.pinetoplakesgolf.com
SUMMARY:Men's 18-Hole
DESCRIPTION:
URL:https://www.pinetoplakesgolf.com/event/mens-18-hole-7/
END:VEVENT
BEGIN:VEVENT
DTSTART;TZID=UTC:20240606T080000
DTEND;TZID=UTC:20240606T090000
DTSTAMP:20260423T130503
CREATED:20240509T025946Z
LAST-MODIFIED:20241002T213125Z
UID:10000525-1717660800-1717664400@www.pinetoplakesgolf.com
SUMMARY:Member Yoga
DESCRIPTION:
URL:https://www.pinetoplakesgolf.com/event/member-yoga-2/2024-06-06/
END:VEVENT
BEGIN:VEVENT
DTSTART;TZID=UTC:20240606T143000
DTEND;TZID=UTC:20240606T143000
DTSTAMP:20260423T130503
CREATED:20240508T002944Z
LAST-MODIFIED:20240508T005700Z
UID:10000383-1717684200-1717684200@www.pinetoplakesgolf.com
SUMMARY:Bingo
DESCRIPTION:
URL:https://www.pinetoplakesgolf.com/event/bingo-2/2024-06-06/
END:VEVENT
BEGIN:VEVENT
DTSTART;TZID=UTC:20240607T090000
DTEND;TZID=UTC:20240607T090000
DTSTAMP:20260423T130503
CREATED:20240418T205307Z
LAST-MODIFIED:20240426T213328Z
UID:10000052-1717750800-1717750800@www.pinetoplakesgolf.com
SUMMARY:Old Strokes
DESCRIPTION:
URL:https://www.pinetoplakesgolf.com/event/old-strokes-14/
END:VEVENT
BEGIN:VEVENT
DTSTART;TZID=UTC:20240607T094500
DTEND;TZID=UTC:20240607T094500
DTSTAMP:20260423T130503
CREATED:20240418T205645Z
LAST-MODIFIED:20240426T213406Z
UID:10000053-1717753500-1717753500@www.pinetoplakesgolf.com
SUMMARY:One Putters
DESCRIPTION:
URL:https://www.pinetoplakesgolf.com/event/one-putters-7/
END:VEVENT
BEGIN:VEVENT
DTSTART;TZID=UTC:20240608T130000
DTEND;TZID=UTC:20240608T173000
DTSTAMP:20260423T130503
CREATED:20240418T210144Z
LAST-MODIFIED:20240426T213503Z
UID:10000054-1717851600-1717867800@www.pinetoplakesgolf.com
SUMMARY:ASU Steak Fry
DESCRIPTION:
URL:https://www.pinetoplakesgolf.com/event/asu-steak-fry/
END:VEVENT
BEGIN:VEVENT
DTSTART;TZID=UTC:20240610T090000
DTEND;TZID=UTC:20240610T090000
DTSTAMP:20260423T130503
CREATED:20240418T211454Z
LAST-MODIFIED:20240426T213536Z
UID:10000055-1718010000-1718010000@www.pinetoplakesgolf.com
SUMMARY:Old Strokes
DESCRIPTION:
URL:https://www.pinetoplakesgolf.com/event/old-strokes-15/
END:VEVENT
BEGIN:VEVENT
DTSTART;TZID=UTC:20240610T140000
DTEND;TZID=UTC:20240610T140000
DTSTAMP:20260423T130503
CREATED:20240507T234801Z
LAST-MODIFIED:20241002T212951Z
UID:10000242-1718028000-1718028000@www.pinetoplakesgolf.com
SUMMARY:150 League
DESCRIPTION:
URL:https://www.pinetoplakesgolf.com/event/150-league/2024-06-10/
END:VEVENT
BEGIN:VEVENT
DTSTART;TZID=UTC:20240610T170000
DTEND;TZID=UTC:20240610T170000
DTSTAMP:20260423T130503
CREATED:20240418T211531Z
LAST-MODIFIED:20240426T213627Z
UID:10000056-1718038800-1718038800@www.pinetoplakesgolf.com
SUMMARY:Pine-A-Rama Mixer
DESCRIPTION:
URL:https://www.pinetoplakesgolf.com/event/pine-a-rama-mixer/
END:VEVENT
BEGIN:VEVENT
DTSTART;TZID=UTC:20240610T183000
DTEND;TZID=UTC:20240610T183000
DTSTAMP:20260423T130503
CREATED:20240524T000403Z
LAST-MODIFIED:20240831T050508Z
UID:10000314-1718044200-1718044200@www.pinetoplakesgolf.com
SUMMARY:Bingo
DESCRIPTION:
URL:https://www.pinetoplakesgolf.com/event/bingo-4/2024-06-10/
END:VEVENT
BEGIN:VEVENT
DTSTART;TZID=UTC:20240611T080000
DTEND;TZID=UTC:20240611T080000
DTSTAMP:20260423T130503
CREATED:20240418T211606Z
LAST-MODIFIED:20240426T213705Z
UID:10000057-1718092800-1718092800@www.pinetoplakesgolf.com
SUMMARY:Pine-A-Rama
DESCRIPTION:
URL:https://www.pinetoplakesgolf.com/event/pine-a-rama/
END:VEVENT
BEGIN:VEVENT
DTSTART;TZID=UTC:20240611T080000
DTEND;TZID=UTC:20240611T090000
DTSTAMP:20260423T130503
CREATED:20240524T001532Z
LAST-MODIFIED:20240524T001826Z
UID:10000452-1718092800-1718096400@www.pinetoplakesgolf.com
SUMMARY:NO Yoga
DESCRIPTION:Due to another event
URL:https://www.pinetoplakesgolf.com/event/member-yoga-3/
END:VEVENT
BEGIN:VEVENT
DTSTART;TZID=UTC:20240611T130000
DTEND;TZID=UTC:20240611T160000
DTSTAMP:20260423T130504
CREATED:20240617T234323Z
LAST-MODIFIED:20241002T213440Z
UID:10000610-1718110800-1718121600@www.pinetoplakesgolf.com
SUMMARY:Bridge in Barclay's @ Pinetop Lakes
DESCRIPTION:
URL:https://www.pinetoplakesgolf.com/event/bridge-in-barclays-pinetop-lakes/2024-06-11/
END:VEVENT
BEGIN:VEVENT
DTSTART;TZID=UTC:20240611T140000
DTEND;TZID=UTC:20240611T140000
DTSTAMP:20260423T130504
CREATED:20240418T211636Z
LAST-MODIFIED:20240426T213800Z
UID:10000058-1718114400-1718114400@www.pinetoplakesgolf.com
SUMMARY:Swing and Swig
DESCRIPTION:
URL:https://www.pinetoplakesgolf.com/event/swing-and-swig-5/
END:VEVENT
BEGIN:VEVENT
DTSTART;TZID=UTC:20240612T080000
DTEND;TZID=UTC:20240612T080000
DTSTAMP:20260423T130504
CREATED:20240418T211714Z
LAST-MODIFIED:20240426T213829Z
UID:10000059-1718179200-1718179200@www.pinetoplakesgolf.com
SUMMARY:Pine-A-Rama
DESCRIPTION:
URL:https://www.pinetoplakesgolf.com/event/pine-a-rama-2/
END:VEVENT
BEGIN:VEVENT
DTSTART;TZID=UTC:20240612T123000
DTEND;TZID=UTC:20240612T123000
DTSTAMP:20260423T130504
CREATED:20240418T211859Z
LAST-MODIFIED:20240426T213857Z
UID:10000060-1718195400-1718195400@www.pinetoplakesgolf.com
SUMMARY:Pine-A-Rama awards luncheon
DESCRIPTION:
URL:https://www.pinetoplakesgolf.com/event/pine-a-rama-awards-luncheon/
ATTACH;FMTTYPE=image/jpeg:https://www.pinetoplakesgolf.com/wp-content/uploads/sites/8955/2024/04/img_lunch_1x.jpg
END:VEVENT
BEGIN:VEVENT
DTSTART;TZID=UTC:20240613T080000
DTEND;TZID=UTC:20240613T080000
DTSTAMP:20260423T130504
CREATED:20240418T211930Z
LAST-MODIFIED:20240426T213934Z
UID:10000061-1718265600-1718265600@www.pinetoplakesgolf.com
SUMMARY:Men's 18-Hole
DESCRIPTION:
URL:https://www.pinetoplakesgolf.com/event/mens-18-hole-8/
END:VEVENT
BEGIN:VEVENT
DTSTART;TZID=UTC:20240613T080000
DTEND;TZID=UTC:20240613T090000
DTSTAMP:20260423T130504
CREATED:20240509T025946Z
LAST-MODIFIED:20241002T213125Z
UID:10000526-1718265600-1718269200@www.pinetoplakesgolf.com
SUMMARY:Member Yoga
DESCRIPTION:
URL:https://www.pinetoplakesgolf.com/event/member-yoga-2/2024-06-13/
END:VEVENT
BEGIN:VEVENT
DTSTART;TZID=UTC:20240613T123000
DTEND;TZID=UTC:20240613T133000
DTSTAMP:20260423T130504
CREATED:20240520T232821Z
LAST-MODIFIED:20240520T232848Z
UID:10000598-1718281800-1718285400@www.pinetoplakesgolf.com
SUMMARY:Men's Club Meeting
DESCRIPTION:Thirsty Thursday
URL:https://www.pinetoplakesgolf.com/event/mens-club-meeting-4/2024-06-13/
END:VEVENT
BEGIN:VEVENT
DTSTART;TZID=UTC:20240613T143000
DTEND;TZID=UTC:20240613T143000
DTSTAMP:20260423T130504
CREATED:20240508T002944Z
LAST-MODIFIED:20240508T005700Z
UID:10000384-1718289000-1718289000@www.pinetoplakesgolf.com
SUMMARY:Bingo
DESCRIPTION:
URL:https://www.pinetoplakesgolf.com/event/bingo-2/2024-06-13/
END:VEVENT
BEGIN:VEVENT
DTSTART;TZID=UTC:20240614T090000
DTEND;TZID=UTC:20240614T090000
DTSTAMP:20260423T130504
CREATED:20240418T211952Z
LAST-MODIFIED:20240426T214003Z
UID:10000062-1718355600-1718355600@www.pinetoplakesgolf.com
SUMMARY:Old Strokes
DESCRIPTION:
URL:https://www.pinetoplakesgolf.com/event/old-strokes-16/
END:VEVENT
BEGIN:VEVENT
DTSTART;TZID=UTC:20240614T094500
DTEND;TZID=UTC:20240614T094500
DTSTAMP:20260423T130504
CREATED:20240418T212024Z
LAST-MODIFIED:20240426T214037Z
UID:10000063-1718358300-1718358300@www.pinetoplakesgolf.com
SUMMARY:One Putters
DESCRIPTION:
URL:https://www.pinetoplakesgolf.com/event/one-putters-8/
END:VEVENT
BEGIN:VEVENT
DTSTART;VALUE=DATE:20240617
DTEND;VALUE=DATE:20240621
DTSTAMP:20260423T130504
CREATED:20240418T212151Z
LAST-MODIFIED:20240418T212151Z
UID:10000064-1718582400-1718927999@www.pinetoplakesgolf.com
SUMMARY:JR. Golf Clinic
DESCRIPTION:
URL:https://www.pinetoplakesgolf.com/event/jr-golf-clinic/
ATTACH;FMTTYPE=image/jpeg:https://www.pinetoplakesgolf.com/wp-content/uploads/sites/8955/2024/04/img_golf_1x_5b652e.jpg
END:VEVENT
BEGIN:VEVENT
DTSTART;TZID=UTC:20240617T080000
DTEND;TZID=UTC:20240617T090000
DTSTAMP:20260423T130504
CREATED:20240418T212221Z
LAST-MODIFIED:20240426T214201Z
UID:10000065-1718611200-1718614800@www.pinetoplakesgolf.com
SUMMARY:Board Meeting Members Room
DESCRIPTION:
URL:https://www.pinetoplakesgolf.com/event/board-meeting-members-room-3/
END:VEVENT
END:VCALENDAR