BEGIN:VCALENDAR
VERSION:2.0
PRODID:-//Pinetop Lakes Golf and Country Club - ECPv6.15.18//NONSGML v1.0//EN
CALSCALE:GREGORIAN
METHOD:PUBLISH
X-WR-CALNAME:Pinetop Lakes Golf and Country Club
X-ORIGINAL-URL:https://www.pinetoplakesgolf.com
X-WR-CALDESC:Events for Pinetop Lakes Golf and Country Club
REFRESH-INTERVAL;VALUE=DURATION:PT1H
X-Robots-Tag:noindex
X-PUBLISHED-TTL:PT1H
BEGIN:VTIMEZONE
TZID:America/Phoenix
BEGIN:STANDARD
TZOFFSETFROM:-0700
TZOFFSETTO:-0700
TZNAME:MST
DTSTART:20250101T000000
END:STANDARD
END:VTIMEZONE
BEGIN:VEVENT
DTSTART;TZID=America/Phoenix:20260916T083000
DTEND;TZID=America/Phoenix:20260916T123000
DTSTAMP:20260421T223729
CREATED:20260217T162201Z
LAST-MODIFIED:20260217T162201Z
UID:10001724-1789547400-1789561800@www.pinetoplakesgolf.com
SUMMARY:WGA 18-Hole League
DESCRIPTION:Member League Play
URL:https://www.pinetoplakesgolf.com/event/wga-18-hole-league/2026-09-16/
END:VEVENT
BEGIN:VEVENT
DTSTART;TZID=America/Phoenix:20260916T123000
DTEND;TZID=America/Phoenix:20260916T140000
DTSTAMP:20260421T223729
CREATED:20260302T203524Z
LAST-MODIFIED:20260302T203524Z
UID:10001873-1789561800-1789567200@www.pinetoplakesgolf.com
SUMMARY:WGA League Awards Banquet
DESCRIPTION:
URL:https://www.pinetoplakesgolf.com/event/wga-league-awards-banquet/
END:VEVENT
BEGIN:VEVENT
DTSTART;TZID=America/Phoenix:20260916T183000
DTEND;TZID=America/Phoenix:20260916T203000
DTSTAMP:20260421T223729
CREATED:20260302T203614Z
LAST-MODIFIED:20260330T164022Z
UID:10001874-1789583400-1789590600@www.pinetoplakesgolf.com
SUMMARY:Member Game Night - Majority Rules
DESCRIPTION:
URL:https://www.pinetoplakesgolf.com/event/member-game-night-majority-rules-2/
END:VEVENT
END:VCALENDAR