BEGIN:VCALENDAR
VERSION:2.0
PRODID:-//Pinetop Lakes Golf and Country Club - ECPv6.15.18//NONSGML v1.0//EN
CALSCALE:GREGORIAN
METHOD:PUBLISH
X-WR-CALNAME:Pinetop Lakes Golf and Country Club
X-ORIGINAL-URL:https://www.pinetoplakesgolf.com
X-WR-CALDESC:Events for Pinetop Lakes Golf and Country Club
REFRESH-INTERVAL;VALUE=DURATION:PT1H
X-Robots-Tag:noindex
X-PUBLISHED-TTL:PT1H
BEGIN:VTIMEZONE
TZID:America/Phoenix
BEGIN:STANDARD
TZOFFSETFROM:-0700
TZOFFSETTO:-0700
TZNAME:MST
DTSTART:20250101T000000
END:STANDARD
END:VTIMEZONE
BEGIN:VEVENT
DTSTART;TZID=America/Phoenix:20260908T090000
DTEND;TZID=America/Phoenix:20260908T100000
DTSTAMP:20260421T223730
CREATED:20260217T164854Z
LAST-MODIFIED:20260217T164854Z
UID:10001762-1788858000-1788861600@www.pinetoplakesgolf.com
SUMMARY:Yoga in the Pines
DESCRIPTION:Member Only Yoga
URL:https://www.pinetoplakesgolf.com/event/yoga-in-the-pines/2026-09-08/
END:VEVENT
BEGIN:VEVENT
DTSTART;TZID=America/Phoenix:20260908T090000
DTEND;TZID=America/Phoenix:20260908T110000
DTSTAMP:20260421T223730
CREATED:20260330T162817Z
LAST-MODIFIED:20260330T165126Z
UID:10001981-1788858000-1788865200@www.pinetoplakesgolf.com
SUMMARY:WGA 9-Hole League
DESCRIPTION:Member League Play
URL:https://www.pinetoplakesgolf.com/event/wga-9-hole-league/2026-09-08/
END:VEVENT
BEGIN:VEVENT
DTSTART;TZID=America/Phoenix:20260908T094500
DTEND;TZID=America/Phoenix:20260908T113000
DTSTAMP:20260421T223730
CREATED:20260217T160855Z
LAST-MODIFIED:20260217T160855Z
UID:10001558-1788860700-1788867000@www.pinetoplakesgolf.com
SUMMARY:MGA 9-Hole League
DESCRIPTION:Member League Play
URL:https://www.pinetoplakesgolf.com/event/mga-9-hole-league/2026-09-08/
END:VEVENT
BEGIN:VEVENT
DTSTART;TZID=America/Phoenix:20260908T123000
DTEND;TZID=America/Phoenix:20260908T150000
DTSTAMP:20260421T223730
CREATED:20260217T165001Z
LAST-MODIFIED:20260217T165001Z
UID:10001781-1788870600-1788879600@www.pinetoplakesgolf.com
SUMMARY:Bridge
DESCRIPTION:
URL:https://www.pinetoplakesgolf.com/event/bridge/2026-09-08/
END:VEVENT
BEGIN:VEVENT
DTSTART;TZID=America/Phoenix:20260908T140000
DTEND;TZID=America/Phoenix:20260908T170000
DTSTAMP:20260421T223730
CREATED:20260217T161737Z
LAST-MODIFIED:20260330T164657Z
UID:10002054-1788876000-1788886800@www.pinetoplakesgolf.com
SUMMARY:Swing & Swig
DESCRIPTION:Afternoon Member Play
URL:https://www.pinetoplakesgolf.com/event/swing-swig-2/2026-09-08/
END:VEVENT
END:VCALENDAR