BEGIN:VCALENDAR
VERSION:2.0
PRODID:-//Pinetop Lakes Golf and Country Club - ECPv6.15.18//NONSGML v1.0//EN
CALSCALE:GREGORIAN
METHOD:PUBLISH
X-ORIGINAL-URL:https://www.pinetoplakesgolf.com
X-WR-CALDESC:Events for Pinetop Lakes Golf and Country Club
REFRESH-INTERVAL;VALUE=DURATION:PT1H
X-Robots-Tag:noindex
X-PUBLISHED-TTL:PT1H
BEGIN:VTIMEZONE
TZID:America/Phoenix
BEGIN:STANDARD
TZOFFSETFROM:-0700
TZOFFSETTO:-0700
TZNAME:MST
DTSTART:20250101T000000
END:STANDARD
END:VTIMEZONE
BEGIN:VEVENT
DTSTART;TZID=America/Phoenix:20260728T090000
DTEND;TZID=America/Phoenix:20260728T100000
DTSTAMP:20260421T183307
CREATED:20260217T164854Z
LAST-MODIFIED:20260217T164854Z
UID:10001756-1785229200-1785232800@www.pinetoplakesgolf.com
SUMMARY:Yoga in the Pines
DESCRIPTION:Member Only Yoga
URL:https://www.pinetoplakesgolf.com/event/yoga-in-the-pines/2026-07-28/
END:VEVENT
BEGIN:VEVENT
DTSTART;TZID=America/Phoenix:20260728T090000
DTEND;TZID=America/Phoenix:20260728T110000
DTSTAMP:20260421T183307
CREATED:20260330T162817Z
LAST-MODIFIED:20260330T165126Z
UID:10001975-1785229200-1785236400@www.pinetoplakesgolf.com
SUMMARY:WGA 9-Hole League
DESCRIPTION:Member League Play
URL:https://www.pinetoplakesgolf.com/event/wga-9-hole-league/2026-07-28/
END:VEVENT
BEGIN:VEVENT
DTSTART;TZID=America/Phoenix:20260728T094500
DTEND;TZID=America/Phoenix:20260728T113000
DTSTAMP:20260421T183307
CREATED:20260217T160855Z
LAST-MODIFIED:20260217T160855Z
UID:10001552-1785231900-1785238200@www.pinetoplakesgolf.com
SUMMARY:MGA 9-Hole League
DESCRIPTION:Member League Play
URL:https://www.pinetoplakesgolf.com/event/mga-9-hole-league/2026-07-28/
END:VEVENT
BEGIN:VEVENT
DTSTART;TZID=America/Phoenix:20260728T123000
DTEND;TZID=America/Phoenix:20260728T150000
DTSTAMP:20260421T183307
CREATED:20260217T165001Z
LAST-MODIFIED:20260217T165001Z
UID:10001775-1785241800-1785250800@www.pinetoplakesgolf.com
SUMMARY:Bridge
DESCRIPTION:
URL:https://www.pinetoplakesgolf.com/event/bridge/2026-07-28/
END:VEVENT
BEGIN:VEVENT
DTSTART;TZID=America/Phoenix:20260728T140000
DTEND;TZID=America/Phoenix:20260728T170000
DTSTAMP:20260421T183307
CREATED:20260217T161737Z
LAST-MODIFIED:20260330T164657Z
UID:10002048-1785247200-1785258000@www.pinetoplakesgolf.com
SUMMARY:Swing & Swig
DESCRIPTION:Afternoon Member Play
URL:https://www.pinetoplakesgolf.com/event/swing-swig-2/2026-07-28/
END:VEVENT
END:VCALENDAR