BEGIN:VCALENDAR
VERSION:2.0
PRODID:-//Pinetop Lakes Golf and Country Club - ECPv6.15.18//NONSGML v1.0//EN
CALSCALE:GREGORIAN
METHOD:PUBLISH
X-ORIGINAL-URL:https://www.pinetoplakesgolf.com
X-WR-CALDESC:Events for Pinetop Lakes Golf and Country Club
REFRESH-INTERVAL;VALUE=DURATION:PT1H
X-Robots-Tag:noindex
X-PUBLISHED-TTL:PT1H
BEGIN:VTIMEZONE
TZID:America/Phoenix
BEGIN:STANDARD
TZOFFSETFROM:-0700
TZOFFSETTO:-0700
TZNAME:MST
DTSTART:20250101T000000
END:STANDARD
END:VTIMEZONE
BEGIN:VEVENT
DTSTART;TZID=America/Phoenix:20260615T080000
DTEND;TZID=America/Phoenix:20260618T170000
DTSTAMP:20260421T155902
CREATED:20260312T204312Z
LAST-MODIFIED:20260312T204312Z
UID:10001877-1781510400-1781802000@www.pinetoplakesgolf.com
SUMMARY:Jr. Golf Week
DESCRIPTION:3 Days of Instruction and a fun Golf outing on the 4th and final day.  Registration and more information to come in late April\, 2026.
URL:https://www.pinetoplakesgolf.com/event/jr-golf-week/
END:VEVENT
BEGIN:VEVENT
DTSTART;TZID=America/Phoenix:20260616T090000
DTEND;TZID=America/Phoenix:20260616T100000
DTSTAMP:20260421T155902
CREATED:20260217T164854Z
LAST-MODIFIED:20260217T164854Z
UID:10001750-1781600400-1781604000@www.pinetoplakesgolf.com
SUMMARY:Yoga in the Pines
DESCRIPTION:Member Only Yoga
URL:https://www.pinetoplakesgolf.com/event/yoga-in-the-pines/2026-06-16/
END:VEVENT
BEGIN:VEVENT
DTSTART;TZID=America/Phoenix:20260616T090000
DTEND;TZID=America/Phoenix:20260616T110000
DTSTAMP:20260421T155902
CREATED:20260330T162817Z
LAST-MODIFIED:20260330T165126Z
UID:10001969-1781600400-1781607600@www.pinetoplakesgolf.com
SUMMARY:WGA 9-Hole League
DESCRIPTION:Member League Play
URL:https://www.pinetoplakesgolf.com/event/wga-9-hole-league/2026-06-16/
END:VEVENT
BEGIN:VEVENT
DTSTART;TZID=America/Phoenix:20260616T094500
DTEND;TZID=America/Phoenix:20260616T113000
DTSTAMP:20260421T155902
CREATED:20260217T160855Z
LAST-MODIFIED:20260217T160855Z
UID:10001546-1781603100-1781609400@www.pinetoplakesgolf.com
SUMMARY:MGA 9-Hole League
DESCRIPTION:Member League Play
URL:https://www.pinetoplakesgolf.com/event/mga-9-hole-league/2026-06-16/
END:VEVENT
BEGIN:VEVENT
DTSTART;TZID=America/Phoenix:20260616T123000
DTEND;TZID=America/Phoenix:20260616T150000
DTSTAMP:20260421T155902
CREATED:20260217T165001Z
LAST-MODIFIED:20260217T165001Z
UID:10001769-1781613000-1781622000@www.pinetoplakesgolf.com
SUMMARY:Bridge
DESCRIPTION:
URL:https://www.pinetoplakesgolf.com/event/bridge/2026-06-16/
END:VEVENT
BEGIN:VEVENT
DTSTART;TZID=America/Phoenix:20260616T140000
DTEND;TZID=America/Phoenix:20260616T170000
DTSTAMP:20260421T155902
CREATED:20260217T161737Z
LAST-MODIFIED:20260330T164657Z
UID:10002042-1781618400-1781629200@www.pinetoplakesgolf.com
SUMMARY:Swing & Swig
DESCRIPTION:Afternoon Member Play
URL:https://www.pinetoplakesgolf.com/event/swing-swig-2/2026-06-16/
END:VEVENT
END:VCALENDAR