BEGIN:VCALENDAR
VERSION:2.0
PRODID:-//Pinetop Lakes Golf and Country Club - ECPv6.15.18//NONSGML v1.0//EN
CALSCALE:GREGORIAN
METHOD:PUBLISH
X-WR-CALNAME:Pinetop Lakes Golf and Country Club
X-ORIGINAL-URL:https://www.pinetoplakesgolf.com
X-WR-CALDESC:Events for Pinetop Lakes Golf and Country Club
REFRESH-INTERVAL;VALUE=DURATION:PT1H
X-Robots-Tag:noindex
X-PUBLISHED-TTL:PT1H
BEGIN:VTIMEZONE
TZID:America/Phoenix
BEGIN:STANDARD
TZOFFSETFROM:-0700
TZOFFSETTO:-0700
TZNAME:MST
DTSTART:20250101T000000
END:STANDARD
END:VTIMEZONE
BEGIN:VEVENT
DTSTART;TZID=America/Phoenix:20260609T080000
DTEND;TZID=America/Phoenix:20260610T170000
DTSTAMP:20260421T155715
CREATED:20260217T180232Z
LAST-MODIFIED:20260217T180232Z
UID:10001805-1780992000-1781110800@www.pinetoplakesgolf.com
SUMMARY:Pine-A-Rama
DESCRIPTION:Ladies Invitational
URL:https://www.pinetoplakesgolf.com/event/pine-a-rama-3/
END:VEVENT
END:VCALENDAR