BEGIN:VCALENDAR
VERSION:2.0
PRODID:-//Pinetop Lakes Golf and Country Club - ECPv6.15.18//NONSGML v1.0//EN
CALSCALE:GREGORIAN
METHOD:PUBLISH
X-WR-CALNAME:Pinetop Lakes Golf and Country Club
X-ORIGINAL-URL:https://www.pinetoplakesgolf.com
X-WR-CALDESC:Events for Pinetop Lakes Golf and Country Club
REFRESH-INTERVAL;VALUE=DURATION:PT1H
X-Robots-Tag:noindex
X-PUBLISHED-TTL:PT1H
BEGIN:VTIMEZONE
TZID:America/Phoenix
BEGIN:STANDARD
TZOFFSETFROM:-0700
TZOFFSETTO:-0700
TZNAME:MST
DTSTART:20250101T000000
END:STANDARD
END:VTIMEZONE
BEGIN:VEVENT
DTSTART;TZID=America/Phoenix:20260601T080000
DTEND;TZID=America/Phoenix:20260601T120000
DTSTAMP:20260423T015153
CREATED:20260420T170156Z
LAST-MODIFIED:20260422T222807Z
UID:10002241-1780300800-1780315200@www.pinetoplakesgolf.com
SUMMARY:Old Strokes
DESCRIPTION:League Play
URL:https://www.pinetoplakesgolf.com/event/old-strokes-58/2026-06-01/
END:VEVENT
BEGIN:VEVENT
DTSTART;TZID=America/Phoenix:20260601T080000
DTEND;TZID=America/Phoenix:20260601T120000
DTSTAMP:20260423T015153
CREATED:20260420T171651Z
LAST-MODIFIED:20260420T171652Z
UID:10002060-1780300800-1780315200@www.pinetoplakesgolf.com
SUMMARY:Old Strokes
DESCRIPTION:
URL:https://www.pinetoplakesgolf.com/event/old-strokes-58-2/2026-06-01/
END:VEVENT
BEGIN:VEVENT
DTSTART;TZID=America/Phoenix:20260601T183000
DTEND;TZID=America/Phoenix:20260601T210000
DTSTAMP:20260423T015153
CREATED:20260217T164708Z
LAST-MODIFIED:20260330T161903Z
UID:10001729-1780338600-1780347600@www.pinetoplakesgolf.com
SUMMARY:BINGO
DESCRIPTION:Open to the Public
URL:https://www.pinetoplakesgolf.com/event/bingo-5/2026-06-01/
END:VEVENT
END:VCALENDAR