BEGIN:VCALENDAR
VERSION:2.0
PRODID:-//Pinetop Lakes Golf and Country Club - ECPv6.15.18//NONSGML v1.0//EN
CALSCALE:GREGORIAN
METHOD:PUBLISH
X-WR-CALNAME:Pinetop Lakes Golf and Country Club
X-ORIGINAL-URL:https://www.pinetoplakesgolf.com
X-WR-CALDESC:Events for Pinetop Lakes Golf and Country Club
REFRESH-INTERVAL;VALUE=DURATION:PT1H
X-Robots-Tag:noindex
X-PUBLISHED-TTL:PT1H
BEGIN:VTIMEZONE
TZID:America/Phoenix
BEGIN:STANDARD
TZOFFSETFROM:-0700
TZOFFSETTO:-0700
TZNAME:MST
DTSTART:20250101T000000
END:STANDARD
END:VTIMEZONE
BEGIN:VEVENT
DTSTART;TZID=America/Phoenix:20260512T094500
DTEND;TZID=America/Phoenix:20260512T113000
DTSTAMP:20260421T133020
CREATED:20260217T160855Z
LAST-MODIFIED:20260217T160855Z
UID:10001541-1778579100-1778585400@www.pinetoplakesgolf.com
SUMMARY:MGA 9-Hole League
DESCRIPTION:Member League Play
URL:https://www.pinetoplakesgolf.com/event/mga-9-hole-league/2026-05-12/
END:VEVENT
BEGIN:VEVENT
DTSTART;TZID=America/Phoenix:20260512T140000
DTEND;TZID=America/Phoenix:20260512T170000
DTSTAMP:20260421T133020
CREATED:20260217T161737Z
LAST-MODIFIED:20260330T164657Z
UID:10002037-1778594400-1778605200@www.pinetoplakesgolf.com
SUMMARY:Swing & Swig
DESCRIPTION:Afternoon Member Play
URL:https://www.pinetoplakesgolf.com/event/swing-swig-2/2026-05-12/
END:VEVENT
END:VCALENDAR