BEGIN:VCALENDAR
VERSION:2.0
PRODID:-//Pinetop Lakes Golf and Country Club - ECPv6.15.18//NONSGML v1.0//EN
CALSCALE:GREGORIAN
METHOD:PUBLISH
X-WR-CALNAME:Pinetop Lakes Golf and Country Club
X-ORIGINAL-URL:https://www.pinetoplakesgolf.com
X-WR-CALDESC:Events for Pinetop Lakes Golf and Country Club
REFRESH-INTERVAL;VALUE=DURATION:PT1H
X-Robots-Tag:noindex
X-PUBLISHED-TTL:PT1H
BEGIN:VTIMEZONE
TZID:America/Phoenix
BEGIN:STANDARD
TZOFFSETFROM:-0700
TZOFFSETTO:-0700
TZNAME:MST
DTSTART:20240101T000000
END:STANDARD
END:VTIMEZONE
BEGIN:VTIMEZONE
TZID:UTC
BEGIN:STANDARD
TZOFFSETFROM:+0000
TZOFFSETTO:+0000
TZNAME:UTC
DTSTART:20240101T000000
END:STANDARD
END:VTIMEZONE
BEGIN:VEVENT
DTSTART;TZID=America/Phoenix:20250704T080000
DTEND;TZID=America/Phoenix:20250705T120000
DTSTAMP:20260422T062318
CREATED:20250307T170731Z
LAST-MODIFIED:20250307T170731Z
UID:10000994-1751616000-1751716800@www.pinetoplakesgolf.com
SUMMARY:Liar's Tournament
DESCRIPTION:Practice round at 10am on Friday\, Tournament on Saturday with a shotgun start at 8am.
URL:https://www.pinetoplakesgolf.com/event/liars-tournament-3/
END:VEVENT
BEGIN:VEVENT
DTSTART;TZID=America/Phoenix:20250705T043000
DTEND;TZID=America/Phoenix:20250705T073000
DTSTAMP:20260422T062318
CREATED:20241002T212124Z
LAST-MODIFIED:20250609T174532Z
UID:10001228-1751689800-1751700600@www.pinetoplakesgolf.com
SUMMARY:Music In The Pines
DESCRIPTION:Free concert open to the Public – Adult beverages and soft drinks available for purchase\, food trucks also available \nLine Dancing Lessons 3:30-4:30pm in Members Room
URL:https://www.pinetoplakesgolf.com/event/music-in-the-pines/2025-07-05/
END:VEVENT
BEGIN:VEVENT
DTSTART;TZID=UTC:20250705T080000
DTEND;TZID=UTC:20250705T090000
DTSTAMP:20260422T062318
CREATED:20241002T211416Z
LAST-MODIFIED:20250620T142316Z
UID:10000915-1751702400-1751706000@www.pinetoplakesgolf.com
SUMMARY:Member Yoga
DESCRIPTION:Yoga del Ray in the Member Room\nInstructor: Jeep Ray
URL:https://www.pinetoplakesgolf.com/event/member-yoga-7/2025-07-05/
END:VEVENT
BEGIN:VEVENT
DTSTART;TZID=America/Phoenix:20250705T153000
DTEND;TZID=America/Phoenix:20250705T163000
DTSTAMP:20260422T062318
CREATED:20250702T143828Z
LAST-MODIFIED:20250702T143828Z
UID:10001233-1751729400-1751733000@www.pinetoplakesgolf.com
SUMMARY:MITP Line Dance Lesson
DESCRIPTION:Come an hour before Music In The Pines and learn to Line Dance!
URL:https://www.pinetoplakesgolf.com/event/mitp-line-dance-lesson/2025-07-05/
END:VEVENT
END:VCALENDAR