BEGIN:VCALENDAR
VERSION:2.0
PRODID:-//Pinetop Lakes Golf and Country Club - ECPv6.15.18//NONSGML v1.0//EN
CALSCALE:GREGORIAN
METHOD:PUBLISH
X-WR-CALNAME:Pinetop Lakes Golf and Country Club
X-ORIGINAL-URL:https://www.pinetoplakesgolf.com
X-WR-CALDESC:Events for Pinetop Lakes Golf and Country Club
REFRESH-INTERVAL;VALUE=DURATION:PT1H
X-Robots-Tag:noindex
X-PUBLISHED-TTL:PT1H
BEGIN:VTIMEZONE
TZID:UTC
BEGIN:STANDARD
TZOFFSETFROM:+0000
TZOFFSETTO:+0000
TZNAME:UTC
DTSTART:20230101T000000
END:STANDARD
END:VTIMEZONE
BEGIN:VEVENT
DTSTART;VALUE=DATE:20241026
DTEND;VALUE=DATE:20241027
DTSTAMP:20260423T032230
CREATED:20240419T004719Z
LAST-MODIFIED:20241004T024850Z
UID:10000227-1729900800-1729987199@www.pinetoplakesgolf.com
SUMMARY:Golf Course Closes For The Season
DESCRIPTION:Final day of golf open to the public
URL:https://www.pinetoplakesgolf.com/event/golf-course-closes-to-the-public/
END:VEVENT
END:VCALENDAR