BEGIN:VCALENDAR
VERSION:2.0
PRODID:-//Pinetop Lakes Golf and Country Club - ECPv6.15.18//NONSGML v1.0//EN
CALSCALE:GREGORIAN
METHOD:PUBLISH
X-WR-CALNAME:Pinetop Lakes Golf and Country Club
X-ORIGINAL-URL:https://www.pinetoplakesgolf.com
X-WR-CALDESC:Events for Pinetop Lakes Golf and Country Club
REFRESH-INTERVAL;VALUE=DURATION:PT1H
X-Robots-Tag:noindex
X-PUBLISHED-TTL:PT1H
BEGIN:VTIMEZONE
TZID:UTC
BEGIN:STANDARD
TZOFFSETFROM:+0000
TZOFFSETTO:+0000
TZNAME:UTC
DTSTART:20230101T000000
END:STANDARD
END:VTIMEZONE
BEGIN:VEVENT
DTSTART;TZID=UTC:20241021T080000
DTEND;TZID=UTC:20241021T080000
DTSTAMP:20260423T005512
CREATED:20240419T004201Z
LAST-MODIFIED:20240427T004152Z
UID:10000223-1729497600-1729497600@www.pinetoplakesgolf.com
SUMMARY:Board Meeting Members Room
DESCRIPTION:
URL:https://www.pinetoplakesgolf.com/event/board-meeting-members-room-7/
END:VEVENT
BEGIN:VEVENT
DTSTART;TZID=UTC:20241021T090000
DTEND;TZID=UTC:20241021T090000
DTSTAMP:20260423T005512
CREATED:20240419T004237Z
LAST-MODIFIED:20240427T004215Z
UID:10000224-1729501200-1729501200@www.pinetoplakesgolf.com
SUMMARY:Old Strokes
DESCRIPTION:
URL:https://www.pinetoplakesgolf.com/event/old-strokes-49/
END:VEVENT
END:VCALENDAR