BEGIN:VCALENDAR
VERSION:2.0
PRODID:-//Pinetop Lakes Golf and Country Club - ECPv6.15.18//NONSGML v1.0//EN
CALSCALE:GREGORIAN
METHOD:PUBLISH
X-ORIGINAL-URL:https://www.pinetoplakesgolf.com
X-WR-CALDESC:Events for Pinetop Lakes Golf and Country Club
REFRESH-INTERVAL;VALUE=DURATION:PT1H
X-Robots-Tag:noindex
X-PUBLISHED-TTL:PT1H
BEGIN:VTIMEZONE
TZID:UTC
BEGIN:STANDARD
TZOFFSETFROM:+0000
TZOFFSETTO:+0000
TZNAME:UTC
DTSTART:20230101T000000
END:STANDARD
END:VTIMEZONE
BEGIN:VEVENT
DTSTART;TZID=UTC:20240930T090000
DTEND;TZID=UTC:20240930T090000
DTSTAMP:20260423T032352
CREATED:20240419T003729Z
LAST-MODIFIED:20240427T002546Z
UID:10000214-1727686800-1727686800@www.pinetoplakesgolf.com
SUMMARY:Old Strokes
DESCRIPTION:
URL:https://www.pinetoplakesgolf.com/event/old-strokes-43/
END:VEVENT
BEGIN:VEVENT
DTSTART;TZID=UTC:20240930T140000
DTEND;TZID=UTC:20240930T140000
DTSTAMP:20260423T032352
CREATED:20240507T234801Z
LAST-MODIFIED:20241002T212951Z
UID:10000258-1727704800-1727704800@www.pinetoplakesgolf.com
SUMMARY:150 League
DESCRIPTION:
URL:https://www.pinetoplakesgolf.com/event/150-league/2024-09-30/
END:VEVENT
END:VCALENDAR