BEGIN:VCALENDAR
VERSION:2.0
PRODID:-//Pinetop Lakes Golf and Country Club - ECPv6.15.18//NONSGML v1.0//EN
CALSCALE:GREGORIAN
METHOD:PUBLISH
X-WR-CALNAME:Pinetop Lakes Golf and Country Club
X-ORIGINAL-URL:https://www.pinetoplakesgolf.com
X-WR-CALDESC:Events for Pinetop Lakes Golf and Country Club
REFRESH-INTERVAL;VALUE=DURATION:PT1H
X-Robots-Tag:noindex
X-PUBLISHED-TTL:PT1H
BEGIN:VTIMEZONE
TZID:UTC
BEGIN:STANDARD
TZOFFSETFROM:+0000
TZOFFSETTO:+0000
TZNAME:UTC
DTSTART:20230101T000000
END:STANDARD
END:VTIMEZONE
BEGIN:VEVENT
DTSTART;TZID=UTC:20240926T080000
DTEND;TZID=UTC:20240926T090000
DTSTAMP:20260421T144147
CREATED:20240509T025946Z
LAST-MODIFIED:20241002T213125Z
UID:10000541-1727337600-1727341200@www.pinetoplakesgolf.com
SUMMARY:Member Yoga
DESCRIPTION:
URL:https://www.pinetoplakesgolf.com/event/member-yoga-2/2024-09-26/
END:VEVENT
BEGIN:VEVENT
DTSTART;TZID=UTC:20240926T083000
DTEND;TZID=UTC:20240926T083000
DTSTAMP:20260421T144147
CREATED:20240419T003411Z
LAST-MODIFIED:20240427T002331Z
UID:10000210-1727339400-1727339400@www.pinetoplakesgolf.com
SUMMARY:Men's 18-Hole
DESCRIPTION:
URL:https://www.pinetoplakesgolf.com/event/mens-18-hole-21/
END:VEVENT
BEGIN:VEVENT
DTSTART;TZID=UTC:20240926T130000
DTEND;TZID=UTC:20240926T130000
DTSTAMP:20260421T144147
CREATED:20240419T003600Z
LAST-MODIFIED:20240427T002409Z
UID:10000211-1727355600-1727355600@www.pinetoplakesgolf.com
SUMMARY:Men's Club Hole-in-One Party
DESCRIPTION:
URL:https://www.pinetoplakesgolf.com/event/mens-club-hole-in-one-party/
END:VEVENT
END:VCALENDAR