BEGIN:VCALENDAR
VERSION:2.0
PRODID:-//Pinetop Lakes Golf and Country Club - ECPv6.15.18//NONSGML v1.0//EN
CALSCALE:GREGORIAN
METHOD:PUBLISH
X-WR-CALNAME:Pinetop Lakes Golf and Country Club
X-ORIGINAL-URL:https://www.pinetoplakesgolf.com
X-WR-CALDESC:Events for Pinetop Lakes Golf and Country Club
REFRESH-INTERVAL;VALUE=DURATION:PT1H
X-Robots-Tag:noindex
X-PUBLISHED-TTL:PT1H
BEGIN:VTIMEZONE
TZID:UTC
BEGIN:STANDARD
TZOFFSETFROM:+0000
TZOFFSETTO:+0000
TZNAME:UTC
DTSTART:20230101T000000
END:STANDARD
END:VTIMEZONE
BEGIN:VEVENT
DTSTART;TZID=UTC:20240923T090000
DTEND;TZID=UTC:20240923T090000
DTSTAMP:20260421T181839
CREATED:20240419T003231Z
LAST-MODIFIED:20240427T002211Z
UID:10000208-1727082000-1727082000@www.pinetoplakesgolf.com
SUMMARY:Old Strokes
DESCRIPTION:
URL:https://www.pinetoplakesgolf.com/event/old-strokes-41/
END:VEVENT
BEGIN:VEVENT
DTSTART;TZID=UTC:20240923T140000
DTEND;TZID=UTC:20240923T140000
DTSTAMP:20260421T181839
CREATED:20240507T234801Z
LAST-MODIFIED:20241002T212951Z
UID:10000257-1727100000-1727100000@www.pinetoplakesgolf.com
SUMMARY:150 League
DESCRIPTION:
URL:https://www.pinetoplakesgolf.com/event/150-league/2024-09-23/
END:VEVENT
BEGIN:VEVENT
DTSTART;TZID=UTC:20240923T183000
DTEND;TZID=UTC:20240923T183000
DTSTAMP:20260421T181839
CREATED:20240524T000403Z
LAST-MODIFIED:20240831T050508Z
UID:10000329-1727116200-1727116200@www.pinetoplakesgolf.com
SUMMARY:Bingo
DESCRIPTION:
URL:https://www.pinetoplakesgolf.com/event/bingo-4/2024-09-23/
END:VEVENT
END:VCALENDAR