BEGIN:VCALENDAR
VERSION:2.0
PRODID:-//Pinetop Lakes Golf and Country Club - ECPv6.15.18//NONSGML v1.0//EN
CALSCALE:GREGORIAN
METHOD:PUBLISH
X-ORIGINAL-URL:https://www.pinetoplakesgolf.com
X-WR-CALDESC:Events for Pinetop Lakes Golf and Country Club
REFRESH-INTERVAL;VALUE=DURATION:PT1H
X-Robots-Tag:noindex
X-PUBLISHED-TTL:PT1H
BEGIN:VTIMEZONE
TZID:UTC
BEGIN:STANDARD
TZOFFSETFROM:+0000
TZOFFSETTO:+0000
TZNAME:UTC
DTSTART:20230101T000000
END:STANDARD
END:VTIMEZONE
BEGIN:VEVENT
DTSTART;TZID=UTC:20240915T083000
DTEND;TZID=UTC:20240915T083000
DTSTAMP:20260423T085613
CREATED:20240514T230615Z
LAST-MODIFIED:20240514T230615Z
UID:10000595-1726389000-1726389000@www.pinetoplakesgolf.com
SUMMARY:Club Championship Final Round
DESCRIPTION:
URL:https://www.pinetoplakesgolf.com/event/club-championship-final-round/
END:VEVENT
BEGIN:VEVENT
DTSTART;TZID=UTC:20240915T130000
DTEND;TZID=UTC:20240915T130000
DTSTAMP:20260423T085613
CREATED:20240514T230648Z
LAST-MODIFIED:20240514T230648Z
UID:10000596-1726405200-1726405200@www.pinetoplakesgolf.com
SUMMARY:Club Championship Luncheon
DESCRIPTION:
URL:https://www.pinetoplakesgolf.com/event/club-championship-luncheon/
END:VEVENT
END:VCALENDAR