BEGIN:VCALENDAR
VERSION:2.0
PRODID:-//Pinetop Lakes Golf and Country Club - ECPv6.15.18//NONSGML v1.0//EN
CALSCALE:GREGORIAN
METHOD:PUBLISH
X-ORIGINAL-URL:https://www.pinetoplakesgolf.com
X-WR-CALDESC:Events for Pinetop Lakes Golf and Country Club
REFRESH-INTERVAL;VALUE=DURATION:PT1H
X-Robots-Tag:noindex
X-PUBLISHED-TTL:PT1H
BEGIN:VTIMEZONE
TZID:UTC
BEGIN:STANDARD
TZOFFSETFROM:+0000
TZOFFSETTO:+0000
TZNAME:UTC
DTSTART:20230101T000000
END:STANDARD
END:VTIMEZONE
BEGIN:VEVENT
DTSTART;TZID=UTC:20240913T083000
DTEND;TZID=UTC:20240913T083000
DTSTAMP:20260423T085618
CREATED:20240419T002252Z
LAST-MODIFIED:20240427T001650Z
UID:10000197-1726216200-1726216200@www.pinetoplakesgolf.com
SUMMARY:Club Championship
DESCRIPTION:
URL:https://www.pinetoplakesgolf.com/event/830-club-championship/
END:VEVENT
END:VCALENDAR