BEGIN:VCALENDAR
VERSION:2.0
PRODID:-//Pinetop Lakes Golf and Country Club - ECPv6.15.18//NONSGML v1.0//EN
CALSCALE:GREGORIAN
METHOD:PUBLISH
X-WR-CALNAME:Pinetop Lakes Golf and Country Club
X-ORIGINAL-URL:https://www.pinetoplakesgolf.com
X-WR-CALDESC:Events for Pinetop Lakes Golf and Country Club
REFRESH-INTERVAL;VALUE=DURATION:PT1H
X-Robots-Tag:noindex
X-PUBLISHED-TTL:PT1H
BEGIN:VTIMEZONE
TZID:UTC
BEGIN:STANDARD
TZOFFSETFROM:+0000
TZOFFSETTO:+0000
TZNAME:UTC
DTSTART:20230101T000000
END:STANDARD
END:VTIMEZONE
BEGIN:VEVENT
DTSTART;TZID=UTC:20240830T080000
DTEND;TZID=UTC:20240830T170000
DTSTAMP:20260423T115939
CREATED:20240831T050611Z
LAST-MODIFIED:20240831T050611Z
UID:10000692-1725004800-1725037200@www.pinetoplakesgolf.com
SUMMARY:NO Bingo
DESCRIPTION:Labor Day
URL:https://www.pinetoplakesgolf.com/event/no-bingo/
END:VEVENT
BEGIN:VEVENT
DTSTART;TZID=UTC:20240830T090000
DTEND;TZID=UTC:20240830T090000
DTSTAMP:20260423T115939
CREATED:20240419T001216Z
LAST-MODIFIED:20240427T000338Z
UID:10000179-1725008400-1725008400@www.pinetoplakesgolf.com
SUMMARY:Old Strokes
DESCRIPTION:
URL:https://www.pinetoplakesgolf.com/event/old-strokes-35/
END:VEVENT
BEGIN:VEVENT
DTSTART;TZID=UTC:20240830T094500
DTEND;TZID=UTC:20240830T094500
DTSTAMP:20260423T115939
CREATED:20240419T001248Z
LAST-MODIFIED:20240427T000412Z
UID:10000180-1725011100-1725011100@www.pinetoplakesgolf.com
SUMMARY:One Putters
DESCRIPTION:
URL:https://www.pinetoplakesgolf.com/event/one-putters-19/
END:VEVENT
END:VCALENDAR