BEGIN:VCALENDAR
VERSION:2.0
PRODID:-//Pinetop Lakes Golf and Country Club - ECPv6.15.18//NONSGML v1.0//EN
CALSCALE:GREGORIAN
METHOD:PUBLISH
X-ORIGINAL-URL:https://www.pinetoplakesgolf.com
X-WR-CALDESC:Events for Pinetop Lakes Golf and Country Club
REFRESH-INTERVAL;VALUE=DURATION:PT1H
X-Robots-Tag:noindex
X-PUBLISHED-TTL:PT1H
BEGIN:VTIMEZONE
TZID:UTC
BEGIN:STANDARD
TZOFFSETFROM:+0000
TZOFFSETTO:+0000
TZNAME:UTC
DTSTART:20230101T000000
END:STANDARD
END:VTIMEZONE
BEGIN:VEVENT
DTSTART;TZID=UTC:20240827T080000
DTEND;TZID=UTC:20240827T080000
DTSTAMP:20260423T120146
CREATED:20240419T000703Z
LAST-MODIFIED:20240427T000045Z
UID:10000173-1724745600-1724745600@www.pinetoplakesgolf.com
SUMMARY:Men's 9-Hole
DESCRIPTION:
URL:https://www.pinetoplakesgolf.com/event/mens-9-hole-18/
END:VEVENT
BEGIN:VEVENT
DTSTART;TZID=UTC:20240827T080000
DTEND;TZID=UTC:20240827T090000
DTSTAMP:20260423T120146
CREATED:20240524T002807Z
LAST-MODIFIED:20241002T213731Z
UID:10000465-1724745600-1724749200@www.pinetoplakesgolf.com
SUMMARY:Member Yoga
DESCRIPTION:
URL:https://www.pinetoplakesgolf.com/event/member-yoga-4/2024-08-27/
END:VEVENT
BEGIN:VEVENT
DTSTART;TZID=UTC:20240827T090000
DTEND;TZID=UTC:20240827T090000
DTSTAMP:20260423T120146
CREATED:20240419T000732Z
LAST-MODIFIED:20240717T010948Z
UID:10000174-1724749200-1724749200@www.pinetoplakesgolf.com
SUMMARY:Women's 9-Hole League
DESCRIPTION:
URL:https://www.pinetoplakesgolf.com/event/womens-9-hole-league-15/
END:VEVENT
BEGIN:VEVENT
DTSTART;TZID=UTC:20240827T130000
DTEND;TZID=UTC:20240827T160000
DTSTAMP:20260423T120146
CREATED:20240617T234323Z
LAST-MODIFIED:20241002T213440Z
UID:10000621-1724763600-1724774400@www.pinetoplakesgolf.com
SUMMARY:Bridge in Barclay's @ Pinetop Lakes
DESCRIPTION:
URL:https://www.pinetoplakesgolf.com/event/bridge-in-barclays-pinetop-lakes/2024-08-27/
END:VEVENT
BEGIN:VEVENT
DTSTART;TZID=UTC:20240827T140000
DTEND;TZID=UTC:20240827T140000
DTSTAMP:20260423T120146
CREATED:20240419T000816Z
LAST-MODIFIED:20240427T000138Z
UID:10000175-1724767200-1724767200@www.pinetoplakesgolf.com
SUMMARY:Swing and Swig
DESCRIPTION:
URL:https://www.pinetoplakesgolf.com/event/swing-and-swig-16/
END:VEVENT
END:VCALENDAR