BEGIN:VCALENDAR
VERSION:2.0
PRODID:-//Pinetop Lakes Golf and Country Club - ECPv6.15.18//NONSGML v1.0//EN
CALSCALE:GREGORIAN
METHOD:PUBLISH
X-ORIGINAL-URL:https://www.pinetoplakesgolf.com
X-WR-CALDESC:Events for Pinetop Lakes Golf and Country Club
REFRESH-INTERVAL;VALUE=DURATION:PT1H
X-Robots-Tag:noindex
X-PUBLISHED-TTL:PT1H
BEGIN:VTIMEZONE
TZID:UTC
BEGIN:STANDARD
TZOFFSETFROM:+0000
TZOFFSETTO:+0000
TZNAME:UTC
DTSTART:20230101T000000
END:STANDARD
END:VTIMEZONE
BEGIN:VEVENT
DTSTART;TZID=UTC:20240824T110000
DTEND;TZID=UTC:20240824T140000
DTSTAMP:20260423T120138
CREATED:20240617T232700Z
LAST-MODIFIED:20240808T221141Z
UID:10000607-1724497200-1724508000@www.pinetoplakesgolf.com
SUMMARY:Member Game Day - Cornhole Tournament
DESCRIPTION:
URL:https://www.pinetoplakesgolf.com/event/member-game-night-cornhole-tournament/
END:VEVENT
END:VCALENDAR