BEGIN:VCALENDAR
VERSION:2.0
PRODID:-//Pinetop Lakes Golf and Country Club - ECPv6.15.18//NONSGML v1.0//EN
CALSCALE:GREGORIAN
METHOD:PUBLISH
X-WR-CALNAME:Pinetop Lakes Golf and Country Club
X-ORIGINAL-URL:https://www.pinetoplakesgolf.com
X-WR-CALDESC:Events for Pinetop Lakes Golf and Country Club
REFRESH-INTERVAL;VALUE=DURATION:PT1H
X-Robots-Tag:noindex
X-PUBLISHED-TTL:PT1H
BEGIN:VTIMEZONE
TZID:UTC
BEGIN:STANDARD
TZOFFSETFROM:+0000
TZOFFSETTO:+0000
TZNAME:UTC
DTSTART:20230101T000000
END:STANDARD
END:VTIMEZONE
BEGIN:VEVENT
DTSTART;TZID=UTC:20240806T080000
DTEND;TZID=UTC:20240806T080000
DTSTAMP:20260423T115938
CREATED:20240418T223958Z
LAST-MODIFIED:20240426T234348Z
UID:10000142-1722931200-1722931200@www.pinetoplakesgolf.com
SUMMARY:Men's 9-Hole
DESCRIPTION:
URL:https://www.pinetoplakesgolf.com/event/mens-9-hole-15/
END:VEVENT
BEGIN:VEVENT
DTSTART;TZID=UTC:20240806T080000
DTEND;TZID=UTC:20240806T090000
DTSTAMP:20260423T115938
CREATED:20240524T002807Z
LAST-MODIFIED:20241002T213731Z
UID:10000462-1722931200-1722934800@www.pinetoplakesgolf.com
SUMMARY:Member Yoga
DESCRIPTION:
URL:https://www.pinetoplakesgolf.com/event/member-yoga-4/2024-08-06/
END:VEVENT
BEGIN:VEVENT
DTSTART;TZID=UTC:20240806T090000
DTEND;TZID=UTC:20240806T090000
DTSTAMP:20260423T115938
CREATED:20240418T224026Z
LAST-MODIFIED:20240717T010810Z
UID:10000143-1722934800-1722934800@www.pinetoplakesgolf.com
SUMMARY:Women's 9-Hole League
DESCRIPTION:
URL:https://www.pinetoplakesgolf.com/event/womens-9-hole-league-12/
END:VEVENT
BEGIN:VEVENT
DTSTART;TZID=UTC:20240806T130000
DTEND;TZID=UTC:20240806T160000
DTSTAMP:20260423T115938
CREATED:20240617T234323Z
LAST-MODIFIED:20241002T213440Z
UID:10000618-1722949200-1722960000@www.pinetoplakesgolf.com
SUMMARY:Bridge in Barclay's @ Pinetop Lakes
DESCRIPTION:
URL:https://www.pinetoplakesgolf.com/event/bridge-in-barclays-pinetop-lakes/2024-08-06/
END:VEVENT
BEGIN:VEVENT
DTSTART;TZID=UTC:20240806T140000
DTEND;TZID=UTC:20240806T140000
DTSTAMP:20260423T115938
CREATED:20240418T225610Z
LAST-MODIFIED:20240426T234451Z
UID:10000144-1722952800-1722952800@www.pinetoplakesgolf.com
SUMMARY:Swing and Swig
DESCRIPTION:
URL:https://www.pinetoplakesgolf.com/event/swing-and-swig-13/
END:VEVENT
END:VCALENDAR