BEGIN:VCALENDAR
VERSION:2.0
PRODID:-//Pinetop Lakes Golf and Country Club - ECPv6.15.18//NONSGML v1.0//EN
CALSCALE:GREGORIAN
METHOD:PUBLISH
X-ORIGINAL-URL:https://www.pinetoplakesgolf.com
X-WR-CALDESC:Events for Pinetop Lakes Golf and Country Club
REFRESH-INTERVAL;VALUE=DURATION:PT1H
X-Robots-Tag:noindex
X-PUBLISHED-TTL:PT1H
BEGIN:VTIMEZONE
TZID:UTC
BEGIN:STANDARD
TZOFFSETFROM:+0000
TZOFFSETTO:+0000
TZNAME:UTC
DTSTART:20230101T000000
END:STANDARD
END:VTIMEZONE
BEGIN:VEVENT
DTSTART;TZID=UTC:20240731T083000
DTEND;TZID=UTC:20240731T083000
DTSTAMP:20260423T110132
CREATED:20240418T223250Z
LAST-MODIFIED:20240426T223804Z
UID:10000132-1722414600-1722414600@www.pinetoplakesgolf.com
SUMMARY:Women's 18-Hole League
DESCRIPTION:
URL:https://www.pinetoplakesgolf.com/event/womens-18-hole-league-11/
END:VEVENT
BEGIN:VEVENT
DTSTART;TZID=UTC:20240731T130000
DTEND;TZID=UTC:20240731T130000
DTSTAMP:20260423T110132
CREATED:20240418T223335Z
LAST-MODIFIED:20240426T223844Z
UID:10000133-1722430800-1722430800@www.pinetoplakesgolf.com
SUMMARY:Women's Golf Association Meeting
DESCRIPTION:
URL:https://www.pinetoplakesgolf.com/event/1-pm-womens-golf-association-meeting/
ATTACH;FMTTYPE=image/jpeg:https://www.pinetoplakesgolf.com/wp-content/uploads/sites/8955/2024/04/img_golf_1x_5b652e.jpg
END:VEVENT
BEGIN:VEVENT
DTSTART;TZID=UTC:20240731T153000
DTEND;TZID=UTC:20240731T163000
DTSTAMP:20260423T110132
CREATED:20240720T052831Z
LAST-MODIFIED:20240720T052831Z
UID:10000689-1722439800-1722443400@www.pinetoplakesgolf.com
SUMMARY:MITP Line Dancing
DESCRIPTION:Free line dancing before Music In The Pines
URL:https://www.pinetoplakesgolf.com/event/mitp-line-dancing/2024-07-31/
END:VEVENT
BEGIN:VEVENT
DTSTART;TZID=UTC:20240731T163000
DTEND;TZID=UTC:20240731T193000
DTSTAMP:20260423T110132
CREATED:20240418T223423Z
LAST-MODIFIED:20240606T062713Z
UID:10000134-1722443400-1722454200@www.pinetoplakesgolf.com
SUMMARY:Music in the Pines (KT Klassics)
DESCRIPTION:
URL:https://www.pinetoplakesgolf.com/event/music-in-the-pines-kt-klassics-2/
END:VEVENT
END:VCALENDAR