BEGIN:VCALENDAR
VERSION:2.0
PRODID:-//Pinetop Lakes Golf and Country Club - ECPv6.15.18//NONSGML v1.0//EN
CALSCALE:GREGORIAN
METHOD:PUBLISH
X-ORIGINAL-URL:https://www.pinetoplakesgolf.com
X-WR-CALDESC:Events for Pinetop Lakes Golf and Country Club
REFRESH-INTERVAL;VALUE=DURATION:PT1H
X-Robots-Tag:noindex
X-PUBLISHED-TTL:PT1H
BEGIN:VTIMEZONE
TZID:UTC
BEGIN:STANDARD
TZOFFSETFROM:+0000
TZOFFSETTO:+0000
TZNAME:UTC
DTSTART:20230101T000000
END:STANDARD
END:VTIMEZONE
BEGIN:VEVENT
DTSTART;TZID=UTC:20240706T080000
DTEND;TZID=UTC:20240706T080000
DTSTAMP:20260423T120139
CREATED:20240507T233023Z
LAST-MODIFIED:20240507T233513Z
UID:10000233-1720252800-1720252800@www.pinetoplakesgolf.com
SUMMARY:Liar's Tournament
DESCRIPTION:
URL:https://www.pinetoplakesgolf.com/event/liars-tournament-2/
END:VEVENT
BEGIN:VEVENT
DTSTART;TZID=UTC:20240706T080000
DTEND;TZID=UTC:20240706T120000
DTSTAMP:20260423T120139
CREATED:20240422T204617Z
LAST-MODIFIED:20240422T204810Z
UID:10000230-1720252800-1720267200@www.pinetoplakesgolf.com
SUMMARY:Liar's Tournament
DESCRIPTION:8am Shotgun start
URL:https://www.pinetoplakesgolf.com/event/liars-tournament/
END:VEVENT
BEGIN:VEVENT
DTSTART;TZID=UTC:20240706T163000
DTEND;TZID=UTC:20240706T193000
DTSTAMP:20260423T120139
CREATED:20240418T215525Z
LAST-MODIFIED:20240606T062602Z
UID:10000096-1720283400-1720294200@www.pinetoplakesgolf.com
SUMMARY:Music in the Pines (108th Army Band)
DESCRIPTION:
URL:https://www.pinetoplakesgolf.com/event/music-in-the-pines-armour-2/
END:VEVENT
END:VCALENDAR