BEGIN:VCALENDAR
VERSION:2.0
PRODID:-//Pinetop Lakes Golf and Country Club - ECPv6.15.18//NONSGML v1.0//EN
CALSCALE:GREGORIAN
METHOD:PUBLISH
X-WR-CALNAME:Pinetop Lakes Golf and Country Club
X-ORIGINAL-URL:https://www.pinetoplakesgolf.com
X-WR-CALDESC:Events for Pinetop Lakes Golf and Country Club
REFRESH-INTERVAL;VALUE=DURATION:PT1H
X-Robots-Tag:noindex
X-PUBLISHED-TTL:PT1H
BEGIN:VTIMEZONE
TZID:UTC
BEGIN:STANDARD
TZOFFSETFROM:+0000
TZOFFSETTO:+0000
TZNAME:UTC
DTSTART:20230101T000000
END:STANDARD
END:VTIMEZONE
BEGIN:VEVENT
DTSTART;TZID=UTC:20240627T080000
DTEND;TZID=UTC:20240627T080000
DTSTAMP:20260423T120019
CREATED:20240418T214807Z
LAST-MODIFIED:20240426T215420Z
UID:10000084-1719475200-1719475200@www.pinetoplakesgolf.com
SUMMARY:Men's 18-Hole
DESCRIPTION:
URL:https://www.pinetoplakesgolf.com/event/mens-18-hole-10/
END:VEVENT
BEGIN:VEVENT
DTSTART;TZID=UTC:20240627T080000
DTEND;TZID=UTC:20240627T090000
DTSTAMP:20260423T120019
CREATED:20240509T025946Z
LAST-MODIFIED:20241002T213125Z
UID:10000528-1719475200-1719478800@www.pinetoplakesgolf.com
SUMMARY:Member Yoga
DESCRIPTION:
URL:https://www.pinetoplakesgolf.com/event/member-yoga-2/2024-06-27/
END:VEVENT
BEGIN:VEVENT
DTSTART;TZID=UTC:20240627T123000
DTEND;TZID=UTC:20240627T123000
DTSTAMP:20260423T120020
CREATED:20240418T214834Z
LAST-MODIFIED:20240426T215452Z
UID:10000085-1719491400-1719491400@www.pinetoplakesgolf.com
SUMMARY:Men's Club Meeting
DESCRIPTION:
URL:https://www.pinetoplakesgolf.com/event/mens-club-meeting/
END:VEVENT
BEGIN:VEVENT
DTSTART;TZID=UTC:20240627T140000
DTEND;TZID=UTC:20240627T140000
DTSTAMP:20260423T120020
CREATED:20240621T040533Z
LAST-MODIFIED:20240626T232652Z
UID:10000386-1719496800-1719496800@www.pinetoplakesgolf.com
SUMMARY:Bingo
DESCRIPTION:
URL:https://www.pinetoplakesgolf.com/event/bingo-2-2/2024-06-27/
END:VEVENT
END:VCALENDAR