BEGIN:VCALENDAR
VERSION:2.0
PRODID:-//Pinetop Lakes Golf and Country Club - ECPv6.15.18//NONSGML v1.0//EN
CALSCALE:GREGORIAN
METHOD:PUBLISH
X-WR-CALNAME:Pinetop Lakes Golf and Country Club
X-ORIGINAL-URL:https://www.pinetoplakesgolf.com
X-WR-CALDESC:Events for Pinetop Lakes Golf and Country Club
REFRESH-INTERVAL;VALUE=DURATION:PT1H
X-Robots-Tag:noindex
X-PUBLISHED-TTL:PT1H
BEGIN:VTIMEZONE
TZID:UTC
BEGIN:STANDARD
TZOFFSETFROM:+0000
TZOFFSETTO:+0000
TZNAME:UTC
DTSTART:20230101T000000
END:STANDARD
END:VTIMEZONE
BEGIN:VEVENT
DTSTART;VALUE=DATE:20240625
DTEND;VALUE=DATE:20240627
DTSTAMP:20260423T130230
CREATED:20240418T213348Z
LAST-MODIFIED:20240418T213348Z
UID:10000078-1719273600-1719446399@www.pinetoplakesgolf.com
SUMMARY:Ricki Rarick Junior Golf
DESCRIPTION:
URL:https://www.pinetoplakesgolf.com/event/ricki-rarick-junior-golf/
ATTACH;FMTTYPE=image/jpeg:https://www.pinetoplakesgolf.com/wp-content/uploads/sites/8955/2024/04/img_golf_1x_5b652e.jpg
END:VEVENT
BEGIN:VEVENT
DTSTART;TZID=UTC:20240626T083000
DTEND;TZID=UTC:20240626T083000
DTSTAMP:20260423T130230
CREATED:20240418T214051Z
LAST-MODIFIED:20240426T215317Z
UID:10000082-1719390600-1719390600@www.pinetoplakesgolf.com
SUMMARY:Women's 18-Hole League
DESCRIPTION:
URL:https://www.pinetoplakesgolf.com/event/womens-18-hole-league-6/
END:VEVENT
BEGIN:VEVENT
DTSTART;TZID=UTC:20240626T130000
DTEND;TZID=UTC:20240626T130000
DTSTAMP:20260423T130230
CREATED:20240418T214139Z
LAST-MODIFIED:20240426T215353Z
UID:10000083-1719406800-1719406800@www.pinetoplakesgolf.com
SUMMARY:Women's Golf Association Meeting
DESCRIPTION:
URL:https://www.pinetoplakesgolf.com/event/womens-golf-association-meeting-2/
ATTACH;FMTTYPE=image/jpeg:https://www.pinetoplakesgolf.com/wp-content/uploads/sites/8955/2024/04/img_golf_1x_5b652e.jpg
END:VEVENT
BEGIN:VEVENT
DTSTART;TZID=UTC:20240626T190000
DTEND;TZID=UTC:20240626T210000
DTSTAMP:20260423T130230
CREATED:20240509T025644Z
LAST-MODIFIED:20240617T232256Z
UID:10000450-1719428400-1719435600@www.pinetoplakesgolf.com
SUMMARY:Member Game Night: Majority Rules
DESCRIPTION:
URL:https://www.pinetoplakesgolf.com/event/member-game-night-majority-rules/
END:VEVENT
END:VCALENDAR