BEGIN:VCALENDAR
VERSION:2.0
PRODID:-//Pinetop Lakes Golf and Country Club - ECPv6.15.18//NONSGML v1.0//EN
CALSCALE:GREGORIAN
METHOD:PUBLISH
X-ORIGINAL-URL:https://www.pinetoplakesgolf.com
X-WR-CALDESC:Events for Pinetop Lakes Golf and Country Club
REFRESH-INTERVAL;VALUE=DURATION:PT1H
X-Robots-Tag:noindex
X-PUBLISHED-TTL:PT1H
BEGIN:VTIMEZONE
TZID:UTC
BEGIN:STANDARD
TZOFFSETFROM:+0000
TZOFFSETTO:+0000
TZNAME:UTC
DTSTART:20230101T000000
END:STANDARD
END:VTIMEZONE
BEGIN:VEVENT
DTSTART;TZID=UTC:20240606T080000
DTEND;TZID=UTC:20240606T080000
DTSTAMP:20260423T125804
CREATED:20240418T204907Z
LAST-MODIFIED:20240426T213204Z
UID:10000051-1717660800-1717660800@www.pinetoplakesgolf.com
SUMMARY:Men's 18-Hole
DESCRIPTION:
URL:https://www.pinetoplakesgolf.com/event/mens-18-hole-7/
END:VEVENT
BEGIN:VEVENT
DTSTART;TZID=UTC:20240606T080000
DTEND;TZID=UTC:20240606T090000
DTSTAMP:20260423T125804
CREATED:20240509T025946Z
LAST-MODIFIED:20241002T213125Z
UID:10000525-1717660800-1717664400@www.pinetoplakesgolf.com
SUMMARY:Member Yoga
DESCRIPTION:
URL:https://www.pinetoplakesgolf.com/event/member-yoga-2/2024-06-06/
END:VEVENT
BEGIN:VEVENT
DTSTART;TZID=UTC:20240606T143000
DTEND;TZID=UTC:20240606T143000
DTSTAMP:20260423T125804
CREATED:20240508T002944Z
LAST-MODIFIED:20240508T005700Z
UID:10000383-1717684200-1717684200@www.pinetoplakesgolf.com
SUMMARY:Bingo
DESCRIPTION:
URL:https://www.pinetoplakesgolf.com/event/bingo-2/2024-06-06/
END:VEVENT
END:VCALENDAR