BEGIN:VCALENDAR
VERSION:2.0
PRODID:-//Pinetop Lakes Golf and Country Club - ECPv6.15.18//NONSGML v1.0//EN
CALSCALE:GREGORIAN
METHOD:PUBLISH
X-WR-CALNAME:Pinetop Lakes Golf and Country Club
X-ORIGINAL-URL:https://www.pinetoplakesgolf.com
X-WR-CALDESC:Events for Pinetop Lakes Golf and Country Club
REFRESH-INTERVAL;VALUE=DURATION:PT1H
X-Robots-Tag:noindex
X-PUBLISHED-TTL:PT1H
BEGIN:VTIMEZONE
TZID:UTC
BEGIN:STANDARD
TZOFFSETFROM:+0000
TZOFFSETTO:+0000
TZNAME:UTC
DTSTART:20230101T000000
END:STANDARD
END:VTIMEZONE
BEGIN:VEVENT
DTSTART;TZID=UTC:20240528T083000
DTEND;TZID=UTC:20240528T083000
DTSTAMP:20260423T144007
CREATED:20240418T064535Z
LAST-MODIFIED:20240426T212117Z
UID:10000037-1716885000-1716885000@www.pinetoplakesgolf.com
SUMMARY:Men's 9-Hole
DESCRIPTION:
URL:https://www.pinetoplakesgolf.com/event/mens-9-hole-6/
END:VEVENT
BEGIN:VEVENT
DTSTART;TZID=UTC:20240528T090000
DTEND;TZID=UTC:20240528T090000
DTSTAMP:20260423T144007
CREATED:20240418T064600Z
LAST-MODIFIED:20240426T212150Z
UID:10000038-1716886800-1716886800@www.pinetoplakesgolf.com
SUMMARY:Women's 9-Hole League
DESCRIPTION:
URL:https://www.pinetoplakesgolf.com/event/womens-9-hole-league-3/
END:VEVENT
BEGIN:VEVENT
DTSTART;TZID=UTC:20240528T140000
DTEND;TZID=UTC:20240528T140000
DTSTAMP:20260423T144007
CREATED:20240418T064639Z
LAST-MODIFIED:20240426T212223Z
UID:10000039-1716904800-1716904800@www.pinetoplakesgolf.com
SUMMARY:Swing and Swig
DESCRIPTION:
URL:https://www.pinetoplakesgolf.com/event/swing-and-swig-3/
END:VEVENT
END:VCALENDAR