BEGIN:VCALENDAR
VERSION:2.0
PRODID:-//Pinetop Lakes Golf and Country Club - ECPv6.15.18//NONSGML v1.0//EN
CALSCALE:GREGORIAN
METHOD:PUBLISH
X-ORIGINAL-URL:https://www.pinetoplakesgolf.com
X-WR-CALDESC:Events for Pinetop Lakes Golf and Country Club
REFRESH-INTERVAL;VALUE=DURATION:PT1H
X-Robots-Tag:noindex
X-PUBLISHED-TTL:PT1H
BEGIN:VTIMEZONE
TZID:UTC
BEGIN:STANDARD
TZOFFSETFROM:+0000
TZOFFSETTO:+0000
TZNAME:UTC
DTSTART:20230101T000000
END:STANDARD
END:VTIMEZONE
BEGIN:VEVENT
DTSTART;TZID=UTC:20240527T090000
DTEND;TZID=UTC:20240527T090000
DTSTAMP:20260423T165237
CREATED:20240418T064503Z
LAST-MODIFIED:20240426T212052Z
UID:10000036-1716800400-1716800400@www.pinetoplakesgolf.com
SUMMARY:Old Strokes
DESCRIPTION:
URL:https://www.pinetoplakesgolf.com/event/old-strokes-11/
END:VEVENT
BEGIN:VEVENT
DTSTART;TZID=UTC:20240527T140000
DTEND;TZID=UTC:20240527T140000
DTSTAMP:20260423T165237
CREATED:20240507T234801Z
LAST-MODIFIED:20241002T212951Z
UID:10000240-1716818400-1716818400@www.pinetoplakesgolf.com
SUMMARY:150 League
DESCRIPTION:
URL:https://www.pinetoplakesgolf.com/event/150-league/2024-05-27/
END:VEVENT
BEGIN:VEVENT
DTSTART;TZID=UTC:20240527T180000
DTEND;TZID=UTC:20240527T180000
DTSTAMP:20260423T165237
CREATED:20240520T234542Z
LAST-MODIFIED:20240520T234542Z
UID:10000604-1716832800-1716832800@www.pinetoplakesgolf.com
SUMMARY:NO Bingo - Memorial Day
DESCRIPTION:Bingo will not be held on Memorial Day
URL:https://www.pinetoplakesgolf.com/event/no-bingo-memorial-day/
END:VEVENT
END:VCALENDAR