BEGIN:VCALENDAR
VERSION:2.0
PRODID:-//Pinetop Lakes Golf and Country Club - ECPv6.15.18//NONSGML v1.0//EN
CALSCALE:GREGORIAN
METHOD:PUBLISH
X-ORIGINAL-URL:https://www.pinetoplakesgolf.com
X-WR-CALDESC:Events for Pinetop Lakes Golf and Country Club
REFRESH-INTERVAL;VALUE=DURATION:PT1H
X-Robots-Tag:noindex
X-PUBLISHED-TTL:PT1H
BEGIN:VTIMEZONE
TZID:UTC
BEGIN:STANDARD
TZOFFSETFROM:+0000
TZOFFSETTO:+0000
TZNAME:UTC
DTSTART:20230101T000000
END:STANDARD
END:VTIMEZONE
BEGIN:VEVENT
DTSTART;TZID=UTC:20240521T080000
DTEND;TZID=UTC:20240521T090000
DTSTAMP:20260423T163025
CREATED:20240509T025857Z
LAST-MODIFIED:20240509T025857Z
UID:10000451-1716278400-1716282000@www.pinetoplakesgolf.com
SUMMARY:Member Yoga
DESCRIPTION:
URL:https://www.pinetoplakesgolf.com/event/member-yoga/
END:VEVENT
BEGIN:VEVENT
DTSTART;TZID=UTC:20240521T083000
DTEND;TZID=UTC:20240521T083000
DTSTAMP:20260423T163025
CREATED:20240418T063428Z
LAST-MODIFIED:20240425T003254Z
UID:10000028-1716280200-1716280200@www.pinetoplakesgolf.com
SUMMARY:Men's 9-Hole
DESCRIPTION:
URL:https://www.pinetoplakesgolf.com/event/mens-9-hole-5/
END:VEVENT
BEGIN:VEVENT
DTSTART;TZID=UTC:20240521T090000
DTEND;TZID=UTC:20240521T090000
DTSTAMP:20260423T163025
CREATED:20240418T063455Z
LAST-MODIFIED:20240425T003328Z
UID:10000029-1716282000-1716282000@www.pinetoplakesgolf.com
SUMMARY:Women's 9-Hole League
DESCRIPTION:
URL:https://www.pinetoplakesgolf.com/event/womens-9-hole-league-2/
END:VEVENT
BEGIN:VEVENT
DTSTART;TZID=UTC:20240521T140000
DTEND;TZID=UTC:20240521T160000
DTSTAMP:20260423T163025
CREATED:20240418T063521Z
LAST-MODIFIED:20240425T003411Z
UID:10000030-1716300000-1716307200@www.pinetoplakesgolf.com
SUMMARY:Swing and Swig
DESCRIPTION:
URL:https://www.pinetoplakesgolf.com/event/swing-and-swig-2/
END:VEVENT
END:VCALENDAR