BEGIN:VCALENDAR
VERSION:2.0
PRODID:-//Pinetop Lakes Golf and Country Club - ECPv6.15.18//NONSGML v1.0//EN
CALSCALE:GREGORIAN
METHOD:PUBLISH
X-WR-CALNAME:Pinetop Lakes Golf and Country Club
X-ORIGINAL-URL:https://www.pinetoplakesgolf.com
X-WR-CALDESC:Events for Pinetop Lakes Golf and Country Club
REFRESH-INTERVAL;VALUE=DURATION:PT1H
X-Robots-Tag:noindex
X-PUBLISHED-TTL:PT1H
BEGIN:VTIMEZONE
TZID:UTC
BEGIN:STANDARD
TZOFFSETFROM:+0000
TZOFFSETTO:+0000
TZNAME:UTC
DTSTART:20230101T000000
END:STANDARD
END:VTIMEZONE
BEGIN:VEVENT
DTSTART;TZID=UTC:20240516T083000
DTEND;TZID=UTC:20240516T083000
DTSTAMP:20260423T153302
CREATED:20240418T063201Z
LAST-MODIFIED:20240425T002945Z
UID:10000023-1715848200-1715848200@www.pinetoplakesgolf.com
SUMMARY:Men's 18-Hole
DESCRIPTION:
URL:https://www.pinetoplakesgolf.com/event/mens-18-hole-4/
END:VEVENT
BEGIN:VEVENT
DTSTART;TZID=UTC:20240516T123000
DTEND;TZID=UTC:20240516T133000
DTSTAMP:20260423T153302
CREATED:20240520T232821Z
LAST-MODIFIED:20240520T232848Z
UID:10000597-1715862600-1715866200@www.pinetoplakesgolf.com
SUMMARY:Men's Club Meeting
DESCRIPTION:Thirsty Thursday
URL:https://www.pinetoplakesgolf.com/event/mens-club-meeting-4/2024-05-16/
END:VEVENT
END:VCALENDAR